BEGIN:VCALENDAR
VERSION:2.0
PRODID:-//Impronta Etica - ECPv6.15.20//NONSGML v1.0//EN
CALSCALE:GREGORIAN
METHOD:PUBLISH
X-WR-CALNAME:Impronta Etica
X-ORIGINAL-URL:https://www.improntaetica.org
X-WR-CALDESC:Eventi per Impronta Etica
REFRESH-INTERVAL;VALUE=DURATION:PT1H
X-Robots-Tag:noindex
X-PUBLISHED-TTL:PT1H
BEGIN:VTIMEZONE
TZID:Europe/Rome
BEGIN:DAYLIGHT
TZOFFSETFROM:+0100
TZOFFSETTO:+0200
TZNAME:CEST
DTSTART:20220327T010000
END:DAYLIGHT
BEGIN:STANDARD
TZOFFSETFROM:+0200
TZOFFSETTO:+0100
TZNAME:CET
DTSTART:20221030T010000
END:STANDARD
BEGIN:DAYLIGHT
TZOFFSETFROM:+0100
TZOFFSETTO:+0200
TZNAME:CEST
DTSTART:20230326T010000
END:DAYLIGHT
BEGIN:STANDARD
TZOFFSETFROM:+0200
TZOFFSETTO:+0100
TZNAME:CET
DTSTART:20231029T010000
END:STANDARD
BEGIN:DAYLIGHT
TZOFFSETFROM:+0100
TZOFFSETTO:+0200
TZNAME:CEST
DTSTART:20240331T010000
END:DAYLIGHT
BEGIN:STANDARD
TZOFFSETFROM:+0200
TZOFFSETTO:+0100
TZNAME:CET
DTSTART:20241027T010000
END:STANDARD
END:VTIMEZONE
BEGIN:VEVENT
DTSTART;TZID=Europe/Rome:20230120T160000
DTEND;TZID=Europe/Rome:20230120T190000
DTSTAMP:20260421T023752
CREATED:20230110T144532Z
LAST-MODIFIED:20230117T112532Z
UID:36147-1674230400-1674241200@www.improntaetica.org
SUMMARY:20/01 | Finanza & Impresa: Obiettivo sostenibilità
DESCRIPTION:L’ evento co-organizzato da Impronta Etica che unisce il mondo della finanza e dell’impresa con l’obiettivo della sostenibilità.\nSi terrà venerdì 20 gennaio dalle ore 16:00 alle ore 19:00 presso il Museo del Patrimonio Industriale di Bologna\, l’evento “Finanza & Impresa: Obiettivo sostenibilità” organizzato da Professione Finanza in collaborazione con Impronta Etica e l’Associazione Amici del Museo del Patrimono Industriale. \n\n\n\n\nIn questo periodo di grandi turbolenze geopolitiche e energetiche\, la sostenibilità rimane l’architrave di un’evoluzione della società che verrà approfondita durante l’evento da più angoli nei suoi aspetti innovativi e economico-finanziari: \n• L’innovazione sostenibile come principio chiave per le imprese che durano nel tempo; \n• Il ruolo e il supporto della finanza ESG (che guarda ai criteri ambientali\, sociali e di governance) per l’economia reale; \n• Come il mercato dei capitali privati può supportare le imprese nelle storiche transizioni in atto – ecologica\, digitale e sociale; \n• Il ruolo della previdenza nella sostenibilità. \nE’ possibile visionare il programma completo dell’evento ed iscriversi al seguente link.
URL:https://www.improntaetica.org/evento/20-01-family-economy-week-dei-territori/
ATTACH;FMTTYPE=image/jpeg:https://www.improntaetica.org/wp-content/uploads/2023/01/few.jpg
END:VEVENT
END:VCALENDAR