BEGIN:VCALENDAR
VERSION:2.0
PRODID:-//Impronta Etica - ECPv6.15.20//NONSGML v1.0//EN
CALSCALE:GREGORIAN
METHOD:PUBLISH
X-WR-CALNAME:Impronta Etica
X-ORIGINAL-URL:https://www.improntaetica.org
X-WR-CALDESC:Eventi per Impronta Etica
REFRESH-INTERVAL;VALUE=DURATION:PT1H
X-Robots-Tag:noindex
X-PUBLISHED-TTL:PT1H
BEGIN:VTIMEZONE
TZID:Europe/Rome
BEGIN:DAYLIGHT
TZOFFSETFROM:+0100
TZOFFSETTO:+0200
TZNAME:CEST
DTSTART:20150329T010000
END:DAYLIGHT
BEGIN:STANDARD
TZOFFSETFROM:+0200
TZOFFSETTO:+0100
TZNAME:CET
DTSTART:20151025T010000
END:STANDARD
BEGIN:DAYLIGHT
TZOFFSETFROM:+0100
TZOFFSETTO:+0200
TZNAME:CEST
DTSTART:20160327T010000
END:DAYLIGHT
BEGIN:STANDARD
TZOFFSETFROM:+0200
TZOFFSETTO:+0100
TZNAME:CET
DTSTART:20161030T010000
END:STANDARD
BEGIN:DAYLIGHT
TZOFFSETFROM:+0100
TZOFFSETTO:+0200
TZNAME:CEST
DTSTART:20170326T010000
END:DAYLIGHT
BEGIN:STANDARD
TZOFFSETFROM:+0200
TZOFFSETTO:+0100
TZNAME:CET
DTSTART:20171029T010000
END:STANDARD
BEGIN:DAYLIGHT
TZOFFSETFROM:+0100
TZOFFSETTO:+0200
TZNAME:CEST
DTSTART:20180325T010000
END:DAYLIGHT
BEGIN:STANDARD
TZOFFSETFROM:+0200
TZOFFSETTO:+0100
TZNAME:CET
DTSTART:20181028T010000
END:STANDARD
BEGIN:DAYLIGHT
TZOFFSETFROM:+0100
TZOFFSETTO:+0200
TZNAME:CEST
DTSTART:20190331T010000
END:DAYLIGHT
BEGIN:STANDARD
TZOFFSETFROM:+0200
TZOFFSETTO:+0100
TZNAME:CET
DTSTART:20191027T010000
END:STANDARD
BEGIN:DAYLIGHT
TZOFFSETFROM:+0100
TZOFFSETTO:+0200
TZNAME:CEST
DTSTART:20200329T010000
END:DAYLIGHT
BEGIN:STANDARD
TZOFFSETFROM:+0200
TZOFFSETTO:+0100
TZNAME:CET
DTSTART:20201025T010000
END:STANDARD
BEGIN:DAYLIGHT
TZOFFSETFROM:+0100
TZOFFSETTO:+0200
TZNAME:CEST
DTSTART:20210328T010000
END:DAYLIGHT
BEGIN:STANDARD
TZOFFSETFROM:+0200
TZOFFSETTO:+0100
TZNAME:CET
DTSTART:20211031T010000
END:STANDARD
BEGIN:DAYLIGHT
TZOFFSETFROM:+0100
TZOFFSETTO:+0200
TZNAME:CEST
DTSTART:20220327T010000
END:DAYLIGHT
BEGIN:STANDARD
TZOFFSETFROM:+0200
TZOFFSETTO:+0100
TZNAME:CET
DTSTART:20221030T010000
END:STANDARD
BEGIN:DAYLIGHT
TZOFFSETFROM:+0100
TZOFFSETTO:+0200
TZNAME:CEST
DTSTART:20230326T010000
END:DAYLIGHT
BEGIN:STANDARD
TZOFFSETFROM:+0200
TZOFFSETTO:+0100
TZNAME:CET
DTSTART:20231029T010000
END:STANDARD
BEGIN:DAYLIGHT
TZOFFSETFROM:+0100
TZOFFSETTO:+0200
TZNAME:CEST
DTSTART:20240331T010000
END:DAYLIGHT
BEGIN:STANDARD
TZOFFSETFROM:+0200
TZOFFSETTO:+0100
TZNAME:CET
DTSTART:20241027T010000
END:STANDARD
BEGIN:DAYLIGHT
TZOFFSETFROM:+0100
TZOFFSETTO:+0200
TZNAME:CEST
DTSTART:20250330T010000
END:DAYLIGHT
BEGIN:STANDARD
TZOFFSETFROM:+0200
TZOFFSETTO:+0100
TZNAME:CET
DTSTART:20251026T010000
END:STANDARD
END:VTIMEZONE
BEGIN:VEVENT
DTSTART;TZID=Europe/Rome:20240626T093000
DTEND;TZID=Europe/Rome:20240627T180000
DTSTAMP:20260421T033307
CREATED:20240613T125029Z
LAST-MODIFIED:20240613T125029Z
UID:39245-1719394200-1719511200@www.improntaetica.org
SUMMARY:26/06 - 27/06 | Research to Business 2024
DESCRIPTION:Un evento internazionale per valorizzare l’innovazione e la ricerca.\nIl 26 e 27 giugno 2024 presso Bologna Fiere\, in Piazza Costituzione 3 a Bologna si svolgerà \,19ª edizione il Salone Internazionale della Ricerca e delle Alte Competenze per l’Innovazione\, evento di rilievo internazionale nell’ambito dell’innovazione. \nDurante R2B 2024 si discuterà di politiche per l’innovazione e valorizzazione dei talenti\, e del ruolo dei partenariati europei nella costruzione di ecosistemi tra territori per favorire la crescita il benessere delle comunità. \nGli appuntamenti di R2B 2024 coinvolgeranno imprese\, istituzioni\,  centri di ricerca e operatori finanziari per discutere le ultime tecnologie e le prossime sfide della ricerca. \nL’evento è promosso dalla Regione Emilia-Romagna e organizzato da ART-ER e BolognaFiere. \nIl programma e maggiori informazioni sono disponibili al seguente link.
URL:https://www.improntaetica.org/evento/26-06-27-06-research-to-business-2024/
ATTACH;FMTTYPE=image/png:https://www.improntaetica.org/wp-content/uploads/2024/06/images.png
END:VEVENT
BEGIN:VEVENT
DTSTART;TZID=Europe/Rome:20221129T150000
DTEND;TZID=Europe/Rome:20221129T180000
DTSTAMP:20260421T033307
CREATED:20221124T091733Z
LAST-MODIFIED:20221130T084756Z
UID:36013-1669734000-1669744800@www.improntaetica.org
SUMMARY:29/11| Il mercato del lavoro e le donne
DESCRIPTION:Donne e lavoro tra divari\, conquiste e parità. \nSi terrà in presenza martedì 29 novembre dalle 15.00 alle 18.00 nella Sala Farnese di Palazzo d’Accursio (Piazza Maggiore 6\, Bologna) l’evento dal titolo “Il mercato del lavoro e le donne: divari\, conquiste e parità.” \nL’evento è organizzato da: Assemblea Legislativa Regione Emilia-Romagna\, Unione delle Province d’Italia Emilia-Romagna\, Pandora Rivista In collaborazione con: Piano per l’Uguaglianza della Città Metropolitano di Bologna. \nIl programma:\nSaluti di benvenuto:\nMatteo Lepore – Emma Petitti – Andrea Massari\nRelatori:\nTindara Addabbo – Professoressa ordinaria di politica economica\, Università di Modena e Reggio Emilia\nMarcella Corsi – Professoressa ordinaria di economia politica\, Università “la Sapienza” di Roma\nSimona Lembi – Staff Gabinetto del Sindaco\, Città metropolitana di Bologna \nPatrizia Luongo – Economista e ricercatrice\, Forum Disuguaglianze e Diversità\nNatalia Montinari – Professoressa associata di economia politica\, Università di Bologna\nRoberto Rizza – Professore ordinario di sociologia dei processi economici e del lavoro\, Università di Bologna\nAlessandro Rosina – Professore ordinario di demografia\, Università Cattolica di Milano \nLaura Sartori – Professoressa associata di sociologia\, Università di Bologna \nConclusioni: \nBarbara Lori – Assessore pari opportunità\, Regione Emilia-Romagna \nMaggiori informazioni sono disponibili al seguente link. \nLa diretta dell’evento sarà trasmessa al seguente link. \n  \n  \n 
URL:https://www.improntaetica.org/evento/29-11-il-mercato-del-lavoro-e-le-donne/
ATTACH;FMTTYPE=image/jpeg:https://www.improntaetica.org/wp-content/uploads/2022/11/mix.jpg
END:VEVENT
BEGIN:VEVENT
DTSTART;TZID=Europe/Rome:20221116T103000
DTEND;TZID=Europe/Rome:20221116T130000
DTSTAMP:20260421T033307
CREATED:20221114T102114Z
LAST-MODIFIED:20221114T102114Z
UID:35917-1668594600-1668603600@www.improntaetica.org
SUMMARY:16/11 | Demografia e impatto sul lavoro e l’economia in Emilia-Romagna
DESCRIPTION:Le implicazioni dell’attuale evoluzione demografica in regione.\nIn un periodo difficile a livello economico e sociale\, la Regione Emilia-Romagna ha voluto approfondire l’impatto dell’attuale evoluzione demografica in regione sul sistema produttivo e sui percorsi lavorativi e di vita delle nuove generazioni. \nL’incontro si terrà il 16 Novembre a Bologna in Salaborsa\, Auditorium Enzo Biagi dalle 10:30 alle 13:00. Parteciperà anche l’Istituto Cattaneo\, che presenterà il rapporto conclusivo della ricerca “Lavoro\, demografia e società in Emilia-Romagna”. Le conoscenze prodotte saranno una solida base per la programmazione degli interventi che saranno attuati in Emilia-Romagna anche attraverso PNRR e Fondi europei. \nMaggiori informazioni sono disponibili al seguente link. \nSCARICA IL PROGRAMMA
URL:https://www.improntaetica.org/evento/16-11-demografia-e-impatto-sul-lavoro-e-leconomia-in-emilia-romagna/
ATTACH;FMTTYPE=image/jpeg:https://www.improntaetica.org/wp-content/uploads/2020/07/emilia-romagna-2-e1594303727287.jpg
END:VEVENT
BEGIN:VEVENT
DTSTART;TZID=Europe/Rome:20220712T170000
DTEND;TZID=Europe/Rome:20220712T181500
DTSTAMP:20260421T033307
CREATED:20220707T111541Z
LAST-MODIFIED:20220707T111542Z
UID:35111-1657645200-1657649700@www.improntaetica.org
SUMMARY:12/07 | Misurare la sostenibilità delle imprese in Emilia-Romagna
DESCRIPTION:Il webinar della Regione Emilia-Romagna sui risultati del report annuale e le nuove sfide.\nSì terrà il 12 luglio in diretta streaming dalle ore 17.00 alle ore 18.15 il webinar:  “Misurare la sostenibilità delle imprese in Emilia-Romagna: Risultati report annuale e nuove sfide” promosso dalla Regione Emilia-Romagna. \nL’incontro sarà l’occasione per illustrare i risultati emersi dall’analisi di oltre 2500 imprese dell’Emilia-Romagna e per riflettere sulle nuove sfide ed opportunità che si aprono per il sistema regionale con la nuova stagione di programmazione dei fondi europei. \nSarà possibile partecipare all’evento al seguente link.
URL:https://www.improntaetica.org/evento/12-07-misurare-la-sostenibilita-delle-imprese-in-emilia-romagna/
ATTACH;FMTTYPE=image/png:https://www.improntaetica.org/wp-content/uploads/2020/12/regione-er.png
END:VEVENT
BEGIN:VEVENT
DTSTART;TZID=Europe/Rome:20220505T093000
DTEND;TZID=Europe/Rome:20220505T163000
DTSTAMP:20260421T033307
CREATED:20220428T135414Z
LAST-MODIFIED:20220428T135414Z
UID:34728-1651743000-1651768200@www.improntaetica.org
SUMMARY:05\05 | Conferenza su agricoltura e qualità dell'aria
DESCRIPTION:La conferenza della Regione Emilia – Romagna in merito ai risultati del progetto LIFE PREPAIR sul bacino Padano.\nSi terrà il 5 maggio dalle ore 09.30 alle ore 16.30 la videoconferenza organizzata dalla Regione Emilia – Romagna sul tema dell‘agricoltura e della qualità dell’aria\, ponendo il focus sull’innovazione e le prospettive alla luce dei risultati del progetto LIFE PREPAIR sul bacino Padano. \nIl progetto LIFE integrato PREPAIR ha realizzato azioni comuni per approfondire le conoscenze e sviluppare soluzioni di riferimento per migliorare la qualità dell’aria nel Bacino padano. Durante l’evento saranno presentati gli strumenti elaborati nel progetto e i risultati delle analisi sulla situazione del Bacino Padano. \nLa giornata sarà anche un’occasione di confronto sulle prospettive future per l’innovazione tecnologica e la diffusione delle migliori tecniche nel settore alla luce della prossima programmazione dei fondi strutturali di settore. \nE’ possibile iscriversi all’evento al seguente link. \nMaggiori informazioni sono disponibili al seguente link.
URL:https://www.improntaetica.org/evento/0505-conferenza-su-agricoltura-e-qualita-dellaria/
ATTACH;FMTTYPE=image/jpeg:https://www.improntaetica.org/wp-content/uploads/2020/07/emilia-romagna-2-e1594303727287.jpg
END:VEVENT
BEGIN:VEVENT
DTSTART;TZID=Europe/Rome:20220223T150000
DTEND;TZID=Europe/Rome:20220223T173000
DTSTAMP:20260421T033307
CREATED:20220215T083150Z
LAST-MODIFIED:20220215T083150Z
UID:34414-1645628400-1645637400@www.improntaetica.org
SUMMARY:23\02 | I territori al centro dello sviluppo sostenibile
DESCRIPTION:Nuovo appuntamento organizzato dal CERS.\nIl 23 febbraio dalle ore 15:00 alle ore 17:30 si terrà online l’incontro dal tema “I territori dal centro dello sviluppo sostenibile dell’ Emilia Romagna” organizzato da CERS (Coordinamento Emilia Romagna Sostenibile 2030) a cui aderiscono le associazioni regionali aderenti all’ASviS con l’obiettivo di contribuire all’implementazione dell’Agenda 2030 dell’Onu a livello territoriale. Anche Impronta Etica partecipa all’iniziativa. \nL’evento di svolgerà in streaming e sarà possibile partecipare inviando una e-mail all’indirizzo giada.coffaridigilferraro@unipol.it .  \nAlcuni giorni prima gli iscritti e le iscritte riceveranno il link per il collegamento. \nScarica il programma \n 
URL:https://www.improntaetica.org/evento/2302-i-territori-al-centro-dello-sviluppo-sostenibile/
ATTACH;FMTTYPE=image/png:https://www.improntaetica.org/wp-content/uploads/2022/02/cers-evento.png
END:VEVENT
BEGIN:VEVENT
DTSTART;TZID=Europe/Rome:20211213T100000
DTEND;TZID=Europe/Rome:20211213T120000
DTSTAMP:20260421T033307
CREATED:20211207T165127Z
LAST-MODIFIED:20211207T165221Z
UID:34173-1639389600-1639396800@www.improntaetica.org
SUMMARY:13/12 | Premiazione Innovatori Responsabili 2021
DESCRIPTION:Premiazione dei migliori progetti candidati alla VII edizione del Premio Innovatori Responsabili e al premio Ged – gender & equality.\nIl 13 dicembre alle ore 10:00 si terrà l’evento di premiazione del Premio Innovatori Responsabili 2021. Una diretta per i protagonisti di questa edizione: imprese\, cooperative sociali\, liberi professionisti\, scuole\, che da ogni parte della regione concorrono alla realizzazione degli obiettivi indicati dal Patto per il lavoro e per il clima: conoscenza e saperi\, transizione ecologica\, diritti e doveri\, lavoro\, imprese e opportunità. \nSegui la diretta sul canale facebook e youtube  della Regione Emilia-Romagna. \nMaggiori informazioni sono disponibili al seguente link.
URL:https://www.improntaetica.org/evento/13-12-premiazione-innovatori-responsabili-2021/
ATTACH;FMTTYPE=image/jpeg:https://www.improntaetica.org/wp-content/uploads/2021/12/premio-innovatori.jpeg
END:VEVENT
BEGIN:VEVENT
DTSTART;TZID=Europe/Rome:20210312T150000
DTEND;TZID=Europe/Rome:20210312T173000
DTSTAMP:20260421T033307
CREATED:20210223T084129Z
LAST-MODIFIED:20210223T084129Z
UID:32551-1615561200-1615570200@www.improntaetica.org
SUMMARY:12/03 | Presentazione di CERS 2030
DESCRIPTION:Presentazione ufficiale del Coordinamento Emilia-Romagna sostenibile 2030 (CERS).\nSarà presentato ufficialmente nel corso di un evento pubblico il Coordinamento Emilia-Romagna sostenibile 2030 (CERS) a cui aderiscono le associazioni regionali aderenti all’ASviS con l’obiettivo di contribuire all’implementazione dell’Agenda 2030 dell’Onu a livello territoriale. Anche Impronta Etica partecipa all’iniziativa. \nL’incontro vuole essere l’occasione per discutere del nuovo Patto per il lavoro e per clima che la Regione Emilia-Romagna ha sottoscritto con 55 firmatari: dai sindacati alle imprese\, dai territori alle professioni\, dalla scuola alle università\, dal Terzo settore ad associazioni ambientaliste. Un percorso comune che nasce dalla convinzione che da questa crisi l’Emilia-Romagna debba uscire con un progetto di sviluppo nuovo. Cioè lo sviluppo sostenibile. \nL’evento si terrà online e sarà possibile partecipare inviando una email a giada.coffaridigilferraro@unipol.it \nIl link per il collegamento sarà inviato via email alcuni giorni prima alle/agli iscritte/i. \nMaggiori informazioni sono disponibili al seguente link. \nScarica il programma
URL:https://www.improntaetica.org/evento/12-03-presentazione-di-cers-2030/
ATTACH;FMTTYPE=image/png:https://www.improntaetica.org/wp-content/uploads/2019/08/Logo-ASviS-e1736929301112.png
END:VEVENT
BEGIN:VEVENT
DTSTART;TZID=Europe/Rome:20190322T093000
DTEND;TZID=Europe/Rome:20190322T193000
DTSTAMP:20260421T033307
CREATED:20190319T164945Z
LAST-MODIFIED:20190319T164945Z
UID:16305-1553247000-1553283000@www.improntaetica.org
SUMMARY:Giornata dell’economia solidale in Emilia Romagna
DESCRIPTION:Due momenti di confronto.\nI protagonisti dell’Economia solidale dell’Emilia Romagna si incontreranno a Bologna in due momenti di confronto.\nLa mattina – dalle ore 9.30 alle ore 13.30 presso l’Aula Magna della Regione Emilia-Romagna (Viale Aldo Moro 30) –  gli addetti ai lavori e gli stakeholder saranno chiamati a confrontarsi sul percorso svolto finora in attuazione della LR 19/2014 sull’Economia Solidale. Presiede Andrea Corsini\, Assessore al Turismo e Commercio della Regione Emilia-Romagna\, con delega all’attuazione della Legge regionale sull’Economia Solidale.\nNel pomeriggio – dalle ore 16.30 alle ore 19.30 presso la Sala Tassinari – Palazzo d’Accursio (Piazza Maggiore 6) – si svolgerà una tavola rotonda aperta a tutta la cittadinanza durante diversi attori del territorio si confronteranno sulle prospettive dell’Economia solidale nella Regione Emilia-Romagna.\nLa Regione Emilia-Romagna\, a partire dall’adozione della Legge regionale 19/2014\, è impegnata in un percorso di comprensione e valorizzazione delle realtà riconducibili ai principi dell’economia solidale. A livello regionale è stato costituito il Forum e il Tavolo permanente ed è di prossima attivazione l’Osservatorio regionale dell’economia solidale.\nAlla giornata del 22 farà seguito il Forum dell’Economia solidale del 30 marzo\, organismo di rappresentanza previsto dalla Legge 19/2014 e dalla successiva delibera regionale 323/2016 a cui i soggetti interessati possono iscriversi attraverso la modulistica disponibile qui.\nPer partecipare alla Giornata dell’Economia solidale occorre compilare il form di iscrizione a questo link.\nProgramma
URL:https://www.improntaetica.org/evento/giornata-delleconomia-solidale-emilia-romagna/
LOCATION:Bologna
ATTACH;FMTTYPE=:
END:VEVENT
BEGIN:VEVENT
DTSTART;TZID=Europe/Rome:20181017T140000
DTEND;TZID=Europe/Rome:20181017T170000
DTSTAMP:20260421T033307
CREATED:20181012T124710Z
LAST-MODIFIED:20181012T124710Z
UID:15658-1539784800-1539795600@www.improntaetica.org
SUMMARY:Percorso verso gli Stati generali della green economy in Emilia-Romagna
DESCRIPTION:Economia verde e sviluppo produttivo: il 4° workshop tematico di confronto e discussione sui temi dell’economia verde.\nLa Regione torna a confrontarsi con il territorio sui temi della green economy. A un anno dall’edizione 2017\, avvia un percorso intersettoriale che racconta le iniziative già in atto e le sfide verso l’Agenda 2030\, per un futuro sempre più sostenibile.\nIn particolare\, il workshop Economia verde e sviluppo produttivo affronterà i temi relativi a efficienza energetica del sistema produttivo\, ricerca e sviluppo\, green job.\n\nI risultati di questo e degli altri workshop diventeranno materia di discussione con il Presidente della Regione Emilia Romagna Stefano Bonaccini\, durante l’evento finale degli Stati generali della green economy in Emilia-Romagna\, che si terrà martedì 30 ottobre 2018\, presso l’Opificio Golinelli.\nMaggiori informazioni sono disponibili al seguente link.\nEconomia-verde-e-sviluppo-produttivo_documento-introduttivo
URL:https://www.improntaetica.org/evento/percorso-verso-gli-stati-generali-della-green-economy-emilia-romagna/
ATTACH;FMTTYPE=:
END:VEVENT
BEGIN:VEVENT
DTSTART;TZID=Europe/Rome:20180126T093000
DTEND;TZID=Europe/Rome:20180126T180000
DTSTAMP:20260421T033307
CREATED:20180110T105114Z
LAST-MODIFIED:20180110T105114Z
UID:14123-1516959000-1516989600@www.improntaetica.org
SUMMARY:Forum PA Emilia Romagna
DESCRIPTION:Verso una Regione semplice e connessa per uno sviluppo equo e sostenibile.\nUna giornata di confronto a cui la Regione Emilia-Romagna e FPA invitano tutti quanti lavorano in Regione\, negli Enti Locali\, negli enti pubblici emiliano-romagnoli e nelle aziende pubbliche e private che si impegnano per l’innovazione ad approfondire il percorso avviato dalla Regione per rispondere alle sfide cruciali del futuro.\nI lavori della giornata saranno organizzati secondo le modalità dell’Open Space Technology. Una tecnica orientata alla collaborazione e condivisione\, fondata sul principio secondo cui\, se si vuole innovare\, bisogna partire dal modo in cui comunichiamo e ci confrontiamo.\nOtto i tavoli di discussione\, ogni partecipante potrà scegliere a quale iscriversi per portare il proprio contributo: welfare sostenibile\, competitività del territorio e attrazione delle imprese\, smart health\, economia circolare\, futuro della PA\, lavoro agile\, Emilia Romagna digitale\, Open Innovation.\nMaggiori informazioni e il modulo per iscriversi sono disponibili al seguente link.
URL:https://www.improntaetica.org/evento/forum-pa-emilia-romagna/
LOCATION:Bologna Fiere – ingresso Sud\, Via Aldo Moro\, Bologna
ATTACH;FMTTYPE=:
END:VEVENT
BEGIN:VEVENT
DTSTART;TZID=Europe/Rome:20161212T151500
DTEND;TZID=Europe/Rome:20161212T190000
DTSTAMP:20260421T033307
CREATED:20161205T095058Z
LAST-MODIFIED:20161205T095058Z
UID:11661-1481555700-1481569200@www.improntaetica.org
SUMMARY:Premio ER.RSI Innovatori responsabili: il 12 dicembre la premiazione
DESCRIPTION:Durante l’evento saranno premiate le 15 imprese vincitrici del Premio Regionale Responsabilità Sociale d’Impresa.\nDurante l’evento\, promosso dalla Regione Emilia-Romagna  saranno premiate le 15 imprese vincitrici del Premio regionale responsabilità sociale d’impresa.\nIl riconoscimento\, giunto alla seconda edizione\, è promosso per valorizzare i progetti di aziende e start up coerenti con i 17 obiettivi indicati nell’Agenda 2030 e con i contenuti della Carta dei Principi di responsabilità sociale della Regione Emilia-Romagna. L’adesione alla Carta è requisito obbligatorio per ricevere finanziamenti regionali e quindi anche per i finanziamenti dei programmi europei.\nAl concorso hanno partecipato 53 aziende\, provenienti da tutte le nove province\, di diverse dimensioni e ambiti produttivi: dal settore ceramico al meccanico\, dall’agroalimentare alla grande distribuzione\, fino alla cooperazione sociale e al volontariato.\nPer maggiori informazioni è possibile consultare il seguente link.\nProgramma
URL:https://www.improntaetica.org/evento/premio-er-rsi-innovatori-responsabili-12-dicembre-la-premiazione/
LOCATION:cattura-e1465569070547
ATTACH;FMTTYPE=:
END:VEVENT
BEGIN:VEVENT
DTSTART;VALUE=DATE:20161122
DTEND;VALUE=DATE:20161124
DTSTAMP:20260421T033307
CREATED:20161118T083733Z
LAST-MODIFIED:20161118T083733Z
UID:11518-1479772800-1479945599@www.improntaetica.org
SUMMARY:Agorada+ 2016: Innovazione Sociale per i Territori
DESCRIPTION:L’Innovazione Sociale come strumento di crescita sostenibile per i territori.\nL’evento\, organizzato dalla Regione Emilia-Romagna in collaborazione con la rete europea di agenzie di sviluppo regionale (EURADA)\, le proprie agenzie di sviluppo Ervet ed  Aster ed Er-Go\, sarà un’occasione per contribuire al dibattito internazionale sull’Innovazione Sociale\, per meglio comprenderne la portata per uno sviluppo socio economico e una crescita sostenibili e per l’individuazione di possibili strategie comuni.\nNel corso dell’evento\, che sarà aperto dal Presidente della Regione Stefano Bonacini\, saranno analizzate le diverse sfaccettature dell’innovazione sociale\, gli strumenti attivabili per la generazione e la fertilizzazione di iniziative\, progetti ed iniziative in corso e possibili sfide e proposte per il futuro.\nPer maggiori informazioni è possibile visitare il sito web della conferenza.\nE’ possibile registrarsi all’evento qui.\nProgramma
URL:https://www.improntaetica.org/evento/agorada-2016-innovazione-sociale-territori/
ATTACH;FMTTYPE=:
END:VEVENT
BEGIN:VEVENT
DTSTART;TZID=Europe/Rome:20160916T093000
DTEND;TZID=Europe/Rome:20160916T130000
DTSTAMP:20260421T033307
CREATED:20160907T140921Z
LAST-MODIFIED:20160907T140921Z
UID:11061-1474018200-1474030800@www.improntaetica.org
SUMMARY:Il modello di Economia Circolare in Emilia-Romagna
DESCRIPTION:Il Forum permanente sull’economia circolare della Regione Emilia Romagna e il progetto europeo CESME.\nL’evento sarà l’occasione per condividere un’analisi del contesto regionale ed europeo sulla circular economy e una presentazione di buone pratiche aziendali e del progetto Interreg Circular Economy for SME (CESME).\nInoltre è previsto il lancio del forum regionale sull’economia circolare con la partecipazione di istituzioni locali\, regionali ed europee.\nE’ possibile iscriversi all’evento al seguente link.\nMaggiori informazioni sono disponibili al seguente link.\nProgramma
URL:https://www.improntaetica.org/evento/modello-economia-circolare-emilia-romagna/
LOCATION:Sala Poggioli\, Terza Torre\, Regione Emilia-Romagna\, Viale della Fiera\, 8 \, Bologna
ATTACH;FMTTYPE=:
END:VEVENT
BEGIN:VEVENT
DTSTART;TZID=Europe/Rome:20160511T170000
DTEND;TZID=Europe/Rome:20160511T190000
DTSTAMP:20260421T033307
CREATED:20160509T133208Z
LAST-MODIFIED:20160509T133208Z
UID:10465-1462986000-1462993200@www.improntaetica.org
SUMMARY:Filiere circolari: occasioni di innovazione e crescita per le imprese nell’economia circolare
DESCRIPTION:Evento per parlare di economia circolare con chi crede nelle opportunità del modello e ci sta già lavorando.\n\nL’economia circolare punta sull’enorme potenziale di crescita economica e di innovazione nascosto proprio nel sottoutilizzo delle materie prime e delle risorse: rifiuti o scarti che diventano risorse e materie prime per altre filiere produttive.\nMa la transizione verso un’economia circolare richiede nuovi modelli produttivi e di business\, necessita sinergie tra settori che fino ad oggi non hanno mai collaborato\, richiede nuove competenze e una creatività improntata alla sostenibilità\, e prevede che la pubblica amministrazione lavori ad una facilitazione normativa e burocratica che possa sbloccare questo potenziale.\nLa Regione Emilia Romagna è stata tra le prime in Italia ad approvare una legge che promuove l’economia circolare (la LR n. 16/2015)\, disincentivando il conferimento dei rifiuti e invitando a rimettere in circolo le materie di scarto che hanno ancora un valore.\nL’evento è realizzato da Kilowatt in collaborazione con Irecoop Emilia Romagna e COSPE e si inserisce all’interno del progetto Social & Solidarity Economy as Development Approach for Sustainability (SSEDAS).\nMaggiori informazioni  e  il programma dell’evento sono consultabili al seguente link.
URL:https://www.improntaetica.org/evento/rivedere-lintero-ciclo/
LOCATION:Gabbia del Leone\, via Castiglione 134\, Bologna\, Italia
ATTACH;FMTTYPE=:
END:VEVENT
END:VCALENDAR