BEGIN:VCALENDAR
VERSION:2.0
PRODID:-//Impronta Etica - ECPv6.15.20//NONSGML v1.0//EN
CALSCALE:GREGORIAN
METHOD:PUBLISH
X-WR-CALNAME:Impronta Etica
X-ORIGINAL-URL:https://www.improntaetica.org
X-WR-CALDESC:Eventi per Impronta Etica
REFRESH-INTERVAL;VALUE=DURATION:PT1H
X-Robots-Tag:noindex
X-PUBLISHED-TTL:PT1H
BEGIN:VTIMEZONE
TZID:Europe/Rome
BEGIN:DAYLIGHT
TZOFFSETFROM:+0100
TZOFFSETTO:+0200
TZNAME:CEST
DTSTART:20220327T010000
END:DAYLIGHT
BEGIN:STANDARD
TZOFFSETFROM:+0200
TZOFFSETTO:+0100
TZNAME:CET
DTSTART:20221030T010000
END:STANDARD
BEGIN:DAYLIGHT
TZOFFSETFROM:+0100
TZOFFSETTO:+0200
TZNAME:CEST
DTSTART:20230326T010000
END:DAYLIGHT
BEGIN:STANDARD
TZOFFSETFROM:+0200
TZOFFSETTO:+0100
TZNAME:CET
DTSTART:20231029T010000
END:STANDARD
BEGIN:DAYLIGHT
TZOFFSETFROM:+0100
TZOFFSETTO:+0200
TZNAME:CEST
DTSTART:20240331T010000
END:DAYLIGHT
BEGIN:STANDARD
TZOFFSETFROM:+0200
TZOFFSETTO:+0100
TZNAME:CET
DTSTART:20241027T010000
END:STANDARD
BEGIN:DAYLIGHT
TZOFFSETFROM:+0100
TZOFFSETTO:+0200
TZNAME:CEST
DTSTART:20250330T010000
END:DAYLIGHT
BEGIN:STANDARD
TZOFFSETFROM:+0200
TZOFFSETTO:+0100
TZNAME:CET
DTSTART:20251026T010000
END:STANDARD
END:VTIMEZONE
BEGIN:VEVENT
DTSTART;TZID=Europe/Rome:20240202T140000
DTEND;TZID=Europe/Rome:20240202T140000
DTSTAMP:20260421T012444
CREATED:20240119T124251Z
LAST-MODIFIED:20240119T161620Z
UID:38243-1706882400-1706882400@www.improntaetica.org
SUMMARY:02/02 |  La Grande Bologna per il Lavoro e l'Innovazione
DESCRIPTION:Gli Stati Generali dell’Industria bolognese.\nSi terrà il 2 febbraio 2024 alle ore 14:00 presso l’Auditorium Biagi in Salaborsa (Piazza del Nettuno\, 3 – Bologna)\, l’iniziativa promossa da Città metropolitana di Bologna e Regione Emilia – Romagna che coinvolgerà l’Alleanza delle Cooperative di Bologna assieme alle altre associazioni imprenditoriali e sindacali: “La Grande Bologna per il Lavoro e l’Innovazione“. \nIn un sistema economico metropolitano in profondo mutamento\, rischi e opportunità sono condizioni che convivono naturalmente. \nIl tessuto industriale bolognese  ha gli anticorpi per superare crisi e difficoltà e rafforzare la propria capacità competitiva: transizione digitale\, conoscenza e nuove catene del valore sono al centro delle trasformazioni in atto. \nPer tutto questo\, Città metropolitana e Regione promuovono gli Stati generali dell’Industria bolognese\, quale momento di confronto fondamentale per disegnare –  uniti –  un ecosistema  che generi valore e insieme lavoro dignitoso. \nE’ possibile iscriversi al seguente link. \n 
URL:https://www.improntaetica.org/evento/02-02-la-grande-bologna-per-il-lavoro-e-linnovazione/
ATTACH;FMTTYPE=image/png:https://www.improntaetica.org/wp-content/uploads/2024/01/verif.png
END:VEVENT
BEGIN:VEVENT
DTSTART;TZID=Europe/Rome:20230530T150000
DTEND;TZID=Europe/Rome:20230530T170000
DTSTAMP:20260421T012444
CREATED:20230522T063525Z
LAST-MODIFIED:20230522T063525Z
UID:36976-1685458800-1685466000@www.improntaetica.org
SUMMARY:30/05 | Benessere e sostenibilità nelle province dell'Emilia Romagna e nella Città Metropolitana di Bologna
DESCRIPTION:La terza edizione del convegno.\nSi terrà martedì 30 maggio dalle ore 15:00 alle ore 17:30 nell’ Aula Magna della Regione EmilIa – Romagna in modalità mista\, il convegno “Benessere e sostenibilità nelle province dell’Emilia Romagna e nella Città Metropolitana di Bologna”  organizzato da UPI\, ISTAT\, Regione Emilia – Romagna e Emilia – Romagna ANCI. \nMaggiori informazioni sono disponibili al seguente link. \nSCARICA IL PROGRAMMA
URL:https://www.improntaetica.org/evento/30-05-benessere-e-sostenibilita-nelle-province-dellemilia-romagna-e-nella-citta-metropolitana-di-bologna/
ATTACH;FMTTYPE=image/jpeg:https://www.improntaetica.org/wp-content/uploads/2023/05/collage.jpg
END:VEVENT
END:VCALENDAR