BEGIN:VCALENDAR
VERSION:2.0
PRODID:-//Impronta Etica - ECPv6.15.20//NONSGML v1.0//EN
CALSCALE:GREGORIAN
METHOD:PUBLISH
X-WR-CALNAME:Impronta Etica
X-ORIGINAL-URL:https://www.improntaetica.org
X-WR-CALDESC:Eventi per Impronta Etica
REFRESH-INTERVAL;VALUE=DURATION:PT1H
X-Robots-Tag:noindex
X-PUBLISHED-TTL:PT1H
BEGIN:VTIMEZONE
TZID:Europe/Rome
BEGIN:DAYLIGHT
TZOFFSETFROM:+0100
TZOFFSETTO:+0200
TZNAME:CEST
DTSTART:20220327T010000
END:DAYLIGHT
BEGIN:STANDARD
TZOFFSETFROM:+0200
TZOFFSETTO:+0100
TZNAME:CET
DTSTART:20221030T010000
END:STANDARD
BEGIN:DAYLIGHT
TZOFFSETFROM:+0100
TZOFFSETTO:+0200
TZNAME:CEST
DTSTART:20230326T010000
END:DAYLIGHT
BEGIN:STANDARD
TZOFFSETFROM:+0200
TZOFFSETTO:+0100
TZNAME:CET
DTSTART:20231029T010000
END:STANDARD
BEGIN:DAYLIGHT
TZOFFSETFROM:+0100
TZOFFSETTO:+0200
TZNAME:CEST
DTSTART:20240331T010000
END:DAYLIGHT
BEGIN:STANDARD
TZOFFSETFROM:+0200
TZOFFSETTO:+0100
TZNAME:CET
DTSTART:20241027T010000
END:STANDARD
BEGIN:DAYLIGHT
TZOFFSETFROM:+0100
TZOFFSETTO:+0200
TZNAME:CEST
DTSTART:20250330T010000
END:DAYLIGHT
BEGIN:STANDARD
TZOFFSETFROM:+0200
TZOFFSETTO:+0100
TZNAME:CET
DTSTART:20251026T010000
END:STANDARD
END:VTIMEZONE
BEGIN:VEVENT
DTSTART;TZID=Europe/Rome:20240229T160000
DTEND;TZID=Europe/Rome:20240229T160000
DTSTAMP:20260421T023836
CREATED:20240131T102928Z
LAST-MODIFIED:20240131T102928Z
UID:38373-1709222400-1709222400@www.improntaetica.org
SUMMARY:29/02 | Le Regioni e la sfida della neutralità climatica
DESCRIPTION:Presentazione di CIRO: il primo database con dati e buone pratiche delle Regioni italiane.\nItaly for Climate\, in collaborazione con KEY – The Energy Transition Expo\, presenta l’evento “Le Regioni e la sfida della neutralità climatica“\, che si terrà giovedì 29 febbraio alle ore 16:00 presso il Quartiere fieristico di Rimini. \nLe Regioni rappresentano un attore imprescindibile per realizzare la transizione energetica e raggiungere gli obiettivi climatici. Per supportare le Amministrazioni regionali nel processo di decarbonizzazione dei propri territori\, Italy for Climate ha sviluppato il primo database che\, attraverso 26 indicatori articolati in otto aree tematiche\, consente di analizzare\, monitorare e mettere a confronto le prestazioni di tutte le Regioni italiane e di condividere le buone pratiche. \nL’evento sarà l’occasione per presentare in anteprima i principali risultati del database CIRO (Climate Indicators for Italian RegiOns) e discuterne con i rappresentanti del Governo e delle Amministrazioni regionali. \nE’ possibile iscriversi ed ottenere informazioni sono disponibili al seguente link.
URL:https://www.improntaetica.org/evento/29-02-le-regioni-e-la-sfida-della-neutralita-climatica/
ATTACH;FMTTYPE=image/jpeg:https://www.improntaetica.org/wp-content/uploads/2024/01/xcwZzvO4_400x400.jpg
END:VEVENT
BEGIN:VEVENT
DTSTART;TZID=Europe/Rome:20231213T100000
DTEND;TZID=Europe/Rome:20231213T100000
DTSTAMP:20260421T023836
CREATED:20231124T090324Z
LAST-MODIFIED:20231124T090357Z
UID:38059-1702461600-1702461600@www.improntaetica.org
SUMMARY:13/12 | Presentazione ASviS del Rapporto Territori 2023
DESCRIPTION:Quanto sono sostenibili regioni\, province e città italiane?\nSi terrà il 13 dicembre alle 10.00\, presso la Plenaria Marco Biagi di Villa Lubin a Roma\, sede del Consiglio nazionale dell’economia e del lavoro (Cnel)\, la presentazione del Rapporto ASviS sui Territori 2023. Il documento illustra\, attraverso dati e grafici\, il posizionamento di regioni\, province\, città metropolitane\, aree urbane e comuni rispetto ai 17 Obiettivi di sviluppo sostenibile (SDGs) dell’Agenda 2030\, sottoscritta nel 2015 da 193 Paesi delle Nazioni Unite inclusa l’Italia per garantire la sostenibilità dello sviluppo sul piano ambientale\, sociale ed economico. \nIl Rapporto comprende anche una rassegna delle esperienze internazionali ed europee di territorializzazione degli SDGs e approfondisce l’attuazione della Strategia nazionale per lo sviluppo sostenibile approvata a settembre\, il tema della coerenza delle politiche\, il sistema multilivello di Strategie e Agende territoriali per lo sviluppo sostenibile\, le disuguaglianze tra territori e i rischi naturali e antropici. I capitoli conclusivi contengono una selezione di buone pratiche e le proposte dell’ASviS sui temi prioritari. \nLe modalità di partecipazione saranno disponibili a breve. \nMaggiori informazioni sono disponibili al seguente link.
URL:https://www.improntaetica.org/evento/13-12-presentazione-asvis-del-rapporto-territori-2023/
ATTACH;FMTTYPE=image/png:https://www.improntaetica.org/wp-content/uploads/2019/08/Logo-ASviS-e1736929301112.png
END:VEVENT
END:VCALENDAR