BEGIN:VCALENDAR
VERSION:2.0
PRODID:-//Impronta Etica - ECPv6.15.20//NONSGML v1.0//EN
CALSCALE:GREGORIAN
METHOD:PUBLISH
X-ORIGINAL-URL:https://www.improntaetica.org
X-WR-CALDESC:Eventi per Impronta Etica
REFRESH-INTERVAL;VALUE=DURATION:PT1H
X-Robots-Tag:noindex
X-PUBLISHED-TTL:PT1H
BEGIN:VTIMEZONE
TZID:Europe/Rome
BEGIN:DAYLIGHT
TZOFFSETFROM:+0100
TZOFFSETTO:+0200
TZNAME:CEST
DTSTART:20180325T010000
END:DAYLIGHT
BEGIN:STANDARD
TZOFFSETFROM:+0200
TZOFFSETTO:+0100
TZNAME:CET
DTSTART:20181028T010000
END:STANDARD
BEGIN:DAYLIGHT
TZOFFSETFROM:+0100
TZOFFSETTO:+0200
TZNAME:CEST
DTSTART:20190331T010000
END:DAYLIGHT
BEGIN:STANDARD
TZOFFSETFROM:+0200
TZOFFSETTO:+0100
TZNAME:CET
DTSTART:20191027T010000
END:STANDARD
BEGIN:DAYLIGHT
TZOFFSETFROM:+0100
TZOFFSETTO:+0200
TZNAME:CEST
DTSTART:20200329T010000
END:DAYLIGHT
BEGIN:STANDARD
TZOFFSETFROM:+0200
TZOFFSETTO:+0100
TZNAME:CET
DTSTART:20201025T010000
END:STANDARD
BEGIN:DAYLIGHT
TZOFFSETFROM:+0100
TZOFFSETTO:+0200
TZNAME:CEST
DTSTART:20210328T010000
END:DAYLIGHT
BEGIN:STANDARD
TZOFFSETFROM:+0200
TZOFFSETTO:+0100
TZNAME:CET
DTSTART:20211031T010000
END:STANDARD
BEGIN:DAYLIGHT
TZOFFSETFROM:+0100
TZOFFSETTO:+0200
TZNAME:CEST
DTSTART:20220327T010000
END:DAYLIGHT
BEGIN:STANDARD
TZOFFSETFROM:+0200
TZOFFSETTO:+0100
TZNAME:CET
DTSTART:20221030T010000
END:STANDARD
BEGIN:DAYLIGHT
TZOFFSETFROM:+0100
TZOFFSETTO:+0200
TZNAME:CEST
DTSTART:20230326T010000
END:DAYLIGHT
BEGIN:STANDARD
TZOFFSETFROM:+0200
TZOFFSETTO:+0100
TZNAME:CET
DTSTART:20231029T010000
END:STANDARD
BEGIN:DAYLIGHT
TZOFFSETFROM:+0100
TZOFFSETTO:+0200
TZNAME:CEST
DTSTART:20240331T010000
END:DAYLIGHT
BEGIN:STANDARD
TZOFFSETFROM:+0200
TZOFFSETTO:+0100
TZNAME:CET
DTSTART:20241027T010000
END:STANDARD
BEGIN:DAYLIGHT
TZOFFSETFROM:+0100
TZOFFSETTO:+0200
TZNAME:CEST
DTSTART:20250330T010000
END:DAYLIGHT
BEGIN:STANDARD
TZOFFSETFROM:+0200
TZOFFSETTO:+0100
TZNAME:CET
DTSTART:20251026T010000
END:STANDARD
BEGIN:DAYLIGHT
TZOFFSETFROM:+0100
TZOFFSETTO:+0200
TZNAME:CEST
DTSTART:20260329T010000
END:DAYLIGHT
BEGIN:STANDARD
TZOFFSETFROM:+0200
TZOFFSETTO:+0100
TZNAME:CET
DTSTART:20261025T010000
END:STANDARD
END:VTIMEZONE
BEGIN:VEVENT
DTSTART;TZID=Europe/Rome:20250403T170000
DTEND;TZID=Europe/Rome:20250403T183000
DTSTAMP:20260421T005226
CREATED:20250313T150022Z
LAST-MODIFIED:20250313T150205Z
UID:40956-1743699600-1743705000@www.improntaetica.org
SUMMARY:03/04 | Dall'Omnibus al nuovo ruolo del VSME
DESCRIPTION:La seconda rivoluzione della rendicontazione di sostenibilità nella UE e nell’Italia.\nSi terrà dalle 17.00 alle 18.30 il nuovo webinar organizzato da Fondazione O.I.B.R. e ASviS volto ad esplorare il dibattito e le novità introdotte dalla proposta del Pacchetto Omnibus pubblicata dalla Comissione Europea il 26 febbraio scorso. \nIl webinar esplorerà attraverso la voce di esperti ed imprese l’impatto delle possibili novità normative derivanti dalla proposta del Pacchetto Omnibus. Nello specifico verrà approfondito l’approccio futuro delle imprese allo sviluppo sostenibile\, comprendendo le nuove sfide ed opportunità legate alla nuova rivoluzione della rendicontazione di sostenibilità. \nMaggiori informazioni sono disponibili al seguente link. \nE’ possibile registrarsi all’evento al seguente link.
URL:https://www.improntaetica.org/evento/03-04-dallomnibus-al-nuovo-ruolo-del-vsme/
CATEGORIES:Eventi 2025
ATTACH;FMTTYPE=image/png:https://www.improntaetica.org/wp-content/uploads/2025/03/Screenshot-2025-03-13-101456-e1741857326476.png
END:VEVENT
BEGIN:VEVENT
DTSTART;TZID=Europe/Rome:20250130T144500
DTEND;TZID=Europe/Rome:20250130T173000
DTSTAMP:20260421T005226
CREATED:20250111T145940Z
LAST-MODIFIED:20250113T110025Z
UID:40584-1738248300-1738258200@www.improntaetica.org
SUMMARY:30/01 | Le best practices italiane di informazione di sostenibilità
DESCRIPTION:La conferenza di O.I.B.R. che esamina le buone pratiche di rendicontazione di sostenibilità.\nSi terrà il 30 gennaio 2025 dalle 14.45 alle 17.30 in formato ibrido\, online e in presenza presso l’Università Cattolica del S. Cuore\, Aula “Cripta”\, Largo Gemelli 1\, Milano la terza conferenza della Fondazione O.I.B.R sulle Best Practices italiane di Informazione di Sostenibilità.  \nL’evento rappresenterà un’importante occasione per esplorare le migliori pratiche nel reporting di sostenibilità\, ispirate dai risultati dell’Oscar di Bilancio 2024. L’evento si concentrerà su tre strumenti fondamentali: la Dichiarazione Non Finanziaria (DNF)\, il Reporting Integrato (IR) e la Relazione Annuale d’Impatto delle Società Benefit. \nDurante la giornata interverranno imprese\, che presenteranno direttamente le scelte e i percorsi intrapresi nel loro processo di rendicontazione\, ed esperti del settore che analizzeranno i diversi aspetti di queste pratiche\, con un focus specifico rispetto agli aspetti comunicativi del reporting non finanziario. \nMaggiori informazioni sul programma sono disponibili al seguente link. \nPer iscriversi all’evento in presenza si rimanda al seguente link. \nPer iscriversi all’evento online si rimanda al seguente link.
URL:https://www.improntaetica.org/evento/30-01-le-best-practices-italiane-di-informazione-di-sostenibilita/
CATEGORIES:Eventi 2025
ATTACH;FMTTYPE=image/jpeg:https://www.improntaetica.org/wp-content/uploads/2025/01/oibr-e1736263060142.jpg
END:VEVENT
BEGIN:VEVENT
DTSTART;TZID=Europe/Rome:20241128T170000
DTEND;TZID=Europe/Rome:20241128T184500
DTSTAMP:20260421T005226
CREATED:20241110T143209Z
LAST-MODIFIED:20241114T111652Z
UID:40264-1732813200-1732819500@www.improntaetica.org
SUMMARY:28/11 | Dalla rendicontazione al piano strategico di sostenibilità
DESCRIPTION:Un nuovo webinar di OIBR per esplorare le novità della CSRD.\nIl 28 novembre 2024 dalle 17.00 alle 18.45\, la Fondazione O.I.B.R. propone il webinar gratuito ” Dalla rendicontazione al piano strategico di sostenibilità“. L’incontro intende approfondire le novità introdotte dalla nuova normativa europea  Corporate Social Responsability Directive (CSRD)\, recepita recentemente nell’ordinamento italiano\, che spinge le aziende a elaborare piani strategici di sostenibilità basati su metriche prospettiche integrate nei processi industriali. \nAttraverso interventi di esperti e casi studio\, si discuterà come la rendicontazione e la pianificazione strategica possano convergere per guidare governance e decisioni aziendali verso una gestione più consapevole e orientata al futuro. \nMaggiori informazioni per registrarsi sono disponibili al seguente link. \nSCARICA IL PROGRAMMA
URL:https://www.improntaetica.org/evento/28-11-dalla-rendicontazione-al-piano-strategico-di-sostenibilita/
CATEGORIES:Eventi 2024
ATTACH;FMTTYPE=image/png:https://www.improntaetica.org/wp-content/uploads/2019/08/oibr.png
END:VEVENT
BEGIN:VEVENT
DTSTART;TZID=Europe/Rome:20240515T100000
DTEND;TZID=Europe/Rome:20240515T130000
DTSTAMP:20260421T005226
CREATED:20240507T062122Z
LAST-MODIFIED:20240507T062122Z
UID:39002-1715767200-1715778000@www.improntaetica.org
SUMMARY:15/05 | CSRD: Implementation and Beyond
DESCRIPTION:Comprendere i punti chiave della nuova normativa europea.\n\n\n\n\n\n\n\n\n\n\n\n\nIl 15 maggio 2024 dalle 10 alle 13 si terrà l’evento organizzato dal Global Reporting Iniative – GRI presso il Parlamento Europeo a Bruxelles\, e che sarà possibile seguire in remoto\, incentrato sull’adozione della Corporate Sustainability Reporting Directive (CSRD) che rappresenta un momento cruciale nell’ambito della rendicontazione di sostenibilità. \nCon oltre 130 paesi in tutto il mondo che applicano la rendicontazione sulla sostenibilità\, la CSRD si allinea anche ad altri standard globali pertinenti. Il Global Reporting Initiative (GRI) ha progettato una serie di briefing gratuiti\, denominata CSRD Essentials\, per approfondire la comprensione della nuove normativa e coinvolgere aziende e stakeholder a livello globale. Questi briefing\, sviluppati nell’arco di sei mesi\, illustrano le caratteristiche chiave della Direttiva e saranno presentati durante l’evento del 15 maggio. \n\n\n\n\n\n\n\n\n\n\n\n\n\n\n\n\n\nE’ possibile iscriversi e ottenere maggiori informazioni al seguente link.
URL:https://www.improntaetica.org/evento/15-05-csrd-implementation-and-beyond/
ATTACH;FMTTYPE=image/png:https://www.improntaetica.org/wp-content/uploads/2022/01/logo-gri.png
END:VEVENT
BEGIN:VEVENT
DTSTART;TZID=Europe/Rome:20210921T110000
DTEND;TZID=Europe/Rome:20210921T130000
DTSTAMP:20260421T005226
CREATED:20210916T090044Z
LAST-MODIFIED:20210916T090044Z
UID:33888-1632222000-1632229200@www.improntaetica.org
SUMMARY:21/09 | Granarolo: Transizione ecologica ed equa delle filiere
DESCRIPTION:Presentazione del Bilancio di Sostenibilità di Granarolo.\nIl 21 settembre dalle 11.00 e alle 13.00\, Granarolo organizza l’evento “Transizione ecologica ed equa delle filiere: il mondo agricolo allevatoriale tra sfide e nuove opportunità. Il Bilancio di Sostenibilità di Granarolo: misurazioni\, buone pratiche\, impegni e strategie”. \nAGENDA\nSaluti\nFiorenzo Galli Direttore Generale Museo Nazionale della Scienza e della Tecnologia Leonardo da Vinci \nInterventi\nPaolo De Castro Coordinatore S&D alla commissione Agricoltura del Parlamento europeo (contributo video da Parigi)\nMaurizio Martina Vice Direttore Generale FAO\nFabio Rolfi Assessore all’Agricoltura\, Alimentazione e Sistemi Verdi Regione Lombardia\nAnna Scavuzzo Vicensindaco Comune di Milano e Delegata alla Food Policy\nGianpiero Calzolari Presidente Granarolo S.p.A.\nGianni Gilioli Università di Brescia – Esperto in Valutazione e gestione della sostenibilità e della qualità delle fliere agroalimentari \nModera Paola Pica Giornalista de Il Corriere della Sera \nPer seguire l’evento clicca il seguente link.
URL:https://www.improntaetica.org/evento/21-09-granarolo-transizione-ecologica-ed-equa-delle-filiere/
ATTACH;FMTTYPE=image/jpeg:https://www.improntaetica.org/wp-content/uploads/2018/05/granarologroup-e1594715908759.jpg
END:VEVENT
BEGIN:VEVENT
DTSTART;TZID=Europe/Rome:20210914T170000
DTEND;TZID=Europe/Rome:20210914T183000
DTSTAMP:20260421T005226
CREATED:20210816T155608Z
LAST-MODIFIED:20210816T155608Z
UID:33487-1631638800-1631644200@www.improntaetica.org
SUMMARY:14/09 | OIBR: La nuova versione italiana del Framework del Reporting Integrato
DESCRIPTION:Il nuovo IR Framework a fronte degli standard EFRAG sul reporting di sostenibilità.\nIn occasione dell’uscita della nuova versione del Framework Internazionale del Reporting Integrato\, la Fondazione O.I.B.R.\, che ne ha curato la rinnovata traduzione italiana\, propone all’attenzione di tutta la comunità nazionale un webinar gratuito che mira ad esaminare le innovazioni introdotte nel Framework e a valutare il suo ruolo alla luce della proposta di Direttiva europea sul reporting di sostenibilità – che dovrebbe essere approvata agli inizi del 2022 con riguardo a tutte le imprese con più di 250 dipendenti -\, degli elaborandi standard europei per il reporting di sostenibilità\, e della bozza del documento IASB sul “Management Commentary” (Relazione sulla gestione). Una qualificata Tavola rotonda discuterà le implicazioni\, le sfide e anche le difficoltà per le aziende italiane a fronte di questa rapidissima rivoluzione nello scenario del reporting internazionale e nazionale. \nMaggiori informazioni sono disponibili al seguente link.
URL:https://www.improntaetica.org/evento/14-09-oibr-la-nuova-versione-italiana-del-framework-del-reporting-integrato/
ATTACH;FMTTYPE=image/png:https://www.improntaetica.org/wp-content/uploads/2019/08/oibr.png
END:VEVENT
BEGIN:VEVENT
DTSTART;TZID=Europe/Rome:20210622T170000
DTEND;TZID=Europe/Rome:20210622T184500
DTSTAMP:20260421T005226
CREATED:20210525T152758Z
LAST-MODIFIED:20210525T152758Z
UID:32942-1624381200-1624387500@www.improntaetica.org
SUMMARY:22/06 | La Value Reporting Foundation (VRF) e il nuovo Framework del Reporting Integrato
DESCRIPTION:Presentazione ufficiale al contesto italiano.\nLa Fondazione O.I.B.R. organizza un evento dedicato alla presentazione ufficiale della Value Reporting Foundation (VRF)\, l’organismo risultante dalla fusione dell’International Integrated Reporting Council (IIRC) e il Sustainability Accounting Standards Board (SASB). Il CEO\, Janine Guillot\, e alcuni dei top manager della VRF delineeranno obiettivi e prossime azioni dell’organismo\, anche nei suoi rapporti con la IFRS Foundation. Con l’occasione sarà anche presentata la nuova versione del Framework internazionale del Reporting Integrato \nL’evento si terrà in lingua inglese. \nMaggiori informazioni sono disponibili al seguente link.
URL:https://www.improntaetica.org/evento/22-06-la-value-reporting-foundation-vrf-e-il-nuovo-framework-del-reporting-integrato/
ATTACH;FMTTYPE=image/png:https://www.improntaetica.org/wp-content/uploads/2019/08/oibr.png
END:VEVENT
BEGIN:VEVENT
DTSTART;TZID=Europe/Rome:20210618T110000
DTEND;TZID=Europe/Rome:20210618T130000
DTSTAMP:20260421T005226
CREATED:20210525T152418Z
LAST-MODIFIED:20210525T152418Z
UID:32940-1624014000-1624021200@www.improntaetica.org
SUMMARY:18/06 | Proposta di Direttiva sul reporting di responsabilità: implicazione per CFO e commercialisti
DESCRIPTION:La Fondazione O.I.B.R.\, ANDAF Nordest-Lombardia-Piemonte e Valle d’Aosta e l’Unione Giovani Dottori Commercialisti ed Esperti Contabili (UNGDCEC) organizzano congiuntamente un evento dedicato all’approfondimento delle implicazioni e delle opportunità per CFO e commercialisti connesse alla proposta di nuova Direttiva Europea sul reporting di sostenibilità. \nMaggiori informazioni sono disponibili al seguente link.
URL:https://www.improntaetica.org/evento/18-06-proposta-di-direttiva-sul-reporting-di-responsabilita-implicazione-per-cfo-e-commercialisti/
ATTACH;FMTTYPE=image/png:https://www.improntaetica.org/wp-content/uploads/2019/08/oibr.png
END:VEVENT
BEGIN:VEVENT
DTSTART;TZID=Europe/Rome:20210609T170000
DTEND;TZID=Europe/Rome:20210609T184500
DTSTAMP:20260421T005226
CREATED:20210525T152054Z
LAST-MODIFIED:20210525T152054Z
UID:32938-1623258000-1623264300@www.improntaetica.org
SUMMARY:9/06 | OIBR: Controllo di gestione e integrated reporting
DESCRIPTION:Esperienze aziendali a confronto.\nLa Fondazione O.I.B.R. organizza un evento dedicato alla presentazione e discussione dei risultati della ricerca su controllo di gestione e integrated reporting. \nMaggiori informazioni sono disponibili al seguente link. \n 
URL:https://www.improntaetica.org/evento/9-06-oibr-controllo-di-gestione-e-integrated-reporting/
ATTACH;FMTTYPE=image/png:https://www.improntaetica.org/wp-content/uploads/2019/08/oibr.png
END:VEVENT
BEGIN:VEVENT
DTSTART;TZID=Europe/Rome:20210507T090000
DTEND;TZID=Europe/Rome:20210507T103000
DTSTAMP:20260421T005226
CREATED:20210426T063640Z
LAST-MODIFIED:20210506T085702Z
UID:32794-1620378000-1620383400@www.improntaetica.org
SUMMARY:7/05 | La proposta di nuova Direttiva europea sul reporting aziendale di sostenibilità
DESCRIPTION:Un aggiornamento circa il reporting aziendale di sostenibilità.\nLa Fondazione O.I.B.R. in collaborazione con CSR Manager Network\, la Fondazione Global Compact Italia e Impronta Etica organizza il primo evento dedicato all’analisi delle innovazioni\, delle criticità e delle opportunità legate alla nuova Direttiva Europea sul reporting di sostenibilità. \nIl webinar si terrà venerdì 7 maggio dalle ore 9.00 alle ore 10.30 sulla piattaforma Zoom. \nE’ possibile seguire la diretta del Webinar  direttamente dal sito della Fondazione O.I.B.R. (www.fondazioneoibr.it) al seguente link oppure\, in alternativa\, nella pagina YouTube della Fondazione al seguente link \nRegistrazione al seguente link. \n 
URL:https://www.improntaetica.org/evento/7-05-la-proposta-di-nuova-direttiva-europea-sul-reporting-aziendale-di-sostenibilita/
ATTACH;FMTTYPE=image/png:https://www.improntaetica.org/wp-content/uploads/2019/08/oibr.png
END:VEVENT
BEGIN:VEVENT
DTSTART;TZID=Europe/Rome:20210506T130000
DTEND;TZID=Europe/Rome:20210506T170000
DTSTAMP:20260421T005226
CREATED:20210423T065727Z
LAST-MODIFIED:20210423T065829Z
UID:32791-1620306000-1620320400@www.improntaetica.org
SUMMARY:6/05 | Conferenza high lever sulla proposta di Direttiva Europea circa il reporting aziendale di sostenibilità
DESCRIPTION:Un evento per comprendere il futuro della rendicontazione non finanziaria.\nLa Commissione Europea ha pubblicato il 21 aprile 2021 la proposta di testo della nuova Direttiva sulla rendicontazione di sostenibilità (Corporate Sustainability Reporting Directive). Per comprendere meglio le opportunità della proposta\, i principali aspetti\, gli obiettivi e le concrete implicazioni la Commissione europea organizza una conferenza high level sul tema. \nMaggiori informazioni e link per la registrazione sono disponibili a questo link. La conferenza è aperta a tutti\, per registrarsi è necessario avere un account ECAS. \nMaggiori informazioni sono disponibili al seguente link.
URL:https://www.improntaetica.org/evento/6-05-la-proposta-di-direttiva-europea-sul-reporting-aziendale-di-sostenibilita-conferenza-high-level/
ATTACH;FMTTYPE=image/jpeg:https://www.improntaetica.org/wp-content/uploads/2020/01/commissione-europea-impronta-etica-e1741190441692.jpg
END:VEVENT
BEGIN:VEVENT
DTSTART;VALUE=DATE:20210323
DTEND;VALUE=DATE:20210324
DTSTAMP:20260421T005226
CREATED:20210217T084252Z
LAST-MODIFIED:20210303T163536Z
UID:32534-1616457600-1616543999@www.improntaetica.org
SUMMARY:23/03 | 4° Convegno Nazionale della Fondazione O.I.B.R.
DESCRIPTION:Verso la standardizzazione dell’informativa non finanziaria e di sostenibilità: approcci regionali vs approcci globali?\nLa Fondazione O.I.B.R. sta organizzando il 4° Convegno Nazionale O.I.B.R. sul tema “Verso la standardizzazione dell’informativa non finanziaria e di sostenibilità: approcci regionali vs approcci globali?” programmato per il giorno 23 marzo 2021. \nIl Convegno\, organizzato in collaborazione con CSR Manager Network\, si svolgerà in modalità virtuale per un’intera giornata articolata su due sessioni. \n\nSessione mattutina (9.15-13.00)\, interamente in inglese\, che è volta a presentare lo scenario internazionale dalla viva voce di tutti i principali organismi regionali e globali che stanno promuovendo azioni nel campo della standardizzazione dell’informativa non finanziaria e di sostenbilità.\nSessione pomeridiana (15.00-17.45)\, in italiano\, che è diretta a illustrare le traiettorie evolutive della tematica in Italia e le diverse prospettive e opinioni in materia\, con un focus – a cura di CSR Manager Network – anche sulle pratiche ed esperienze di frontiera del contesto aziendale italiano in materia di informazioni non finanziarie e delle loro implicazioni gestionali. Tra i relatori\, vi saranno rappresentanti delle Istituzioni (Ministero dell’Economia/Banca d’Italia\, CONSOB)\, del Consiglio Nazionale dei Dottori Commercialisti ed Esperti Contabili\, di primarie società di revisione\, della Fondazione Global Compact Italia\, di professionisti della sostenibilità e della governance\, di imprese\, di investitori.\n\nL’evento è gratuito ma occorre registrarsi. Il link per la registrazione sarà reso disponibile circa 15 giorni prima della data del Convegno e distribuito agli stakeholder. \nMaggiori informazioni sono disponibili al seguente link. \nScarica il programma
URL:https://www.improntaetica.org/evento/23-03-4-convegno-nazionale-della-fondazione-o-i-b-r/
ATTACH;FMTTYPE=image/png:https://www.improntaetica.org/wp-content/uploads/2019/08/oibr.png
END:VEVENT
BEGIN:VEVENT
DTSTART;TZID=Europe/Rome:20210211T170000
DTEND;TZID=Europe/Rome:20210211T180000
DTSTAMP:20260421T005226
CREATED:20210201T115220Z
LAST-MODIFIED:20210201T160127Z
UID:32450-1613062800-1613066400@www.improntaetica.org
SUMMARY:11/02 | Rendicontazione sociale nel non profit e Riforma del Terzo Settore
DESCRIPTION:Presentazione del nuovo documento di GBS.\nAl via il ciclo di webinar promossi dal GBS – Associazione nazionale per la ricerca scientifica sul Bilancio Sociale e dal CNDCEC – Consiglio Nazionale dei Dottori Commercialisti ed Esperti Contabili per presentare il nuovo Documento di ricerca n. 17 “Rendicontazione sociale nel non profit e Riforma del Terzo Settore”. Il documento sviluppa una serie di focus tematici sulle principali novità introdotte dalla Riforma sul tema della trasparenza e dell’accountability che saranno approfonditi nel ciclo di webinar. \nInterverranno la Presidente del GBS Prof.ssa Chiara Mio e i componenti del Gruppo di ricerca che hanno curato l’elaborazione del documento: Mario Viviani\, Paolo Esposito\, Lorenzo Magrassi e Paolo Palombelli. \nL’incontro sarà moderato da Cristiana Rogate – Vice Presidente del Comitato Scientifico del GBS – e dal Prof. Lorenzo Sacconi – componente del Comitato Scientifico del GBS – coordinatori del documento di ricerca. \nMaggiori informazioni sono disponibili al seguente link.
URL:https://www.improntaetica.org/evento/11-02-rendicontazione-sociale-nel-non-profit-e-riforma-del-terzo-settore/
ATTACH;FMTTYPE=image/jpeg:https://www.improntaetica.org/wp-content/uploads/2021/02/save-the-date-e1612180312436.jpg
END:VEVENT
BEGIN:VEVENT
DTSTART;TZID=Europe/Rome:20200123T150000
DTEND;TZID=Europe/Rome:20200123T180000
DTSTAMP:20260421T005226
CREATED:20200120T211204Z
LAST-MODIFIED:20200121T093756Z
UID:30865-1579791600-1579802400@www.improntaetica.org
SUMMARY:23/01 a Milano | CSR Manager Network: "Le DNF promuovono la sostenibilità d'impresa?"
DESCRIPTION:Dichiarazioni Non Finanziarie e Pratiche Sostenibili.\nL’incontro sarà l’occasione per fare il punto sull’Osservatorio DNF\, realizzato con DISAG – Dipartimento di Studi Aziendali & Giuridici dell’Università di Siena: verrà presentato un bilancio di quanto emerso e le novità per il 2020. \nCon l’occasione verranno condivisi i primi risultati del Gruppo di Lavoro interno al CSR Manager Network dedicato alla DNF. \nL’incontro è aperto al pubblico\, ma è necessario accreditarsi scrivendo a segreteria@csrmanagernetwork.it \nMaggiori informazioni sono disponibili al seguente link. \nProgramma
URL:https://www.improntaetica.org/evento/csr-manager-network-le-dnf-promuovono-la-sostenibilita-dimpresa/
LOCATION:Altis- Università Cattolica del Sacro Cuore\, Via San Vittore\, 18\, Milano\, Italia
ATTACH;FMTTYPE=image/png:https://www.improntaetica.org/wp-content/uploads/2020/01/evento-e1579209086926.png
END:VEVENT
BEGIN:VEVENT
DTSTART;TZID=Europe/Rome:20191009T091500
DTEND;TZID=Europe/Rome:20191009T164500
DTSTAMP:20260421T005226
CREATED:20190819T072325Z
LAST-MODIFIED:20190819T072325Z
UID:16966-1570612500-1570639500@www.improntaetica.org
SUMMARY:Convegno Istituzionale di lancio della Fondazione O.I.B.R.
DESCRIPTION:“Creazione di Valore e Sostenibilità: Verso Nuovi Modelli di Reporting e Governance”.\nIl Convegno di lancio della Fondazione O.I.B.R. (Organismo Italiano di Business Reporting – Sustainability\, Non-Financial e Integrated Reporting) sarà l’occasione per discutere insieme a rilevanti relatori italiani e internazionali del tema “Creazione di Valore e Sostenibilità: Verso Nuovi Modelli di Reporting e Governance”.\nKey-note speech inaugurale dell’evento sarà il Prof. Mervyn King\, figura prominente e carismatica nel mondo dello sviluppo sostenibile e dell’informazione non-finanziaria. Il convegno tratterà le tematiche di grande rilievo nel campo dell’informativa non-finanziaria e integrata.\nLa partecipazione al Convegno Istituzionale Inaugurale della Fondazione OI.B.R. è gratuita\, ma è necessaria la previa iscrizione inviando un’email di richiesta a info@fondazioneoibr.it.\nA breve sarà disponibile il programma.\nMaggiori informazioni sono disponibili al seguente link.
URL:https://www.improntaetica.org/evento/convegno-istituzionale-lancio-della-fondazione-b-r/
ATTACH;FMTTYPE=:
END:VEVENT
END:VCALENDAR