BEGIN:VCALENDAR
VERSION:2.0
PRODID:-//Impronta Etica - ECPv6.15.20//NONSGML v1.0//EN
CALSCALE:GREGORIAN
METHOD:PUBLISH
X-WR-CALNAME:Impronta Etica
X-ORIGINAL-URL:https://www.improntaetica.org
X-WR-CALDESC:Eventi per Impronta Etica
REFRESH-INTERVAL;VALUE=DURATION:PT1H
X-Robots-Tag:noindex
X-PUBLISHED-TTL:PT1H
BEGIN:VTIMEZONE
TZID:Europe/Rome
BEGIN:DAYLIGHT
TZOFFSETFROM:+0100
TZOFFSETTO:+0200
TZNAME:CEST
DTSTART:20210328T010000
END:DAYLIGHT
BEGIN:STANDARD
TZOFFSETFROM:+0200
TZOFFSETTO:+0100
TZNAME:CET
DTSTART:20211031T010000
END:STANDARD
BEGIN:DAYLIGHT
TZOFFSETFROM:+0100
TZOFFSETTO:+0200
TZNAME:CEST
DTSTART:20220327T010000
END:DAYLIGHT
BEGIN:STANDARD
TZOFFSETFROM:+0200
TZOFFSETTO:+0100
TZNAME:CET
DTSTART:20221030T010000
END:STANDARD
BEGIN:DAYLIGHT
TZOFFSETFROM:+0100
TZOFFSETTO:+0200
TZNAME:CEST
DTSTART:20230326T010000
END:DAYLIGHT
BEGIN:STANDARD
TZOFFSETFROM:+0200
TZOFFSETTO:+0100
TZNAME:CET
DTSTART:20231029T010000
END:STANDARD
END:VTIMEZONE
BEGIN:VEVENT
DTSTART;TZID=Europe/Rome:20220217T080000
DTEND;TZID=Europe/Rome:20220217T100000
DTSTAMP:20260421T072403
CREATED:20220208T084128Z
LAST-MODIFIED:20220208T084128Z
UID:34371-1645084800-1645092000@www.improntaetica.org
SUMMARY:17\02 | Rendicontazione integrata e non finanziaria nelle PMI
DESCRIPTION:Benefici\, sfide e linee guida per le piccole medie imprese.\nIl 17 febbraio si terrà un evento del Russian Integrated Reporting Committee\, tenuto in collaborazione con la Fondazione Italiana per il Business Reporting (O.I.B.R.\, Organismo Italiano Business Reporting) e la Sezione Nord-Est Italia dell’Associazione Italiana CFO (ANDAF) sull’applicazione della rendicontazione integrata e non finanziaria da parte delle PMI\, scoprendo l’esperienza internazionale e la prospettiva russa. \nUn’analisi dei potenziali benefici derivanti da una sua applicazione\, dei migliori approcci internazionali per la transizione al reporting integrato\, le principali sfide e l’esperienza delle piccole medie imprese russe. \nL’evento sarà tenuto in lingua inglese. \nMaggiori informazioni sono disponibili al seguente link.   \n  \n\n  \n 
URL:https://www.improntaetica.org/evento/1702-rendicontazione-integrata-e-non-finanziaria-nelle-pmi/
ATTACH;FMTTYPE=image/png:https://www.improntaetica.org/wp-content/uploads/2019/08/oibr.png
END:VEVENT
END:VCALENDAR