BEGIN:VCALENDAR
VERSION:2.0
PRODID:-//Impronta Etica - ECPv6.15.20//NONSGML v1.0//EN
CALSCALE:GREGORIAN
METHOD:PUBLISH
X-WR-CALNAME:Impronta Etica
X-ORIGINAL-URL:https://www.improntaetica.org
X-WR-CALDESC:Eventi per Impronta Etica
REFRESH-INTERVAL;VALUE=DURATION:PT1H
X-Robots-Tag:noindex
X-PUBLISHED-TTL:PT1H
BEGIN:VTIMEZONE
TZID:Europe/Rome
BEGIN:DAYLIGHT
TZOFFSETFROM:+0100
TZOFFSETTO:+0200
TZNAME:CEST
DTSTART:20150329T010000
END:DAYLIGHT
BEGIN:STANDARD
TZOFFSETFROM:+0200
TZOFFSETTO:+0100
TZNAME:CET
DTSTART:20151025T010000
END:STANDARD
BEGIN:DAYLIGHT
TZOFFSETFROM:+0100
TZOFFSETTO:+0200
TZNAME:CEST
DTSTART:20160327T010000
END:DAYLIGHT
BEGIN:STANDARD
TZOFFSETFROM:+0200
TZOFFSETTO:+0100
TZNAME:CET
DTSTART:20161030T010000
END:STANDARD
BEGIN:DAYLIGHT
TZOFFSETFROM:+0100
TZOFFSETTO:+0200
TZNAME:CEST
DTSTART:20170326T010000
END:DAYLIGHT
BEGIN:STANDARD
TZOFFSETFROM:+0200
TZOFFSETTO:+0100
TZNAME:CET
DTSTART:20171029T010000
END:STANDARD
BEGIN:DAYLIGHT
TZOFFSETFROM:+0100
TZOFFSETTO:+0200
TZNAME:CEST
DTSTART:20180325T010000
END:DAYLIGHT
BEGIN:STANDARD
TZOFFSETFROM:+0200
TZOFFSETTO:+0100
TZNAME:CET
DTSTART:20181028T010000
END:STANDARD
BEGIN:DAYLIGHT
TZOFFSETFROM:+0100
TZOFFSETTO:+0200
TZNAME:CEST
DTSTART:20190331T010000
END:DAYLIGHT
BEGIN:STANDARD
TZOFFSETFROM:+0200
TZOFFSETTO:+0100
TZNAME:CET
DTSTART:20191027T010000
END:STANDARD
BEGIN:DAYLIGHT
TZOFFSETFROM:+0100
TZOFFSETTO:+0200
TZNAME:CEST
DTSTART:20200329T010000
END:DAYLIGHT
BEGIN:STANDARD
TZOFFSETFROM:+0200
TZOFFSETTO:+0100
TZNAME:CET
DTSTART:20201025T010000
END:STANDARD
END:VTIMEZONE
BEGIN:VEVENT
DTSTART;TZID=Europe/Rome:20191031T094500
DTEND;TZID=Europe/Rome:20191031T130000
DTSTAMP:20260421T043745
CREATED:20191015T075042Z
LAST-MODIFIED:20191015T075042Z
UID:17129-1572515100-1572526800@www.improntaetica.org
SUMMARY:SAVE THE DATE - Ecoforum e Comuni Ricicloni Emilia-Romagna
DESCRIPTION:Buone pratiche di gestione e riduzione dei rifiuti.\nLegambiente Emilia-Romagna organizza una mattinata di approfondimento sulla corretta gestione dei rifiuti in Emilia-Romagna: dall’attuazione del Piano Rifiuti Regionale passando per le buone pratiche di gestione e riduzione dei Comuni\, con un focus speciale sull’eliminazione dell’usa e getta dalla vita quotidiana.\nIl programma in via di definizione sarà disponibile online. \nAperte le iscrizioni online a questo link.\n 
URL:https://www.improntaetica.org/evento/save-the-date-ecoforum-comuni-ricicloni-emilia-romagna/
ATTACH;FMTTYPE=:
END:VEVENT
BEGIN:VEVENT
DTSTART;TZID=Europe/Rome:20190415T093000
DTEND;TZID=Europe/Rome:20190415T130000
DTSTAMP:20260421T043745
CREATED:20190402T124614Z
LAST-MODIFIED:20190402T124614Z
UID:16381-1555320600-1555333200@www.improntaetica.org
SUMMARY:Legambiente: Lotta alla plastica nell'ambiente
DESCRIPTION:Un incontro sulle problematiche relative alla plastica.\nDurante l’incontro\, organizzato da Legambiente Emilia-Romagna\,  verranno presentati gli esiti dei progetti Fishing for Litter e Il Po d’AMare\, esperienze dirette\, rispettivamente\, al recupero e all’intercettazione dei rifiuti negli ambienti acquatici del Po.\nVerranno\, inoltre\, discusse le diverse strategie per contrastare la presenza della plastica nell’ambiente.\nE’ possibile iscriversi a questo link.\nMaggiori informazioni e il programma sono disponibili sul sito di Legambiente Emilia-Romagna.\nProgramma
URL:https://www.improntaetica.org/evento/legambiente-lotta-alla-plastica-nellambiente/
ATTACH;FMTTYPE=:
END:VEVENT
BEGIN:VEVENT
DTSTART;TZID=Europe/Rome:20180202T093000
DTEND;TZID=Europe/Rome:20180202T130000
DTSTAMP:20260421T043745
CREATED:20180112T153201Z
LAST-MODIFIED:20180112T153201Z
UID:14142-1517563800-1517576400@www.improntaetica.org
SUMMARY:Circular Economy: Le nuove Direttive europee approvate
DESCRIPTION:Il nuovo pacchetto di modifiche alle direttive europee rifiuti-circular economy.\nL’evento\, organizzato dalla Fondazione per lo Sviluppo Sostenibile\, ha l’obiettivo di indagare l’iter europeo per l’approvazione del nuovo pacchetto di modifiche alle direttive rifiuti-circular economy appena concluso attraverso l’accordo raggiunto fra Commissione\, Consiglio e Parlamento.\nDurante l’incontro verranno analizzate le modifiche approvate\, valutate la portata e le implicazioni rispetto alla normativa vigente e alle problematiche delle diverse filiere di gestione dei rifiuti.\nMaggiori informazioni sono disponibili al seguente link.\nProgramma
URL:https://www.improntaetica.org/evento/circular-economy-le-nuove-direttive-europee-approvate/
LOCATION:Sala Auditorium del Ministero dell’Ambiente\, Via Colombo Cristoforo 44\, Roma
ATTACH;FMTTYPE=:
END:VEVENT
BEGIN:VEVENT
DTSTART;VALUE=DATE:20171107
DTEND;VALUE=DATE:20171111
DTSTAMP:20260421T043745
CREATED:20170920T091450Z
LAST-MODIFIED:20170920T091450Z
UID:13540-1510012800-1510358399@www.improntaetica.org
SUMMARY:Ecomondo
DESCRIPTION:XXI fiera internazionale del recupero di materia ed energia e dello sviluppo sostenibile.\nEcomondo è una fiera di riferimento internazionale della green e circular economy nell’area euro-mediterranea\, un evento internazionale con un format innovativo che unisce in un’unica piattaforma tutti i settori dell’economia circolare: dal recupero di materia ed energia allo sviluppo sostenibile.\nIn occasione dell’evento sarà possibile incontrare aziende leader di mercato\, conoscere i trend\, le innovazioni e le nuove tecnologie e confrontarsi con i professionisti del settore.\nMaggiori informazioni sono disponibili al seguente link.\nBrochure Ecomondo 2017
URL:https://www.improntaetica.org/evento/ecomondo/
LOCATION:Rimini Fiera\, Fiera\, 47922 Rimini RN\, Italia\, Rimini\, Emilia-Romagna\, 47922\, Italia
ATTACH;FMTTYPE=:
END:VEVENT
BEGIN:VEVENT
DTSTART;VALUE=DATE:20160518
DTEND;VALUE=DATE:20160521
DTSTAMP:20260421T043745
CREATED:20160518T061516Z
LAST-MODIFIED:20160518T061516Z
UID:10497-1463529600-1463788799@www.improntaetica.org
SUMMARY:Fare i conti con l’ambiente - Ravenna2016
DESCRIPTION:Al via la 9^ edizione.\nLabelab organizza “Fare i conti con l’ambiente – Ravenna2016”\, un festival su rifiuti\, acqua ed energia declinato in tre giorni di incontri\, formazione e informazione\, di approfondimenti e conoscenza delle nuove tecnologie e sui processi industriali\, coniugando cultura e solidarietà e offrendo eventi d’arte e spettacolo.\nLa manifestazione si svolge interamente nelle principali vie del Centro Storico pedonale di Ravenna e all’interno di 12 sale attrezzate.\nFare i conti con l’ambiente ospita anche: la quarta edizione del Corso Residenziale di Alta Formazione sulla Bonifica dei siti contaminati e la prima edizione della Scuola di Alta Formazione in Gestione dei Rifiuti.\nE’ possibile iscriversi agli eventi e avere maggiori informazioni al seguente link.\nGuida all’evento
URL:https://www.improntaetica.org/evento/ravenna2016/
LOCATION:Centro Storico di Ravenna\, Ravenna
END:VEVENT
END:VCALENDAR