BEGIN:VCALENDAR
VERSION:2.0
PRODID:-//Impronta Etica - ECPv6.15.20//NONSGML v1.0//EN
CALSCALE:GREGORIAN
METHOD:PUBLISH
X-ORIGINAL-URL:https://www.improntaetica.org
X-WR-CALDESC:Eventi per Impronta Etica
REFRESH-INTERVAL;VALUE=DURATION:PT1H
X-Robots-Tag:noindex
X-PUBLISHED-TTL:PT1H
BEGIN:VTIMEZONE
TZID:Europe/Rome
BEGIN:DAYLIGHT
TZOFFSETFROM:+0100
TZOFFSETTO:+0200
TZNAME:CEST
DTSTART:20220327T010000
END:DAYLIGHT
BEGIN:STANDARD
TZOFFSETFROM:+0200
TZOFFSETTO:+0100
TZNAME:CET
DTSTART:20221030T010000
END:STANDARD
BEGIN:DAYLIGHT
TZOFFSETFROM:+0100
TZOFFSETTO:+0200
TZNAME:CEST
DTSTART:20230326T010000
END:DAYLIGHT
BEGIN:STANDARD
TZOFFSETFROM:+0200
TZOFFSETTO:+0100
TZNAME:CET
DTSTART:20231029T010000
END:STANDARD
BEGIN:DAYLIGHT
TZOFFSETFROM:+0100
TZOFFSETTO:+0200
TZNAME:CEST
DTSTART:20240331T010000
END:DAYLIGHT
BEGIN:STANDARD
TZOFFSETFROM:+0200
TZOFFSETTO:+0100
TZNAME:CET
DTSTART:20241027T010000
END:STANDARD
BEGIN:DAYLIGHT
TZOFFSETFROM:+0100
TZOFFSETTO:+0200
TZNAME:CEST
DTSTART:20250330T010000
END:DAYLIGHT
BEGIN:STANDARD
TZOFFSETFROM:+0200
TZOFFSETTO:+0100
TZNAME:CET
DTSTART:20251026T010000
END:STANDARD
BEGIN:DAYLIGHT
TZOFFSETFROM:+0100
TZOFFSETTO:+0200
TZNAME:CEST
DTSTART:20260329T010000
END:DAYLIGHT
BEGIN:STANDARD
TZOFFSETFROM:+0200
TZOFFSETTO:+0100
TZNAME:CET
DTSTART:20261025T010000
END:STANDARD
BEGIN:DAYLIGHT
TZOFFSETFROM:+0100
TZOFFSETTO:+0200
TZNAME:CEST
DTSTART:20270328T010000
END:DAYLIGHT
BEGIN:STANDARD
TZOFFSETFROM:+0200
TZOFFSETTO:+0100
TZNAME:CET
DTSTART:20271031T010000
END:STANDARD
END:VTIMEZONE
BEGIN:VEVENT
DTSTART;TZID=Europe/Rome:20260330T100000
DTEND;TZID=Europe/Rome:20260330T130000
DTSTAMP:20260421T020631
CREATED:20260320T084625Z
LAST-MODIFIED:20260320T104656Z
UID:42664-1774864800-1774875600@www.improntaetica.org
SUMMARY:30/03 | RISE-IN: Building Resilient Cities Together
DESCRIPTION:Sperimentare nelle città per salvaguardare l’ambiente.\nIl 30 marzo 2026 dalle 10.00 alle 13.00 si terrà online il webinar “RISE-IN: Building Resilient Cities Together”\, primo appuntamento pubblico del progetto europeo RISE-IN\, coordinato dal Politecnico di Milano. L’evento presenterà l’approccio del progetto alla trasformazione delle città in laboratori viventi per interventi climatici sostenibili\, scalabili e finanziariamente attrattivi\, combinando Soluzioni basate sulla Natura (NBS) con modelli di innovazione finanziaria. \nNel corso del webinar\, le tre città sperimentatrici del progetto illustreranno i propri test reali: Cesena presenterà le azioni di ripristino ecologico lungo il fiume Savio per la riduzione del rischio alluvionale; Christchurch della Nuova Zelanda mostrerà il restauro del corridoio fluviale Ōtākaro Avon come risposta all’innalzamento del livello del mare; Póvoa de Varzim dal Portogallo descriverà gli interventi nel bacino del fiume Alto per il rafforzamento delle difese costiere e la creazione di corridoi ecologici. \nMaggiori informazioni sulla registrazione sono disponibili al seguente link.
URL:https://www.improntaetica.org/evento/30-03-rise-in-building-resilient-cities-together/
CATEGORIES:Eventi 2026,Eventi 2026
ATTACH;FMTTYPE=image/png:https://www.improntaetica.org/wp-content/uploads/2026/03/Loghi-news-20.png
END:VEVENT
BEGIN:VEVENT
DTSTART;TZID=Europe/Rome:20250718T110000
DTEND;TZID=Europe/Rome:20250718T120000
DTSTAMP:20260421T020631
CREATED:20250714T114137Z
LAST-MODIFIED:20250714T114137Z
UID:41495-1752836400-1752840000@www.improntaetica.org
SUMMARY:18/07 | Segnali d'Italia Bologna
DESCRIPTION:Le Storie Ri-creative che non ti aspetti.\nSi terrà il 18 luglio dalle 11.00 alle 12.00 presso la Sala Tassinari di Palazzo d’Accursio a Bologna la tappa bolognese dell’iniziativa Segnali d’Italia a cura di IGPDecaux\, che verrà realizzata con il supporto di CiAL – Consorzio Nazionale Imballaggi Alluminio e con il Patrocinio del Comune di Bologna.  \nL’evento esplorerà come si possano rigenerare le città attraverso nuove Idee\, storie e progetti che uniscono creatività\, inclusione e sostenibilità. La tavola rotonda vedrà la partecipazione dei dirigenti di realtà come il Comune di Bologna\, CiAL\, IGPDecaux e Il Resto del Carlino con la moderazione di Rossella Sobrero\, Presidente di Koinetica\, con l’obiettivo di presentare i propri progetti e il loro impatto positivo sul territorio e la città. \nMaggiori informazioni sul programma e come iscriversi sono disponibili al seguente link.
URL:https://www.improntaetica.org/evento/18-07-segnali-ditalia-bologna/
CATEGORIES:Eventi 2025
ATTACH;FMTTYPE=image/jpeg:https://www.improntaetica.org/wp-content/uploads/2025/07/segnaliditalia-e1752487028391.jpg
END:VEVENT
BEGIN:VEVENT
DTSTART;TZID=Europe/Rome:20250617T093000
DTEND;TZID=Europe/Rome:20250617T123000
DTSTAMP:20260421T020631
CREATED:20250611T134553Z
LAST-MODIFIED:20250611T134553Z
UID:41347-1750152600-1750163400@www.improntaetica.org
SUMMARY:17/06 | Creare valore sociale con la rigenerazione urbana
DESCRIPTION:Un workshop per esplorare i benefici sulle comunità dei progetti di rigenerazione urbana.\nSi terrà il 17 giugno dalle 9.30 alle 12.15 presso l’Aula 23\, dell’Università Bocconi di Milano\, Via Sarfatti 25\, l’evento dal titolo “Creare valore sociale con la rigenerazione urbana”\, un workshop promosso dal Sustainable Urban Regeneration Lab  (SUR Lab) dell’Università Bocconi di Milano. \nL’evento intende esplorare ed approfondire le trasformazioni complesse e gli effetti multidimensionali dei progetti di rigenerazione urbana\, allargando lo sguardo ai benefici tangibili e intangibili su territorio e comunità. \nDurante la mattinata sarà inoltre presentato il nuovo paper a cura del SUR Lab che analizza gli strumenti e le metodologie utilizzate nella misurazione del valore sociale prodotto e che rappresentano mezzi efficaci per valutare gli impatti dei progetti di trasformazione urbana. \nL’evento vedrà il confronto e dialogo a più voci tra pubblica amministrazione\, sviluppatori di progetti\, investitori e tutti gli attori chiave coinvolti nella valutazione del valore sociale durante i processi di rigenerazione urbana. \nMaggiori informazioni sono disponibili al seguente link. \nE’ possibile iscriversi al seguente link. \nSCARICA IL PROGRAMMA
URL:https://www.improntaetica.org/evento/17-06-creare-valore-sociale-con-la-rigenerazione-urbana/
CATEGORIES:Eventi 2025
ATTACH;FMTTYPE=image/png:https://www.improntaetica.org/wp-content/uploads/2023/01/Universita-bocconi_logo-e1749569448330.png
END:VEVENT
BEGIN:VEVENT
DTSTART;TZID=Europe/Rome:20230130T143000
DTEND;TZID=Europe/Rome:20230130T170000
DTSTAMP:20260421T020631
CREATED:20230127T134306Z
LAST-MODIFIED:20230127T134306Z
UID:36294-1675089000-1675098000@www.improntaetica.org
SUMMARY:30/01 | La dimensione urbana nelle politiche di coesione e nella programmazione UE 2021-2027
DESCRIPTION:Un momento di confronto tra le istituzioni e le imprese.\nOrganizzato dal GREEN Centro di ricerca sulla geografia\, le risorse naturali\, l’energia\, l’ambiente e le reti dell’Università Bocconi\, il seminario Osservatorio Smart City si terrà il 30 gennaio\, dalle ore 14.30 alle ore 17.00\, in modalità mista. \nDato il contesto attuale in cui il tema della rigenerazione urbana e sulla neutralità climatica delle città sono sempre più discussi\, l’evento si propone di mettere a confronto le istituzioni pubbliche e le imprese al fine di condividere strategie\, programmi e obiettivi sulla base dei principali Fondi strutturali dedicati alle politiche della città futura. \nL’evento in presenza si terrà presso l’Aula AS01 dell’Università Bocconi di Milano (Via Röntgen 1\, Milano). \nPer partecipare è necessario iscriversi entro il 29 gennaio. \nPer iscriversi all’evento online è necessario iscriversi al seguente link. \nPer iscriversi all’evento in presenza è necessario iscriversi al seguente link. \nMaggiori informazioni sono disponibili al seguente link. \nSCARICA IL PROGRAMMA \n 
URL:https://www.improntaetica.org/evento/30-01-la-dimensione-urbana-nelle-politiche-di-coesione-e-nella-programmazione-ue-2021-2027/
ATTACH;FMTTYPE=image/png:https://www.improntaetica.org/wp-content/uploads/2023/01/Universita-bocconi_logo-e1749569448330.png
END:VEVENT
END:VCALENDAR