BEGIN:VCALENDAR
VERSION:2.0
PRODID:-//Impronta Etica - ECPv6.15.20//NONSGML v1.0//EN
CALSCALE:GREGORIAN
METHOD:PUBLISH
X-WR-CALNAME:Impronta Etica
X-ORIGINAL-URL:https://www.improntaetica.org
X-WR-CALDESC:Eventi per Impronta Etica
REFRESH-INTERVAL;VALUE=DURATION:PT1H
X-Robots-Tag:noindex
X-PUBLISHED-TTL:PT1H
BEGIN:VTIMEZONE
TZID:Europe/Rome
BEGIN:DAYLIGHT
TZOFFSETFROM:+0100
TZOFFSETTO:+0200
TZNAME:CEST
DTSTART:20210328T010000
END:DAYLIGHT
BEGIN:STANDARD
TZOFFSETFROM:+0200
TZOFFSETTO:+0100
TZNAME:CET
DTSTART:20211031T010000
END:STANDARD
BEGIN:DAYLIGHT
TZOFFSETFROM:+0100
TZOFFSETTO:+0200
TZNAME:CEST
DTSTART:20220327T010000
END:DAYLIGHT
BEGIN:STANDARD
TZOFFSETFROM:+0200
TZOFFSETTO:+0100
TZNAME:CET
DTSTART:20221030T010000
END:STANDARD
BEGIN:DAYLIGHT
TZOFFSETFROM:+0100
TZOFFSETTO:+0200
TZNAME:CEST
DTSTART:20230326T010000
END:DAYLIGHT
BEGIN:STANDARD
TZOFFSETFROM:+0200
TZOFFSETTO:+0100
TZNAME:CET
DTSTART:20231029T010000
END:STANDARD
END:VTIMEZONE
BEGIN:VEVENT
DTSTART;TZID=Europe/Rome:20221214T110000
DTEND;TZID=Europe/Rome:20221214T130000
DTSTAMP:20260421T082930
CREATED:20221206T081745Z
LAST-MODIFIED:20221206T081745Z
UID:36029-1671015600-1671022800@www.improntaetica.org
SUMMARY:14/12 | Natural Climate Solutions per sequestrare e immagazzinare il carbonio
DESCRIPTION:Soluzioni per mitigare il riscaldamento globale.\nSustainability Makers\, in collaborazione con il World Business Council for Sustainable Development\, presenta il progetto Natural Climate Solutions (NCS)\, il cui obiettivo è quello di aiutare le imprese nella transizione verso la neutralità climatica\, al fine di ridurre le proprie emissioni di gas serra e limitare il riscaldamento globale al di sotto del 1\,5°C entro il 2030. \nAl fine di presentare e approfondire il progetto\, è stato organizzato un webinar in lingua inglese\, che si terrà il 14 dicembre 2022\, dalle ore 11 alle 13\, durante il quale verranno presentati oltre al progetto Natural Climate Solutions e alcuni business case\, anche gli strumenti a disposizione\, i principali attori e gli standard in relazione al mercato volontario del carbonio. \nMaggiori informazioni sono disponibili al seguente link. \nSCARICA IL PROGRAMMA
URL:https://www.improntaetica.org/evento/14-12-natural-climate-solutions-per-sequestrare-e-immagazzinare-il-carbonio/
ATTACH;FMTTYPE=image/png:https://www.improntaetica.org/wp-content/uploads/2022/11/Immagine-senza-nome-1.png
END:VEVENT
END:VCALENDAR