BEGIN:VCALENDAR
VERSION:2.0
PRODID:-//Impronta Etica - ECPv6.15.20//NONSGML v1.0//EN
CALSCALE:GREGORIAN
METHOD:PUBLISH
X-ORIGINAL-URL:https://www.improntaetica.org
X-WR-CALDESC:Eventi per Impronta Etica
REFRESH-INTERVAL;VALUE=DURATION:PT1H
X-Robots-Tag:noindex
X-PUBLISHED-TTL:PT1H
BEGIN:VTIMEZONE
TZID:Europe/Rome
BEGIN:DAYLIGHT
TZOFFSETFROM:+0100
TZOFFSETTO:+0200
TZNAME:CEST
DTSTART:20150329T010000
END:DAYLIGHT
BEGIN:STANDARD
TZOFFSETFROM:+0200
TZOFFSETTO:+0100
TZNAME:CET
DTSTART:20151025T010000
END:STANDARD
BEGIN:DAYLIGHT
TZOFFSETFROM:+0100
TZOFFSETTO:+0200
TZNAME:CEST
DTSTART:20160327T010000
END:DAYLIGHT
BEGIN:STANDARD
TZOFFSETFROM:+0200
TZOFFSETTO:+0100
TZNAME:CET
DTSTART:20161030T010000
END:STANDARD
BEGIN:DAYLIGHT
TZOFFSETFROM:+0100
TZOFFSETTO:+0200
TZNAME:CEST
DTSTART:20170326T010000
END:DAYLIGHT
BEGIN:STANDARD
TZOFFSETFROM:+0200
TZOFFSETTO:+0100
TZNAME:CET
DTSTART:20171029T010000
END:STANDARD
BEGIN:DAYLIGHT
TZOFFSETFROM:+0100
TZOFFSETTO:+0200
TZNAME:CEST
DTSTART:20180325T010000
END:DAYLIGHT
BEGIN:STANDARD
TZOFFSETFROM:+0200
TZOFFSETTO:+0100
TZNAME:CET
DTSTART:20181028T010000
END:STANDARD
BEGIN:DAYLIGHT
TZOFFSETFROM:+0100
TZOFFSETTO:+0200
TZNAME:CEST
DTSTART:20190331T010000
END:DAYLIGHT
BEGIN:STANDARD
TZOFFSETFROM:+0200
TZOFFSETTO:+0100
TZNAME:CET
DTSTART:20191027T010000
END:STANDARD
BEGIN:DAYLIGHT
TZOFFSETFROM:+0100
TZOFFSETTO:+0200
TZNAME:CEST
DTSTART:20200329T010000
END:DAYLIGHT
BEGIN:STANDARD
TZOFFSETFROM:+0200
TZOFFSETTO:+0100
TZNAME:CET
DTSTART:20201025T010000
END:STANDARD
BEGIN:DAYLIGHT
TZOFFSETFROM:+0100
TZOFFSETTO:+0200
TZNAME:CEST
DTSTART:20210328T010000
END:DAYLIGHT
BEGIN:STANDARD
TZOFFSETFROM:+0200
TZOFFSETTO:+0100
TZNAME:CET
DTSTART:20211031T010000
END:STANDARD
BEGIN:DAYLIGHT
TZOFFSETFROM:+0100
TZOFFSETTO:+0200
TZNAME:CEST
DTSTART:20220327T010000
END:DAYLIGHT
BEGIN:STANDARD
TZOFFSETFROM:+0200
TZOFFSETTO:+0100
TZNAME:CET
DTSTART:20221030T010000
END:STANDARD
END:VTIMEZONE
BEGIN:VEVENT
DTSTART;TZID=Europe/Rome:20210609T163000
DTEND;TZID=Europe/Rome:20210609T183000
DTSTAMP:20260421T075524
CREATED:20210517T064814Z
LAST-MODIFIED:20210517T064833Z
UID:32897-1623256200-1623263400@www.improntaetica.org
SUMMARY:9/06 | Imprenditori altruisti: cosa possono fare per le imprese sociali
DESCRIPTION:La nuova iniziativa di Iress e Città Metropolitana di Bologna.\nIress insieme a Città Metropolitana di Bologna promuove un ciclo di incontri dal titolo “Fare impresa sociale. Workshop per il coaching per migliorare le competenze imprenditoriali”. \nIl 9 giugno si terrà l’evento dal titolo “Imprenditori altruisti: cosa possono fare per le imprese sociali“. \nLa partecipazione ai workshop è gratuita. Per partecipare è necessario iscriversi cliccando il seguente link. A seguire si riceverà il link per il collegamento. \nMaggiori informazioni sono disponibili al seguente link. \n 
URL:https://www.improntaetica.org/evento/1-06-imprenditori-altruisti-la-responsabilita-sociale-dimpresa-come-fattore-distintivo-2/
ATTACH;FMTTYPE=image/png:https://www.improntaetica.org/wp-content/uploads/2021/04/città-metropolitana-e-ires-e1619535878390.png
END:VEVENT
BEGIN:VEVENT
DTSTART;TZID=Europe/Rome:20210601T163000
DTEND;TZID=Europe/Rome:20210601T183000
DTSTAMP:20260421T075524
CREATED:20210517T064529Z
LAST-MODIFIED:20210517T064529Z
UID:32895-1622565000-1622572200@www.improntaetica.org
SUMMARY:1/06 | Imprenditori altruisti: la responsabilità sociale d’impresa come fattore distintivo
DESCRIPTION:Tra gli interventi anche quello di Impronta Etica.\nIress insieme a Città Metropolitana di Bologna promuove un ciclo di incontri dal titolo “Fare impresa sociale. Workshop per il coaching per migliorare le competenze imprenditoriali”. \nIl primo giugno si terrà l’evento dal titolo “Imprenditori altruisti: la responsabilità sociale d’impresa come fattore distintivo” a cui parteciperanno anche Elisa Petrini\, Coordinatrice e Sara Teglia\, Project manager di Impronta Etica oltre che Coopfond\, impresa socia di Impronta Etica. \nLa partecipazione ai workshop è gratuita. Per partecipare è necessario iscriversi cliccando il seguente link. A seguire si riceverà il link per il collegamento. \nMaggiori informazioni sono disponibili al seguente link. \n 
URL:https://www.improntaetica.org/evento/1-06-imprenditori-altruisti-la-responsabilita-sociale-dimpresa-come-fattore-distintivo/
ATTACH;FMTTYPE=image/png:https://www.improntaetica.org/wp-content/uploads/2021/04/città-metropolitana-e-ires-e1619535878390.png
END:VEVENT
BEGIN:VEVENT
DTSTART;TZID=Europe/Rome:20210415T100000
DTEND;TZID=Europe/Rome:20210415T123000
DTSTAMP:20260421T075524
CREATED:20210203T152734Z
LAST-MODIFIED:20210326T162950Z
UID:32472-1618480800-1618489800@www.improntaetica.org
SUMMARY:15/04 | Tappa bolognese del Salone della CSR e dell’innovazione sociale
DESCRIPTION:Territorio\, ecosistemi e partnership.\nÈ ora disponibile il programma della sesta edizione della tappa bolognese de “Il Salone della CSR e dell’innovazione sociale”\, evento organizzato da Impronta Etica con il supporto metodologico e organizzativo di SCS Consulting. L’evento online si terrà il 15 aprile 2021 dalle ore 10:00 alle ore 12:30. \nPer rinascere sostenibili sono necessari coraggio\, innovazione\, capacità di visione. La tappa di Bologna del Salone della CSR pone un focus sull’importanza di territorio\, ecosistemi e partnership come fattori abilitanti di questa rinascita. \nPer comprendere fino in fondo la trasformazione in atto e coinvolgere tutti gli attori di questo percorso\, il confronto verterà su: \n\nPREVENIRE: Quali scenari abbiamo di fronte?\nSUPPORTARE: Quali leve sono fondamentali per stimolare il reagire sostenibile?\nAGIRE: Come possono sinergia e collaborazione di filiera contribuire a massimizzare risultati e impatti?\nINNOVARE: quale innovazione può supportare la rinascita sostenibile?\n\nConsulta il programma completo della tappa e iscriviti all’evento. \nPer iscriversi all’evento clicca il seguente link. \nScarica il programma \n 
URL:https://www.improntaetica.org/evento/15-04-tappa-bolognese-del-salone-della-csr-e-dellinnovazione-sociale/
ATTACH;FMTTYPE=image/png:https://www.improntaetica.org/wp-content/uploads/2019/06/salone-csr.png
END:VEVENT
BEGIN:VEVENT
DTSTART;TZID=Europe/Rome:20201030T140000
DTEND;TZID=Europe/Rome:20201030T180000
DTSTAMP:20260421T075524
CREATED:20201009T082246Z
LAST-MODIFIED:20201009T082246Z
UID:32090-1604066400-1604080800@www.improntaetica.org
SUMMARY:30/10 | Animaimpresa: CSR Day
DESCRIPTION:Torna a Udine l’appuntamento targato Animaimpresa per parlare di sostenibilità.\nA Teatro Palamostre\, nel pomeriggio\, si terrà l’evento organizzato da Animaimpresa per discutere della sostenibilità e le prospettive della Responsabilità Sociale d’Impresa. Il tema di quest’anno sarà l’Attualità della Sostenibilità. \nÈ previsto un panel di relatori provenienti da diverse realtà\, sia a livello locale che nazionale\, che si alterneranno in speech ed in una tavola rotonda\, raccontando le proprie esperienze e confrontandosi su svariate tematiche ed aspetti della CSR. \nA breve il programma completo. \nMaggiori informazioni sono disponibili al seguente link. \n 
URL:https://www.improntaetica.org/evento/30-10-animaimpresa-csr-day/
ATTACH;FMTTYPE=image/jpeg:https://www.improntaetica.org/wp-content/uploads/2020/10/csr-day-e1602231732945.jpg
END:VEVENT
BEGIN:VEVENT
DTSTART;VALUE=DATE:20200929
DTEND;VALUE=DATE:20201001
DTSTAMP:20260421T075524
CREATED:20200709T143517Z
LAST-MODIFIED:20200901T133815Z
UID:31798-1601337600-1601510399@www.improntaetica.org
SUMMARY:29/09 - 30/09 | Salone della CSR e dell'innovazione sociale
DESCRIPTION:Ottava edizione del Salone della CSR e dell’innovazione sociale.\nA settembre torna il Salone della CSR e dell’innovazione sociale. Sono 200 le organizzazioni che hanno confermato la partecipazione all’edizione nazionale che prevede un programma culturale con 80 eventi articolato in sei percorsi: ambiente\, clienti\, comunità\, dipendenti\, fornitori\, investitori. Sarà anche presente una sezione Fuori percorso che comprenderà eventi trasversali ai sei temi. Con oltre 300 relatori del mondo dell’economia\, formazione\, cultura e società civile\, migliaia di persone potranno seguire in diretta gli eventi grazie a una piattaforma digitale personalizzata. \nQuesta edizione\, oltre a facilitare la partecipazione e ampliare l’audience\, permetterà a chi non potrà seguire gli incontri in diretta di rivedere le clip con gli eventi anche nei mesi successivi. \nMaggiori informazioni sono disponibili al seguente link. \nIl programma è disponibile al seguente link.
URL:https://www.improntaetica.org/evento/29-09-30-09-salone-della-csr-e-dellinnovazione-sociale/
ATTACH;FMTTYPE=image/png:https://www.improntaetica.org/wp-content/uploads/2019/08/Salone-CSR-e1530797613406.png
END:VEVENT
BEGIN:VEVENT
DTSTART;TZID=Europe/Rome:20200513T150000
DTEND;TZID=Europe/Rome:20200513T160000
DTSTAMP:20260421T075524
CREATED:20200512T113703Z
LAST-MODIFIED:20200512T113703Z
UID:31528-1589382000-1589385600@www.improntaetica.org
SUMMARY:13/05 | ALTIS: webinar sostenibilità nel business
DESCRIPTION:#restaacasa e impara la sostenibilità.\nALTIS ha organizzato per il mese di maggio dei webinar gratuiti sulla sostenibilità per continuare a fare formazione sul tema. \nIl 13 maggio dalle 15 alle 16 si terrà il webinar dal titolo “Sostenibilità nel business: come pianificare un percorso strategico”. \nL’integrazione della sostenibilità in azienda implica un cambiamento interno\, che può avvenire solo con un costante e persistente impegno dell’intera organizzazione. Perché la direzione sia chiara e condivisa\, si rende opportuna la definizione di un piano strategico di sostenibilità. Tale piano\, coerente col piano strategico aziendale e integrato in esso\, prende avvio da una riflessione strutturata circa il proprio posizionamento e porta a definire\, anche attraverso un percorso di engagement\, i pilastri su cui puntare nel medio-lungo periodo. Dare una declinazione operativa ai passi da intraprendere guiderà quindi l’azienda nel raggiungimento degli obiettivi di sviluppo individuati. \nMaggiori informazioni sono disponibili al seguente link.
URL:https://www.improntaetica.org/evento/13-05-altis-webinar-sostenibilita-nel-business/
ATTACH;FMTTYPE=image/gif:https://www.improntaetica.org/wp-content/uploads/2019/06/Altis-e1505901176202.gif
END:VEVENT
BEGIN:VEVENT
DTSTART;VALUE=DATE:20161201
DTEND;VALUE=DATE:20161203
DTSTAMP:20260421T075524
CREATED:20161116T143718Z
LAST-MODIFIED:20161116T143718Z
UID:11483-1480550400-1480723199@www.improntaetica.org
SUMMARY:Forum della CSR 2016
DESCRIPTION:XI edizione dell’appuntamento dedicato alla Responsabilità Sociale d’Impresa.\nABI e ABIEventi  organizzano il Forum della CSR\, con l’intento di promuovere un’occasione d’incontro\, aggiornamento\, confronto e networking per tutti coloro che in banca\, nelle imprese e nelle organizzazioni si occupano di Responsabilità Sociale d’Impresa.\nObiettivo del Forum è quello di fotografare lo stato dell’arte della CSR in ambito nazionale e internazionale\, di esplorarne le possibili evoluzioni future\, ma soprattutto quello di mantenere il confronto tra i vari attori coinvolti e approfondire il ruolo che ciascuno di loro può avere nel far nascere idee e sviluppare metodi e strumenti volti a rafforzare la presenza della sostenibilità economica\, ambientale e sociale nelle politiche pubbliche\, nelle strategie e attività aziendali\, nello stile di vita dei cittadini.\nTra i partner dell’evento si segnalano: SCS Consulting e Bper Banca.\nPer maggiori informazioni è possibile consultare il seguente link o mandare una mail a: iscrizioni@gentil-eventi.it\nPer iscriversi è necessario compilare la scheda cartacea ed inviarla entro il 24 novembre 2016.\nProgramma
URL:https://www.improntaetica.org/evento/forum-della-csr-2016-iscrizioni-al-24-novembre/
LOCATION:Palazzo Altieri\, Piazza del Gesù 49\, Roma
END:VEVENT
BEGIN:VEVENT
DTSTART;TZID=Europe/Rome:20161028T143000
DTEND;TZID=Europe/Rome:20161028T180000
DTSTAMP:20260421T075524
CREATED:20161012T104113Z
LAST-MODIFIED:20161012T104113Z
UID:11294-1477665000-1477677600@www.improntaetica.org
SUMMARY:Animaimpresa: CSRDAY 2016
DESCRIPTION:L’edizione 2016 vuole fare il punto su tre temi di sviluppo della CSR: welfare aziendale\, Benefit Corporations e sostenibilità peer-to-peer\nL’evento – organizzato da Animaimpresa – intende promuovere la discussione riguardante i nuovi sviluppi in ambito di CSR\, attraverso il susseguirsi di interventi si parlerà di Welfare aziendale\, Benefit Corporation e Sostenibilità peer to peer.\nIl modello plurale di Welfare State che si sta delineando vede la compresenza di numerosi attori tra i quali gli enti pubblici\, il mondo produttivo e il Terzo settore. Le imprese\, attraverso il welfare aziendale\, possono concorrere al benessere dei propri dipendenti grazie a forme di sostegno indiretto al reddito e meccanismi di conciliazione dei tempi lavoro-famiglia.\nLa Legge di Stabilità 2016 introduce una nuova forma giuridica\, la ‘Società a beneficio comune’ o Benefit Corporation (B-Corp)\, un’impresa con una duplice natura\, for profit e for benefit\, che si propone di conciliare obiettivi di profitto con l’impatto positivo verso i dipendenti\, la comunità e l’ambiente.\nLa divulgazione della Responsabilità Sociale d’Impresa e Sostenibilità passa anche attraverso esperienze di comunicazione\, networking e iniziative dal basso. In modo tale da poter creare uno scambio arricchente e stimolante per le parti coinvolte.\nPer maggiori informazioni è possibile consultare il seguente link.\nE’ possibile iscriversi all’evento qui.\nProgramma
URL:https://www.improntaetica.org/evento/animaimpresa-csrday-2016/
ATTACH;FMTTYPE=:
END:VEVENT
BEGIN:VEVENT
DTSTART;VALUE=DATE:20161026
DTEND;VALUE=DATE:20161027
DTSTAMP:20260421T075524
CREATED:20161018T093218Z
LAST-MODIFIED:20161018T093218Z
UID:11323-1477440000-1477526399@www.improntaetica.org
SUMMARY:Arriva l’indice che misura il valore del Welfare Aziendale
DESCRIPTION:L’evento sarà l’occasione per presentare il nuovo Indice di Welfare e per trovare risposte concrete ai dubbi sul tema del welfare aziendale.\nDurante l’evento – promosso dal Network IEP – verrà presentato il nuovo Indice di Welfare: una metodologia utile alle aziende per misurare le caratteristiche del proprio welfare aziendale\, quantificarne i ritorni in termini di impatto tangibile e intangibile sull’impresa e i suoi collaboratori.\nDurante la giornata\, verranno inoltre svolti workshop tematici di approfondimento sul tema del welfare aziendale animati da 2-3 aziende del Network IEP che metteranno a disposizione la loro esperienza e la loro metodologia\, e da un moderatore di Eudaimon. Su alcuni temi specifici saranno coinvolti professionisti esterni.\nL’evento è gratuito previo accredito obbligatorio\, scrivendo a ufficiostampa@impreseepersone.org \nPer maggiori informazioni è possibile consultare il seguente link.
URL:https://www.improntaetica.org/evento/arriva-lindice-misura-valore-del-welfare-aziendale/
LOCATION:Spazio 10 Watt\, Via Giacomo Watt\, 10  \, Milano
ATTACH;FMTTYPE=:
END:VEVENT
BEGIN:VEVENT
DTSTART;TZID=Europe/Rome:20161013T140000
DTEND;TZID=Europe/Rome:20161013T180000
DTSTAMP:20260421T075524
CREATED:20160919T141310Z
LAST-MODIFIED:20160919T141310Z
UID:11137-1476367200-1476381600@www.improntaetica.org
SUMMARY:Responsabilità sociale d'impresa e Società Benefit
DESCRIPTION:Un convegno per comprendere cosa sono le Società Benefit e i vantaggi relativi alla certificazione.\nUnioncamere del Veneto e CSQA Certiﬁcazioni\, d’intesa con la Regione Veneto\, organizzano un convegno sulla Responsabilità Sociale d’Impresa all’interno del quale verranno presentate le Società Beneﬁt\, riconosciute come nuova forma giuridica di impresa dalla legge 208 del 2015 (legge di stabilità 2016) entrata in vigore dal primo gennaio 2016\, e la certiﬁcazione B-corp.\nL’evento permette di comprendere cosa si intende con Responsabilità Sociale d’Impresa\, cosa sono le B-Corp e come ottenere la certificazioni. Verranno inoltre messi in risalto i vantaggi di un’azienda socialmente responsabile.\nL’evento è co-organizzato con l’Ordine dei Consulenti del Lavoro della Provincia di Venezia e l’Ordine dei Dottori Commercialisti e degli Esperti Contabili di Venezia.\nE’ possibile iscriversi all’evento e avere maggiori informazioni al seguente link.\nProgramma
URL:https://www.improntaetica.org/evento/responsabilita-sociale-dimpresa-societa-benefit/
ATTACH;FMTTYPE=:
END:VEVENT
END:VCALENDAR