BEGIN:VCALENDAR
VERSION:2.0
PRODID:-//Impronta Etica - ECPv6.15.20//NONSGML v1.0//EN
CALSCALE:GREGORIAN
METHOD:PUBLISH
X-ORIGINAL-URL:https://www.improntaetica.org
X-WR-CALDESC:Eventi per Impronta Etica
REFRESH-INTERVAL;VALUE=DURATION:PT1H
X-Robots-Tag:noindex
X-PUBLISHED-TTL:PT1H
BEGIN:VTIMEZONE
TZID:Europe/Rome
BEGIN:DAYLIGHT
TZOFFSETFROM:+0100
TZOFFSETTO:+0200
TZNAME:CEST
DTSTART:20160327T010000
END:DAYLIGHT
BEGIN:STANDARD
TZOFFSETFROM:+0200
TZOFFSETTO:+0100
TZNAME:CET
DTSTART:20161030T010000
END:STANDARD
BEGIN:DAYLIGHT
TZOFFSETFROM:+0100
TZOFFSETTO:+0200
TZNAME:CEST
DTSTART:20170326T010000
END:DAYLIGHT
BEGIN:STANDARD
TZOFFSETFROM:+0200
TZOFFSETTO:+0100
TZNAME:CET
DTSTART:20171029T010000
END:STANDARD
BEGIN:DAYLIGHT
TZOFFSETFROM:+0100
TZOFFSETTO:+0200
TZNAME:CEST
DTSTART:20180325T010000
END:DAYLIGHT
BEGIN:STANDARD
TZOFFSETFROM:+0200
TZOFFSETTO:+0100
TZNAME:CET
DTSTART:20181028T010000
END:STANDARD
BEGIN:DAYLIGHT
TZOFFSETFROM:+0100
TZOFFSETTO:+0200
TZNAME:CEST
DTSTART:20190331T010000
END:DAYLIGHT
BEGIN:STANDARD
TZOFFSETFROM:+0200
TZOFFSETTO:+0100
TZNAME:CET
DTSTART:20191027T010000
END:STANDARD
BEGIN:DAYLIGHT
TZOFFSETFROM:+0100
TZOFFSETTO:+0200
TZNAME:CEST
DTSTART:20200329T010000
END:DAYLIGHT
BEGIN:STANDARD
TZOFFSETFROM:+0200
TZOFFSETTO:+0100
TZNAME:CET
DTSTART:20201025T010000
END:STANDARD
END:VTIMEZONE
BEGIN:VEVENT
DTSTART;TZID=Europe/Rome:20190409T090000
DTEND;TZID=Europe/Rome:20190409T170000
DTSTAMP:20260421T082801
CREATED:20190110T104646Z
LAST-MODIFIED:20190110T104646Z
UID:15972-1554800400-1554829200@www.improntaetica.org
SUMMARY:Tappa bolognese de “Il Salone della CSR e dell’innovazione sociale”
DESCRIPTION:Esperienze di sostenibilità e riflessione sul futuro del lavoro.\n\nTorna la tappa bolognese de “Il Salone della CSR e dell’innovazione sociale” organizzata da Impronta Etica\, con il supporto metodologico di SCS Consulting.\nL’evento\, che si svolgerà per l’intera giornata tra presentazioni di casi aziendali\, momenti di confronto e workshop\, vuole favorire un confronto multistakeholder orientato a creare un dialogo fattivo e proficuo tra tutti i soggetti che nel territorio hanno un ruolo primario nella promozione della sostenibilità come leva di sviluppo strategico.\nNell’ambito della più ampia riflessione su come l’impresa crea valore nel territorio\, un focus specifico dell’evento sarà quello del “futuro del lavoro”: di fronte ai cambiamenti economici\, sociali\, culturali e tecnologici che lo scenario 2030 pone\, qual è il ruolo delle imprese nel promuovere un’occupazione sostenibile\, nell’accompagnare i lavoratori nel processo di aggiornamento delle competenze\, nell’innovare i processi aziendali?\nProtagonisti dell’evento saranno le imprese eccellenti del territorio\, le Istituzioni locali e l’Università di Bologna\, attraverso il coinvolgimento dei suoi docenti e studenti.\nL’evento è gratuito. E’ gradita l’iscrizione a questo link.\nProgramma
URL:https://www.improntaetica.org/evento/tappa-bolognese-de-salone-della-csr-dellinnovazione-sociale/
LOCATION:DAMSLab\, Piazzetta P. P. Pasolini 5/b\, Bologna
ATTACH;FMTTYPE=:
END:VEVENT
BEGIN:VEVENT
DTSTART;VALUE=DATE:20181002
DTEND;VALUE=DATE:20181004
DTSTAMP:20260421T082801
CREATED:20180705T133354Z
LAST-MODIFIED:20180705T133354Z
UID:15134-1538438400-1538611199@www.improntaetica.org
SUMMARY:Il Salone della CSR e dell'innovazione sociale
DESCRIPTION:Le rotte della sostenibilità – il concept della 6°edizione.\nIl titolo della 6°edizione\, “Le rotte della sostenibilità“\, mette al centro dell’attenzione l’Agenda 2030 (17 obiettivi di sviluppo sostenibile). La vera sfida è scegliere le vie per arrivare in porto e il percorso più efficace con la consapevolezza che le rotte possono incrociarsi o cambiare a fronte di mutate condizioni. Per questo è necessario un progetto condiviso che aiuti le organizzazioni e le persone a viaggiare verso un futuro sostenibile.\nIl Salone della CSR e dell’innovazione sociale è un momento di aggiornamento\, confronto\, networking. Due giorni caratterizzati da oltre 80 incontri\, un programma culturale articolato per far crescere la cultura della CSR\, valorizzare le esperienze più interessanti e favorire il confronto tra i diversi attori.\nMaggiori informazioni sono disponibili al seguente link.\nIl programma dell’evento è consultabile al seguente link.\nSaloneCSR_presentazione2018
URL:https://www.improntaetica.org/evento/salone-della-csr-dellinnovazione-sociale-2/
ATTACH;FMTTYPE=:
END:VEVENT
BEGIN:VEVENT
DTSTART;TZID=Europe/Rome:20170530T100000
DTEND;TZID=Europe/Rome:20170530T173000
DTSTAMP:20260421T082801
CREATED:20170512T084013Z
LAST-MODIFIED:20170512T084013Z
UID:12718-1496138400-1496165400@www.improntaetica.org
SUMMARY:La tappa bolognese de “Il Salone della CSR e dell’innovazione sociale”
DESCRIPTION:L’Agenda ONU 2030 chiama imprese\, istituzioni e organizzazioni a concorrere al raggiungimento di ambiziosi Obiettivi di Sviluppo Sostenibile. Qual è la situazione ad oggi? E quali gli impegni e le sfide per il futuro?\nImpronta Etica\, con il supporto metodologico e organizzativo di SCS Consulting\, organizzerà per il secondo anno la tappa bolognese de “Il Salone della CSR e dell’innovazione sociale”.\nLa tappa bolognese di quest’anno avrà come tema gli Obiettivi di Sviluppo Sostenibile (SDGs) e rientrerà nell’ambito del Festival italiano dello sviluppo sostenibile\, promosso dall’ASviS – Alleanza Italiana per lo Sviluppo Sostenibile che\, dal 22 maggio al 7 giugno 2017\, prevede lo svolgimento di eventi organizzati dagli aderenti all’Alleanza su tutto il territorio nazionale che richiamino l’attenzione sul tema.\nL’obiettivo della tappa bolognese sarà di indagare come imprese\, istituzioni e organizzazioni stiano concorrendo al raggiungimento degli SDGs. L’evento intende promuovere un confronto multistakeholder sul tema\, rivolto in primo luogo agli studenti\, per mostrare come tutti questi attori stiano contribuendo concretamente al raggiungimento degli obiettivi stessi attraverso specifici progetti e/o iniziative di rilievo.\nMaggiori informazioni sono disponibili al seguente link.\nProgramma
URL:https://www.improntaetica.org/evento/la-tappa-bolognese-de-salone-della-csr-dellinnovazione-sociale-2/
LOCATION:Foyer – Teatro Comunale\, Largo Respighi 1\, Bologna
ATTACH;FMTTYPE=:
END:VEVENT
BEGIN:VEVENT
DTSTART;TZID=Europe/Rome:20170529T140000
DTEND;TZID=Europe/Rome:20170529T170000
DTSTAMP:20260421T082801
CREATED:20170512T083454Z
LAST-MODIFIED:20170512T083454Z
UID:12709-1496066400-1496077200@www.improntaetica.org
SUMMARY:La tappa bolognese de “Il Salone della CSR e dell’innovazione sociale”
DESCRIPTION:L’Agenda ONU 2030 chiama imprese\, istituzioni e organizzazioni a concorrere al raggiungimento di ambiziosi Obiettivi di Sviluppo Sostenibile. Qual è la situazione ad oggi? E quali gli impegni e le sfide per il futuro?\nImpronta Etica\, con il supporto metodologico e organizzativo di SCS Consulting\, organizzerà per il secondo anno la tappa bolognese de “Il Salone della CSR e dell’innovazione sociale”.\nLa tappa bolognese di quest’anno avrà come tema gli Obiettivi di Sviluppo Sostenibile (SDGs) e rientrerà nell’ambito del Festival italiano dello sviluppo sostenibile\, promosso dall’ASviS – Alleanza Italiana per lo Sviluppo Sostenibile che\, dal 22 maggio al 7 giugno 2017\, prevede lo svolgimento di eventi organizzati dagli aderenti all’Alleanza su tutto il territorio nazionale che richiamino l’attenzione sul tema.\nL’obiettivo della tappa bolognese sarà di indagare come imprese\, istituzioni e organizzazioni stiano concorrendo al raggiungimento degli SDGs. L’evento intende promuovere un confronto multistakeholder sul tema\, rivolto in primo luogo agli studenti\, per mostrare come tutti questi attori stiano contribuendo concretamente al raggiungimento degli obiettivi stessi attraverso specifici progetti e/o iniziative di rilievo.\nMaggiori informazioni sono disponibili al seguente link.\nProgramma
URL:https://www.improntaetica.org/evento/la-tappa-bolognese-de-salone-della-csr-dellinnovazione-sociale/
ATTACH;FMTTYPE=:
END:VEVENT
END:VCALENDAR