BEGIN:VCALENDAR
VERSION:2.0
PRODID:-//Impronta Etica - ECPv6.15.20//NONSGML v1.0//EN
CALSCALE:GREGORIAN
METHOD:PUBLISH
X-WR-CALNAME:Impronta Etica
X-ORIGINAL-URL:https://www.improntaetica.org
X-WR-CALDESC:Eventi per Impronta Etica
REFRESH-INTERVAL;VALUE=DURATION:PT1H
X-Robots-Tag:noindex
X-PUBLISHED-TTL:PT1H
BEGIN:VTIMEZONE
TZID:Europe/Rome
BEGIN:DAYLIGHT
TZOFFSETFROM:+0100
TZOFFSETTO:+0200
TZNAME:CEST
DTSTART:20220327T010000
END:DAYLIGHT
BEGIN:STANDARD
TZOFFSETFROM:+0200
TZOFFSETTO:+0100
TZNAME:CET
DTSTART:20221030T010000
END:STANDARD
BEGIN:DAYLIGHT
TZOFFSETFROM:+0100
TZOFFSETTO:+0200
TZNAME:CEST
DTSTART:20230326T010000
END:DAYLIGHT
BEGIN:STANDARD
TZOFFSETFROM:+0200
TZOFFSETTO:+0100
TZNAME:CET
DTSTART:20231029T010000
END:STANDARD
BEGIN:DAYLIGHT
TZOFFSETFROM:+0100
TZOFFSETTO:+0200
TZNAME:CEST
DTSTART:20240331T010000
END:DAYLIGHT
BEGIN:STANDARD
TZOFFSETFROM:+0200
TZOFFSETTO:+0100
TZNAME:CET
DTSTART:20241027T010000
END:STANDARD
END:VTIMEZONE
BEGIN:VEVENT
DTSTART;TZID=Europe/Rome:20231004T000000
DTEND;TZID=Europe/Rome:20231006T000000
DTSTAMP:20260421T072301
CREATED:20230607T130703Z
LAST-MODIFIED:20230607T130703Z
UID:37056-1696377600-1696550400@www.improntaetica.org
SUMMARY:04/10 - 06/10 | 11° Edizione del Salone della CSR e dell'Innovazione Sociale
DESCRIPTION:Abitare il cambiamento.\nSi terrà dal 4 al 6 ottobre presso l’Università Bocconi di Milano\, l’11° Edizione del Salone della CSR e dell’Innovazione Sociale dal titolo “Abitare il cambiamento“. \nLa sostenibilità è un processo in evoluzione: essere responsabili è l’unica strada possibile e misurare l’impatto è il punto di partenza per definire strategie efficaci per un futuro sostenibile. La sostenibilità è un percorso condiviso: solo la collaborazione tra i diversi attori sociali può portare nuove idee e soluzioni utili per le persone e per il pianeta. \nLa sostenibilità è cambiamento: è in atto una trasformazione degli stili di vita e del modo di gestire le organizzazioni per rispondere all’esigenza di un maggior impegno sociale e ambientale. \nPer abitare il cambiamento è necessario costruire una nuova bussola di valori\, credere nell’innovazione\, valorizzare il ruolo che ognuno gioca per lo sviluppo sostenibile. \nMaggiori informazioni sono disponibili al seguente link. \nE’ possibile consultare il programma al seguente link.
URL:https://www.improntaetica.org/evento/04-10-06-10-11-edizione-del-salone-della-csr-e-dellinnovazione-sociale/
ATTACH;FMTTYPE=image/jpeg:https://www.improntaetica.org/wp-content/uploads/2023/06/11-edi.jpg
END:VEVENT
END:VCALENDAR