BEGIN:VCALENDAR
VERSION:2.0
PRODID:-//Impronta Etica - ECPv6.15.20//NONSGML v1.0//EN
CALSCALE:GREGORIAN
METHOD:PUBLISH
X-WR-CALNAME:Impronta Etica
X-ORIGINAL-URL:https://www.improntaetica.org
X-WR-CALDESC:Eventi per Impronta Etica
REFRESH-INTERVAL;VALUE=DURATION:PT1H
X-Robots-Tag:noindex
X-PUBLISHED-TTL:PT1H
BEGIN:VTIMEZONE
TZID:Europe/Rome
BEGIN:DAYLIGHT
TZOFFSETFROM:+0100
TZOFFSETTO:+0200
TZNAME:CEST
DTSTART:20210328T010000
END:DAYLIGHT
BEGIN:STANDARD
TZOFFSETFROM:+0200
TZOFFSETTO:+0100
TZNAME:CET
DTSTART:20211031T010000
END:STANDARD
BEGIN:DAYLIGHT
TZOFFSETFROM:+0100
TZOFFSETTO:+0200
TZNAME:CEST
DTSTART:20220327T010000
END:DAYLIGHT
BEGIN:STANDARD
TZOFFSETFROM:+0200
TZOFFSETTO:+0100
TZNAME:CET
DTSTART:20221030T010000
END:STANDARD
BEGIN:DAYLIGHT
TZOFFSETFROM:+0100
TZOFFSETTO:+0200
TZNAME:CEST
DTSTART:20230326T010000
END:DAYLIGHT
BEGIN:STANDARD
TZOFFSETFROM:+0200
TZOFFSETTO:+0100
TZNAME:CET
DTSTART:20231029T010000
END:STANDARD
END:VTIMEZONE
BEGIN:VEVENT
DTSTART;TZID=Europe/Rome:20221003T000000
DTEND;TZID=Europe/Rome:20221005T000000
DTSTAMP:20260421T082741
CREATED:20220504T151250Z
LAST-MODIFIED:20220922T091651Z
UID:34777-1664755200-1664928000@www.improntaetica.org
SUMMARY:03/10-05/10 | Salone della CSR e dell'innovazione sociale
DESCRIPTION:Connessioni sostenibili.\nSi terrà il 3\, 4 e 5 ottobre la decima edizione del Salone della CSR e dell’innovazione sociale dal tema “Connessioni sostenibili“\, presso l’Università Bocconi di Milano. \nE’ possibile consultare il programma al seguente link. \nMaggiori informazioni sono disponibili al seguente link. 
URL:https://www.improntaetica.org/evento/03-0510-decima-edizione-del-salone-della-csr-e-dellinnovazione-sociale/
ATTACH;FMTTYPE=image/png:https://www.improntaetica.org/wp-content/uploads/2019/08/Salone-CSR-e1530797613406.png
END:VEVENT
END:VCALENDAR