BEGIN:VCALENDAR
VERSION:2.0
PRODID:-//Impronta Etica - ECPv6.15.20//NONSGML v1.0//EN
CALSCALE:GREGORIAN
METHOD:PUBLISH
X-WR-CALNAME:Impronta Etica
X-ORIGINAL-URL:https://www.improntaetica.org
X-WR-CALDESC:Eventi per Impronta Etica
REFRESH-INTERVAL;VALUE=DURATION:PT1H
X-Robots-Tag:noindex
X-PUBLISHED-TTL:PT1H
BEGIN:VTIMEZONE
TZID:Europe/Rome
BEGIN:DAYLIGHT
TZOFFSETFROM:+0100
TZOFFSETTO:+0200
TZNAME:CEST
DTSTART:20230326T010000
END:DAYLIGHT
BEGIN:STANDARD
TZOFFSETFROM:+0200
TZOFFSETTO:+0100
TZNAME:CET
DTSTART:20231029T010000
END:STANDARD
BEGIN:DAYLIGHT
TZOFFSETFROM:+0100
TZOFFSETTO:+0200
TZNAME:CEST
DTSTART:20240331T010000
END:DAYLIGHT
BEGIN:STANDARD
TZOFFSETFROM:+0200
TZOFFSETTO:+0100
TZNAME:CET
DTSTART:20241027T010000
END:STANDARD
BEGIN:DAYLIGHT
TZOFFSETFROM:+0100
TZOFFSETTO:+0200
TZNAME:CEST
DTSTART:20250330T010000
END:DAYLIGHT
BEGIN:STANDARD
TZOFFSETFROM:+0200
TZOFFSETTO:+0100
TZNAME:CET
DTSTART:20251026T010000
END:STANDARD
BEGIN:DAYLIGHT
TZOFFSETFROM:+0100
TZOFFSETTO:+0200
TZNAME:CEST
DTSTART:20260329T010000
END:DAYLIGHT
BEGIN:STANDARD
TZOFFSETFROM:+0200
TZOFFSETTO:+0100
TZNAME:CET
DTSTART:20261025T010000
END:STANDARD
END:VTIMEZONE
BEGIN:VEVENT
DTSTART;TZID=Europe/Rome:20250415T090000
DTEND;TZID=Europe/Rome:20250415T180000
DTSTAMP:20260423T152904
CREATED:20250312T142015Z
LAST-MODIFIED:20250313T150243Z
UID:40917-1744707600-1744740000@www.improntaetica.org
SUMMARY:15/04 | Sustainable Economy Forum
DESCRIPTION:Un evento dedicato alla transizione verde e digitale.\nSi terrà il 15 aprile dalle 9.00 alle 18.00 presso la Comunità di San Patrignano a Coriano\, Rimini\, il Sustainable Economy Forum\, un evento ideato da Confindustria e Comunità San Patrignano che\, giunto alla sua settima edizione\, si conferma come un evento internazionale di riflessione e scambio per offrire soluzioni a lungo termine in risposta alle sfide globali. \nL’edizione di quest’anno intende approfondire i temi al centro del dibattito politico ed economico. A partire da un’analisi del futuro della transizione verde e digitale l’evento con il contributo di imprese\, esperti e istituzioni approfondirà le diverse sfaccettature della sostenibilità. \nDurante gli interventi saranno toccati temi quali la dimensione sociale della sostenibilità\, la crescita e l’innovazione\, il ruolo della finanza\, il contributo italiano al nuovo Piano Mattei per il continente africano. \nE’ possibile iscriversi all’evento al seguente link. \nMaggiori informazioni sul programma dell’evento sono disponibili al seguente link.
URL:https://www.improntaetica.org/evento/15-04-sustainable-economy-forum/
CATEGORIES:Eventi 2025
ATTACH;FMTTYPE=image/jpeg:https://www.improntaetica.org/wp-content/uploads/2025/03/logo-SEF_orizz-e1741279250218.jpg
END:VEVENT
BEGIN:VEVENT
DTSTART;TZID=Europe/Rome:20240411T090000
DTEND;TZID=Europe/Rome:20240411T090000
DTSTAMP:20260423T152904
CREATED:20240226T074605Z
LAST-MODIFIED:20240226T074605Z
UID:38539-1712826000-1712826000@www.improntaetica.org
SUMMARY:11/04 | Sustainable Economy Forum 2024
DESCRIPTION:L’evento di riflessione e confronto per cercare soluzioni a questioni globali.\nLa sesta edizione del Sustainable Economy Forum si terrà giovedì 11 aprile 2024. \nOrganizzato da Confindustria e da Comunità San Patrignano \, il Sustainable Economy Forum si è consolidato negli anni come un evento internazionale di riflessione e scambio di esperienze con imprenditori\, economisti\, policy-makers\, attori sociali\, intellettuali per offrire soluzioni a lungo termine ai più pressanti temi globali. \nL’edizione 2024 approfondirà le questioni politiche e sociali più urgenti a partire dai temi al centro del dibattito pubblico: \n\nAccelerare la transizione: green\, digital\, education\, innovation\nLe transizioni nel dialogo fra le generazioni\nInfrastrutture ed energia\nFinanza e banche\nL’Africa e il contributo dell’Italia\nLa dimensione socio-economica della sostenibilità\n\nE’ possibile iscriversi al seguente link. \nMaggiori informazioni sono disponibili al seguente link.
URL:https://www.improntaetica.org/evento/11-04-sustainable-economy-forum-2024/
ATTACH;FMTTYPE=image/jpeg:https://www.improntaetica.org/wp-content/uploads/2024/02/sust-eco.jpg
END:VEVENT
END:VCALENDAR