BEGIN:VCALENDAR
VERSION:2.0
PRODID:-//Impronta Etica - ECPv6.15.20//NONSGML v1.0//EN
CALSCALE:GREGORIAN
METHOD:PUBLISH
X-WR-CALNAME:Impronta Etica
X-ORIGINAL-URL:https://www.improntaetica.org
X-WR-CALDESC:Eventi per Impronta Etica
REFRESH-INTERVAL;VALUE=DURATION:PT1H
X-Robots-Tag:noindex
X-PUBLISHED-TTL:PT1H
BEGIN:VTIMEZONE
TZID:Europe/Rome
BEGIN:DAYLIGHT
TZOFFSETFROM:+0100
TZOFFSETTO:+0200
TZNAME:CEST
DTSTART:20230326T010000
END:DAYLIGHT
BEGIN:STANDARD
TZOFFSETFROM:+0200
TZOFFSETTO:+0100
TZNAME:CET
DTSTART:20231029T010000
END:STANDARD
BEGIN:DAYLIGHT
TZOFFSETFROM:+0100
TZOFFSETTO:+0200
TZNAME:CEST
DTSTART:20240331T010000
END:DAYLIGHT
BEGIN:STANDARD
TZOFFSETFROM:+0200
TZOFFSETTO:+0100
TZNAME:CET
DTSTART:20241027T010000
END:STANDARD
BEGIN:DAYLIGHT
TZOFFSETFROM:+0100
TZOFFSETTO:+0200
TZNAME:CEST
DTSTART:20250330T010000
END:DAYLIGHT
BEGIN:STANDARD
TZOFFSETFROM:+0200
TZOFFSETTO:+0100
TZNAME:CET
DTSTART:20251026T010000
END:STANDARD
END:VTIMEZONE
BEGIN:VEVENT
DTSTART;TZID=Europe/Rome:20240307T120000
DTEND;TZID=Europe/Rome:20240307T130000
DTSTAMP:20260421T043826
CREATED:20240222T162431Z
LAST-MODIFIED:20240222T162431Z
UID:38508-1709812800-1709816400@www.improntaetica.org
SUMMARY:07/03 | Investimenti infrastrutturali e sviluppo sostenibile
DESCRIPTION:Un’esperienza nel settore sanitario.\nLe infrastrutture svolgono un ruolo chiave nella transizione dell’economia verso un modello di crescita sostenibile\, con investimenti previsti di circa €350 miliardi entro il 2027\, di cui solo una parte proveniente dall’Unione Europea. Emergono quindi opportunità significative di investimento nel settore delle infrastrutture\, che si configura come motore nella realizzazione della transizione offrendo potenzialità di impatto ambientale e sociale così come di allineamento con gli Obiettivi di Sviluppo Sostenibile definiti dalle Nazioni Unite. \nIl webinar\, organizzato dal Forum per la Finanza Sostenibile in collaborazione con DWS\, analizzerà le potenzialità di investire nel settore delle infrastrutture con un focus sul settore sanitario\, mostrando gli effetti positivi sul piano ESG legati a una gestione attiva. \nSeguirà programma dettagliato. \nMaggiori informazioni sono disponibili al seguente link. \nE’ possibile iscriversi al seguente link.
URL:https://www.improntaetica.org/evento/07-03-investimenti-infrastrutturali-e-sviluppo-sostenibile/
ATTACH;FMTTYPE=image/png:https://www.improntaetica.org/wp-content/uploads/2022/06/forum-finanza-sost.png
END:VEVENT
END:VCALENDAR