BEGIN:VCALENDAR
VERSION:2.0
PRODID:-//Impronta Etica - ECPv6.15.20//NONSGML v1.0//EN
CALSCALE:GREGORIAN
METHOD:PUBLISH
X-ORIGINAL-URL:https://www.improntaetica.org
X-WR-CALDESC:Eventi per Impronta Etica
REFRESH-INTERVAL;VALUE=DURATION:PT1H
X-Robots-Tag:noindex
X-PUBLISHED-TTL:PT1H
BEGIN:VTIMEZONE
TZID:Europe/Rome
BEGIN:DAYLIGHT
TZOFFSETFROM:+0100
TZOFFSETTO:+0200
TZNAME:CEST
DTSTART:20210328T010000
END:DAYLIGHT
BEGIN:STANDARD
TZOFFSETFROM:+0200
TZOFFSETTO:+0100
TZNAME:CET
DTSTART:20211031T010000
END:STANDARD
BEGIN:DAYLIGHT
TZOFFSETFROM:+0100
TZOFFSETTO:+0200
TZNAME:CEST
DTSTART:20220327T010000
END:DAYLIGHT
BEGIN:STANDARD
TZOFFSETFROM:+0200
TZOFFSETTO:+0100
TZNAME:CET
DTSTART:20221030T010000
END:STANDARD
BEGIN:DAYLIGHT
TZOFFSETFROM:+0100
TZOFFSETTO:+0200
TZNAME:CEST
DTSTART:20230326T010000
END:DAYLIGHT
BEGIN:STANDARD
TZOFFSETFROM:+0200
TZOFFSETTO:+0100
TZNAME:CET
DTSTART:20231029T010000
END:STANDARD
END:VTIMEZONE
BEGIN:VEVENT
DTSTART;TZID=Europe/Rome:20220407T093000
DTEND;TZID=Europe/Rome:20220407T170000
DTSTAMP:20260421T003030
CREATED:20220315T125503Z
LAST-MODIFIED:20220315T125503Z
UID:34545-1649323800-1649350800@www.improntaetica.org
SUMMARY:07\04 | San Patrignano: Sustainable Economy Forum
DESCRIPTION:La quarta edizione del Forum sulla sostenibilità torna in modalità mista.\nPromosso da Confindustria e San Patrignano\, il Forum sull’Economia Sostenibile torna in modalità mista riprendendo il percorso intrapreso sul tema della sostenibilità con l’obiettivo di offrire risposte alle urgenti sfide del nostro tempo. \nImprenditori\, economisti\, policy-makers ed esperti di primo piano torneranno a confrontarsi  sull’attuazione del Piano Nazionale di Ripresa e Resilienza con uno sguardo europeo e internazionale\, stimolando la riflessione\, lo scambio di esperienze e la ricerca di soluzioni a lungo termine. \nMaggiori informazioni sono disponibili al seguente link. \nScopri il programma 
URL:https://www.improntaetica.org/evento/0704-san-patrignano-sustainable-economy-forum/
ATTACH;FMTTYPE=image/png:https://www.improntaetica.org/wp-content/uploads/2022/03/san-patrignano.png
END:VEVENT
END:VCALENDAR