BEGIN:VCALENDAR
VERSION:2.0
PRODID:-//Impronta Etica - ECPv6.15.20//NONSGML v1.0//EN
CALSCALE:GREGORIAN
METHOD:PUBLISH
X-ORIGINAL-URL:https://www.improntaetica.org
X-WR-CALDESC:Eventi per Impronta Etica
REFRESH-INTERVAL;VALUE=DURATION:PT1H
X-Robots-Tag:noindex
X-PUBLISHED-TTL:PT1H
BEGIN:VTIMEZONE
TZID:Europe/Rome
BEGIN:DAYLIGHT
TZOFFSETFROM:+0100
TZOFFSETTO:+0200
TZNAME:CEST
DTSTART:20160327T010000
END:DAYLIGHT
BEGIN:STANDARD
TZOFFSETFROM:+0200
TZOFFSETTO:+0100
TZNAME:CET
DTSTART:20161030T010000
END:STANDARD
BEGIN:DAYLIGHT
TZOFFSETFROM:+0100
TZOFFSETTO:+0200
TZNAME:CEST
DTSTART:20170326T010000
END:DAYLIGHT
BEGIN:STANDARD
TZOFFSETFROM:+0200
TZOFFSETTO:+0100
TZNAME:CET
DTSTART:20171029T010000
END:STANDARD
BEGIN:DAYLIGHT
TZOFFSETFROM:+0100
TZOFFSETTO:+0200
TZNAME:CEST
DTSTART:20180325T010000
END:DAYLIGHT
BEGIN:STANDARD
TZOFFSETFROM:+0200
TZOFFSETTO:+0100
TZNAME:CET
DTSTART:20181028T010000
END:STANDARD
BEGIN:DAYLIGHT
TZOFFSETFROM:+0100
TZOFFSETTO:+0200
TZNAME:CEST
DTSTART:20190331T010000
END:DAYLIGHT
BEGIN:STANDARD
TZOFFSETFROM:+0200
TZOFFSETTO:+0100
TZNAME:CET
DTSTART:20191027T010000
END:STANDARD
BEGIN:DAYLIGHT
TZOFFSETFROM:+0100
TZOFFSETTO:+0200
TZNAME:CEST
DTSTART:20200329T010000
END:DAYLIGHT
BEGIN:STANDARD
TZOFFSETFROM:+0200
TZOFFSETTO:+0100
TZNAME:CET
DTSTART:20201025T010000
END:STANDARD
BEGIN:DAYLIGHT
TZOFFSETFROM:+0100
TZOFFSETTO:+0200
TZNAME:CEST
DTSTART:20210328T010000
END:DAYLIGHT
BEGIN:STANDARD
TZOFFSETFROM:+0200
TZOFFSETTO:+0100
TZNAME:CET
DTSTART:20211031T010000
END:STANDARD
BEGIN:DAYLIGHT
TZOFFSETFROM:+0100
TZOFFSETTO:+0200
TZNAME:CEST
DTSTART:20220327T010000
END:DAYLIGHT
BEGIN:STANDARD
TZOFFSETFROM:+0200
TZOFFSETTO:+0100
TZNAME:CET
DTSTART:20221030T010000
END:STANDARD
BEGIN:DAYLIGHT
TZOFFSETFROM:+0100
TZOFFSETTO:+0200
TZNAME:CEST
DTSTART:20230326T010000
END:DAYLIGHT
BEGIN:STANDARD
TZOFFSETFROM:+0200
TZOFFSETTO:+0100
TZNAME:CET
DTSTART:20231029T010000
END:STANDARD
BEGIN:DAYLIGHT
TZOFFSETFROM:+0100
TZOFFSETTO:+0200
TZNAME:CEST
DTSTART:20240331T010000
END:DAYLIGHT
BEGIN:STANDARD
TZOFFSETFROM:+0200
TZOFFSETTO:+0100
TZNAME:CET
DTSTART:20241027T010000
END:STANDARD
BEGIN:DAYLIGHT
TZOFFSETFROM:+0100
TZOFFSETTO:+0200
TZNAME:CEST
DTSTART:20250330T010000
END:DAYLIGHT
BEGIN:STANDARD
TZOFFSETFROM:+0200
TZOFFSETTO:+0100
TZNAME:CET
DTSTART:20251026T010000
END:STANDARD
BEGIN:DAYLIGHT
TZOFFSETFROM:+0100
TZOFFSETTO:+0200
TZNAME:CEST
DTSTART:20260329T010000
END:DAYLIGHT
BEGIN:STANDARD
TZOFFSETFROM:+0200
TZOFFSETTO:+0100
TZNAME:CET
DTSTART:20261025T010000
END:STANDARD
END:VTIMEZONE
BEGIN:VEVENT
DTSTART;TZID=Europe/Rome:20250325T114500
DTEND;TZID=Europe/Rome:20250325T123000
DTSTAMP:20260421T055647
CREATED:20250319T164108Z
LAST-MODIFIED:20250319T164108Z
UID:40991-1742903100-1742905800@www.improntaetica.org
SUMMARY:25/03 | Seminario sul Bilancio di Impatto
DESCRIPTION:Misurare e comunicare il valore sociale d’azienda.\nIl 25 marzo si terrà dalle 11.45 alle 12.30 presso la Biblioteca Comunale Natalia Ginzburg di Castel Maggiore\, Via Bondanello 39\, Castel Maggiore (BO)\,  all’interno della seconda edizione della Fiera del Lavoro 2025 dell’Unione Reno Galliera il seminario sul bilancio di impatto in collaborazione tra il FaLab di Castel Maggiore e Impronta Etica. \nIl seminario rappresenta un’opportunità per le imprese per comprendere il valore strategico del bilancio di impatto come strumento per misurare e comunicare il valore sociale ed economico generato dalle loro attività. In questo seminario\, i partecipanti impareranno a integrare pratiche di misurazione dell’impatto nei loro modelli di business\, comprendendo come queste possano migliorare la reputazione aziendale\, attrarre talenti e favorire decisioni più consapevoli. \nAttraverso casi concreti e metodi pratici\, sarà possibile comprendere come il bilancio di impatto possa diventare un driver di cambiamento positivo all’interno e all’esterno dell’azienda. \nE’ possibile registrarsi al seguente link.
URL:https://www.improntaetica.org/evento/25-03-seminario-sul-bilancio-di-impatto/
CATEGORIES:Eventi 2025
ATTACH;FMTTYPE=image/png:https://www.improntaetica.org/wp-content/uploads/2025/03/seminario-e1742377002571.png
END:VEVENT
BEGIN:VEVENT
DTSTART;TZID=Europe/Rome:20230317T090000
DTEND;TZID=Europe/Rome:20230317T160000
DTSTAMP:20260421T055647
CREATED:20230309T144410Z
LAST-MODIFIED:20230309T144410Z
UID:36587-1679043600-1679068800@www.improntaetica.org
SUMMARY:17/03 | Energy technologies for the mobility revolution
DESCRIPTION:Seminario organizzato dal Politecnico di Milano.\nIl Politecnico di Milano organizza un seminario a partecipazione libera dal titolo “Energy technologies for the mobility revolution”. \nL’evento si terrà in forma ibrida\, tramite diretta streaming YouTube e presso il Campus Bovis\, Carassa Dadda Conference Hall\, Politecnico di Milano.  \nE’ possibile registrarsi al seguente link. \nMaggiori informazioni sono disponibili al seguente link. \nSCARICA IL PROGRAMMA
URL:https://www.improntaetica.org/evento/17-03-energy-technologies-for-the-mobility-revolution/
ATTACH;FMTTYPE=image/jpeg:https://www.improntaetica.org/wp-content/uploads/2023/03/SCARICA-IL-VOLANTINO.jpg
END:VEVENT
BEGIN:VEVENT
DTSTART;TZID=Europe/Rome:20230126T093000
DTEND;TZID=Europe/Rome:20230126T130000
DTSTAMP:20260421T055647
CREATED:20230110T094942Z
LAST-MODIFIED:20230110T095239Z
UID:36132-1674725400-1674738000@www.improntaetica.org
SUMMARY:26/01 | Public Procurement & Economia Sociale
DESCRIPTION:La spesa pubblica come leva di sviluppo sostenibile.\nSi terrà il 26 gennaio\, dalle 9.30 alle 13\, presso la Sala B della Torre Legacoop Bologna (Viale Aldo Moro 16\, Bologna)\, il seminario organizzato da Legacoop Bologna incentrato sull’utilizzo dell’appalto pubblico come leva di sviluppo sostenibile. In particolare l’obiettivo sarà quello di analizzare a fondo il rapporto tra amministrazione pubblica e soggetti privati nella gestione delle commesse pubbliche. \nDurante l’evento\, si realizzeranno quattro distinti workshop\, così suddivisi: \n\nGli strumenti per promuovere la qualità del lavoro e la qualità dei servizi negli appalti labour intensive;\nCo-programmazione e co-progettazione come strumento che mette al centro l’interesse generale della comunità e la risposta ai bisogni delle persone;\nLe Partnership Pubblico-Private e le concessioni come strumenti di co-investimenti economici\, sociali e ambientali di lungo periodo;\nL’inclusione lavorativa negli appalti per promuovere la dignità del lavoro per le persone fragili e svantaggiate.\n\nPer partecipare è necessario iscriversi al seguente link. \nMaggiori informazioni sono disponibili al seguente link. \nSCARICA IL PROGRAMMA
URL:https://www.improntaetica.org/evento/26-01-legacoop-bologna-public-procurement-economia-sociale/
ATTACH;FMTTYPE=image/png:https://www.improntaetica.org/wp-content/uploads/2021/04/legacoop-e1618575610113.png
END:VEVENT
BEGIN:VEVENT
DTSTART;TZID=Europe/Rome:20220330T100000
DTEND;TZID=Europe/Rome:20220330T130000
DTSTAMP:20260421T055647
CREATED:20220223T105450Z
LAST-MODIFIED:20220223T105450Z
UID:34458-1648634400-1648645200@www.improntaetica.org
SUMMARY:30\03| Seminario "Rischi e scenari: quali opportunità per le imprese?"
DESCRIPTION:Un evento pubblico organizzato da Impronta Etica insieme all’Università degli Studi di Bologna.\nImpronta Etica insieme all’Università degli studi di Bologna organizza un evento pubblico il 30 marzo dalle ore 10:00 dal titolo “Rischi e scenari: quali opportunità per le imprese?“. \nIl seminario si focalizzerà sull’importanza per le imprese di identificare e prevenire i rischi e gli scenari di lungo periodo. Partendo da un inquadramento teorico del tema\, il seminario vuole dare spazio alla voce delle imprese per approfondire come il tema si traduce nella pratica. \nPer partecipare all’evento e ricevere i riferimenti per il collegamento\, è necessario iscriversi compilando compilando il seguente modulo online.  \nSCARICA IL PROGRAMMA
URL:https://www.improntaetica.org/evento/3003-seminario-rischi-e-scenari-quali-opportunita-per-le-imprese/
ATTACH;FMTTYPE=image/png:https://www.improntaetica.org/wp-content/uploads/2021/04/ie-e-unibo.png
END:VEVENT
BEGIN:VEVENT
DTSTART;TZID=Europe/Rome:20171116T150000
DTEND;TZID=Europe/Rome:20171116T180000
DTSTAMP:20260421T055647
CREATED:20171031T162230Z
LAST-MODIFIED:20171031T162230Z
UID:13794-1510844400-1510855200@www.improntaetica.org
SUMMARY:Seminario sulla Sostenibilità e Competitività
DESCRIPTION:Il contributo di Impronta Etica su “Come misurare l’impatto sociale”.\nCRIT organizza il seminario “Sostenibilità e competitività: nuove tecnologie per misurare la performance economica\, ambientale e sociale“.\nL’evento si propone di contribuire al dibattito inerente l’integrazione della sostenibilità all’interno della strategia aziendale. In particolare\, intende affrontare il tema dell’uso di strumenti e metodologie innovative per misurare la sostenibilità delle imprese attraverso indicatori di performance economica\, ambientale e sociale estendibili anche a tutta la catena del valore.\nTra i relatori interverrà anche Elisa Petrini di Impronta Etica portando un contributo su “Come misurare l’impatto sociale”.\nModera il seminario Daniele Vacchi\, Direttore Corporate Communications di IMA e vice-presidente dell’associazione Amici del Museo del Patrimonio Industriale.\nMaggiori informazioni sono disponibili al seguente link.\nPer esigenze organizzative è richiesta l’iscrizione al seguente link.\nProgramma Seminario Sostenibilità e competitività_CRIT
URL:https://www.improntaetica.org/evento/seminario-sulla-sostenibilita-competitivita/
LOCATION:Museo del Patrimonio Industriale\,  Via della Beverara\, 123\, Bologna\, 40131\, Italia
ATTACH;FMTTYPE=:
ORGANIZER;CN="CRIT":MAILTO:info@crit-research.it
END:VEVENT
END:VCALENDAR