BEGIN:VCALENDAR
VERSION:2.0
PRODID:-//Impronta Etica - ECPv6.15.20//NONSGML v1.0//EN
CALSCALE:GREGORIAN
METHOD:PUBLISH
X-WR-CALNAME:Impronta Etica
X-ORIGINAL-URL:https://www.improntaetica.org
X-WR-CALDESC:Eventi per Impronta Etica
REFRESH-INTERVAL;VALUE=DURATION:PT1H
X-Robots-Tag:noindex
X-PUBLISHED-TTL:PT1H
BEGIN:VTIMEZONE
TZID:Europe/Rome
BEGIN:DAYLIGHT
TZOFFSETFROM:+0100
TZOFFSETTO:+0200
TZNAME:CEST
DTSTART:20170326T010000
END:DAYLIGHT
BEGIN:STANDARD
TZOFFSETFROM:+0200
TZOFFSETTO:+0100
TZNAME:CET
DTSTART:20171029T010000
END:STANDARD
BEGIN:DAYLIGHT
TZOFFSETFROM:+0100
TZOFFSETTO:+0200
TZNAME:CEST
DTSTART:20180325T010000
END:DAYLIGHT
BEGIN:STANDARD
TZOFFSETFROM:+0200
TZOFFSETTO:+0100
TZNAME:CET
DTSTART:20181028T010000
END:STANDARD
BEGIN:DAYLIGHT
TZOFFSETFROM:+0100
TZOFFSETTO:+0200
TZNAME:CEST
DTSTART:20190331T010000
END:DAYLIGHT
BEGIN:STANDARD
TZOFFSETFROM:+0200
TZOFFSETTO:+0100
TZNAME:CET
DTSTART:20191027T010000
END:STANDARD
END:VTIMEZONE
BEGIN:VEVENT
DTSTART;VALUE=DATE:20181113
DTEND;VALUE=DATE:20181123
DTSTAMP:20260421T090835
CREATED:20180910T100831Z
LAST-MODIFIED:20180910T100831Z
UID:15360-1542067200-1542931199@www.improntaetica.org
SUMMARY:Settimana SRI 2018
DESCRIPTION:Settimana dell’Investimento Sostenibile e Responsabile.\nL’iniziativa promossa e coordinata dal Forum per la Finanza Sostenibile\, quest’anno alla settima edizione\, è tra i principali appuntamenti in Italia in materia di investimenti sostenibili.\nIl calendario prevede 13 convegni e una rassegna di eventi culturali tra Roma e Milano – tutti aperti al pubblico – con lo scopo promuovere e diffondere la pratica dell’SRI (Sustainable and Responsible Investment).\nIl programma in aggiornamento è consultabile a questo link. \nMaggiori informazioni sono disponibili al seguente link.\nCalendario SettimanaSRI 2018
URL:https://www.improntaetica.org/evento/settimana-sri-2018/
ATTACH;FMTTYPE=:
END:VEVENT
END:VCALENDAR