BEGIN:VCALENDAR
VERSION:2.0
PRODID:-//Impronta Etica - ECPv6.15.20//NONSGML v1.0//EN
CALSCALE:GREGORIAN
METHOD:PUBLISH
X-ORIGINAL-URL:https://www.improntaetica.org
X-WR-CALDESC:Eventi per Impronta Etica
REFRESH-INTERVAL;VALUE=DURATION:PT1H
X-Robots-Tag:noindex
X-PUBLISHED-TTL:PT1H
BEGIN:VTIMEZONE
TZID:Europe/Rome
BEGIN:DAYLIGHT
TZOFFSETFROM:+0100
TZOFFSETTO:+0200
TZNAME:CEST
DTSTART:20230326T010000
END:DAYLIGHT
BEGIN:STANDARD
TZOFFSETFROM:+0200
TZOFFSETTO:+0100
TZNAME:CET
DTSTART:20231029T010000
END:STANDARD
BEGIN:DAYLIGHT
TZOFFSETFROM:+0100
TZOFFSETTO:+0200
TZNAME:CEST
DTSTART:20240331T010000
END:DAYLIGHT
BEGIN:STANDARD
TZOFFSETFROM:+0200
TZOFFSETTO:+0100
TZNAME:CET
DTSTART:20241027T010000
END:STANDARD
BEGIN:DAYLIGHT
TZOFFSETFROM:+0100
TZOFFSETTO:+0200
TZNAME:CEST
DTSTART:20250330T010000
END:DAYLIGHT
BEGIN:STANDARD
TZOFFSETFROM:+0200
TZOFFSETTO:+0100
TZNAME:CET
DTSTART:20251026T010000
END:STANDARD
BEGIN:DAYLIGHT
TZOFFSETFROM:+0100
TZOFFSETTO:+0200
TZNAME:CEST
DTSTART:20260329T010000
END:DAYLIGHT
BEGIN:STANDARD
TZOFFSETFROM:+0200
TZOFFSETTO:+0100
TZNAME:CET
DTSTART:20261025T010000
END:STANDARD
END:VTIMEZONE
BEGIN:VEVENT
DTSTART;VALUE=DATE:20251028
DTEND;VALUE=DATE:20251112
DTSTAMP:20260421T084515
CREATED:20250923T152009Z
LAST-MODIFIED:20250923T152009Z
UID:41715-1761609600-1762905599@www.improntaetica.org
SUMMARY:28/10-12/11 | Settimane SRI dell'investimento sostenibile e responsabile
DESCRIPTION:Al via la 14esima edizione delle Settimane SRI del Forum Finanza Sostenibile.\nSi terrà dal 28 ottobre al 12 novembre 2025 la 14esima edizione delle Settimane dell’Investimento Sostenibile e Responsabile a cura del Forum Finanza Sostenibile\, di cui Impronta Etica è Socio\, il principale evento nazionale dedicato alla finanza sostenibile. \nDurante le Settimane SRI si svolgeranno eventi sia in presenza\, a Milano e Roma\, che online si esploreranno diverse tematiche legate alla finanza sostenibile\, riflettendo su quelle che sono le traiettorie future che mirano a dare uno sviluppo sostenibile al mondo finanziario. \nL’evento di apertura delle Settimane SRI si terrà il 28 ottobre presso il Luiss Hub\, via M. d’Azeglio 3\, a Milano dal titolo “A prova di futuro: giovani\, sostenibilità e investimenti”\, esplorerà le attitudini e l’approccio dei giovani rispetto al risparmio e agli investimenti\, alla sostenibilità e ai prodotti di investimento sostenibili. \nMaggiori informazioni sul programma delle Settimane SRI è disponibile al seguente link. \nMaggiori informazioni su come registrarsi all’evento di apertura è disponibile al seguente link.
URL:https://www.improntaetica.org/evento/28-10-12-11-settimane-sri-dellinvestimento-sostenibile-e-responsabile/
CATEGORIES:Eventi 2025
ATTACH;FMTTYPE=image/png:https://www.improntaetica.org/wp-content/uploads/2025/06/ffs-e1758640784996.png
END:VEVENT
BEGIN:VEVENT
DTSTART;TZID=Europe/Rome:20241104T160000
DTEND;TZID=Europe/Rome:20241104T180000
DTSTAMP:20260421T084515
CREATED:20240906T071959Z
LAST-MODIFIED:20241030T083043Z
UID:39668-1730736000-1730743200@www.improntaetica.org
SUMMARY:04/11 | RENDICONTAZIONE E IMPRESE: TRA NORMATIVA E STRATEGIA
DESCRIPTION:L’evento di Impronta Etica all’interno delle Settimane SRI.\nIl 4 novembre 2024 a Bologna dalle ore 16.00 alle ore 18.00 presso l’Hotel I Portici in via dell’indipendenza 69 a Bologna\, all’interno della tredicesima edizione delle Settimane SRI 2024 del Forum per la Finanza Sostenibile si svolgerà l’evento organizzato da Impronta Etica dal titolo «Rendicontazione e imprese: tra normativa e strategia». \nIn un periodo come quello attuale caratterizzato da una forte proliferazione normativa che impatterà a cascata su un numero sempre più ampio di organizzazioni\, approfondiremo le sfide\, le opportunità e le possibili leve abilitanti che consentono di svolgere percorsi di rendicontazione strategici ed integrati nella governance aziendale. \nAnche grazie a interventi tecnici ed esperienze concrete in merito alle implicazioni e le prospettive future del tema rendicontazione\, l’obiettivo del confronto sarà far emergere come sia importante presidiare il tema andando oltre la compliance per coglierne tutte le opportunità trasformative di crescita e competitività. \nCondividendo esperienze\, sfide e buone pratiche\, esperti del tema e  rappresentanti di importanti imprese\, contribuiranno ad approfondire il tema della rendicontazione\, ponendo il focus sull’importanza di andare oltre la compliance per coglierne tutte le opportunità trasformative di crescita e competitività. \nSeguirà aperitivo di networking. \nE’ possibile iscriversi al seguente link. \nPer maggiori informazioni: info@improntaetica.org \nSCARICA IL PROGRAMMA
URL:https://www.improntaetica.org/evento/04-11-rendicontazione-e-imprese-tra-normativa-e-strategia/
CATEGORIES:Eventi 2024
ATTACH;FMTTYPE=image/png:https://www.improntaetica.org/wp-content/uploads/2024/09/grande.png
END:VEVENT
BEGIN:VEVENT
DTSTART;TZID=Europe/Rome:20241024T000000
DTEND;TZID=Europe/Rome:20241107T235900
DTSTAMP:20260421T084515
CREATED:20240907T133304Z
LAST-MODIFIED:20240917T073612Z
UID:39358-1729728000-1731023940@www.improntaetica.org
SUMMARY:24/10 - 07/11 | Settimane SRI Edizione 2024
DESCRIPTION:La tredicesima edizione delle Settimane dell’Investimento Sostenibile e Responsabile.\nGiunte alla tredicesima edizione\, tornano le Settimane dell’Investimento Sostenibile e Responsabile\, il principale appuntamento in Italia sulla finanza sostenibile. Le Settimane SRI\, promosse e organizzate dal Forum per la Finanza Sostenibile\, si svolgeranno dal 24 ottobre al 7 novembre 2024\, in presenza (a Milano e a Roma) e online. \nIn programma ci sono convegni e seminari sui temi di primo piano della finanza sostenibile\, anche con la presentazione di ricerche e pubblicazioni. \nE’ ora possibile iscriversi e ottenere maggiori informazioni al seguente link.
URL:https://www.improntaetica.org/evento/24-10-07-11-settimane-sri-edizione-2024/
CATEGORIES:Eventi 2024
ATTACH;FMTTYPE=image/png:https://www.improntaetica.org/wp-content/uploads/2022/06/forum-finanza-sost.png
END:VEVENT
END:VCALENDAR