BEGIN:VCALENDAR
VERSION:2.0
PRODID:-//Impronta Etica - ECPv6.15.20//NONSGML v1.0//EN
CALSCALE:GREGORIAN
METHOD:PUBLISH
X-ORIGINAL-URL:https://www.improntaetica.org
X-WR-CALDESC:Eventi per Impronta Etica
REFRESH-INTERVAL;VALUE=DURATION:PT1H
X-Robots-Tag:noindex
X-PUBLISHED-TTL:PT1H
BEGIN:VTIMEZONE
TZID:Europe/Rome
BEGIN:DAYLIGHT
TZOFFSETFROM:+0100
TZOFFSETTO:+0200
TZNAME:CEST
DTSTART:20150329T010000
END:DAYLIGHT
BEGIN:STANDARD
TZOFFSETFROM:+0200
TZOFFSETTO:+0100
TZNAME:CET
DTSTART:20151025T010000
END:STANDARD
BEGIN:DAYLIGHT
TZOFFSETFROM:+0100
TZOFFSETTO:+0200
TZNAME:CEST
DTSTART:20160327T010000
END:DAYLIGHT
BEGIN:STANDARD
TZOFFSETFROM:+0200
TZOFFSETTO:+0100
TZNAME:CET
DTSTART:20161030T010000
END:STANDARD
BEGIN:DAYLIGHT
TZOFFSETFROM:+0100
TZOFFSETTO:+0200
TZNAME:CEST
DTSTART:20170326T010000
END:DAYLIGHT
BEGIN:STANDARD
TZOFFSETFROM:+0200
TZOFFSETTO:+0100
TZNAME:CET
DTSTART:20171029T010000
END:STANDARD
BEGIN:DAYLIGHT
TZOFFSETFROM:+0100
TZOFFSETTO:+0200
TZNAME:CEST
DTSTART:20180325T010000
END:DAYLIGHT
BEGIN:STANDARD
TZOFFSETFROM:+0200
TZOFFSETTO:+0100
TZNAME:CET
DTSTART:20181028T010000
END:STANDARD
BEGIN:DAYLIGHT
TZOFFSETFROM:+0100
TZOFFSETTO:+0200
TZNAME:CEST
DTSTART:20190331T010000
END:DAYLIGHT
BEGIN:STANDARD
TZOFFSETFROM:+0200
TZOFFSETTO:+0100
TZNAME:CET
DTSTART:20191027T010000
END:STANDARD
BEGIN:DAYLIGHT
TZOFFSETFROM:+0100
TZOFFSETTO:+0200
TZNAME:CEST
DTSTART:20200329T010000
END:DAYLIGHT
BEGIN:STANDARD
TZOFFSETFROM:+0200
TZOFFSETTO:+0100
TZNAME:CET
DTSTART:20201025T010000
END:STANDARD
BEGIN:DAYLIGHT
TZOFFSETFROM:+0100
TZOFFSETTO:+0200
TZNAME:CEST
DTSTART:20210328T010000
END:DAYLIGHT
BEGIN:STANDARD
TZOFFSETFROM:+0200
TZOFFSETTO:+0100
TZNAME:CET
DTSTART:20211031T010000
END:STANDARD
BEGIN:DAYLIGHT
TZOFFSETFROM:+0100
TZOFFSETTO:+0200
TZNAME:CEST
DTSTART:20220327T010000
END:DAYLIGHT
BEGIN:STANDARD
TZOFFSETFROM:+0200
TZOFFSETTO:+0100
TZNAME:CET
DTSTART:20221030T010000
END:STANDARD
BEGIN:DAYLIGHT
TZOFFSETFROM:+0100
TZOFFSETTO:+0200
TZNAME:CEST
DTSTART:20230326T010000
END:DAYLIGHT
BEGIN:STANDARD
TZOFFSETFROM:+0200
TZOFFSETTO:+0100
TZNAME:CET
DTSTART:20231029T010000
END:STANDARD
BEGIN:DAYLIGHT
TZOFFSETFROM:+0100
TZOFFSETTO:+0200
TZNAME:CEST
DTSTART:20240331T010000
END:DAYLIGHT
BEGIN:STANDARD
TZOFFSETFROM:+0200
TZOFFSETTO:+0100
TZNAME:CET
DTSTART:20241027T010000
END:STANDARD
END:VTIMEZONE
BEGIN:VEVENT
DTSTART;TZID=Europe/Rome:20231005T090000
DTEND;TZID=Europe/Rome:20231005T173000
DTSTAMP:20260421T072212
CREATED:20230913T064646Z
LAST-MODIFIED:20230913T064646Z
UID:37521-1696496400-1696527000@www.improntaetica.org
SUMMARY:5/10 | Conferenza Nazionale sharing mobility 2023
DESCRIPTION:L’ appuntamento annuale di riferimento per la mobilità condivisa e non solo.\nSi terrà il 5 ottobre dalle ore 09.00 alle ore 17.30 a Roma presso | Cassa Depositi e Presiti\, Via Castelfidardo\, 1\, la settima edizione della Conferenza Nazionale sulla sharing mobility dell’Osservatorio Nazionale Sharing Mobility dedicata al tema “Lesscars drives decarbonization”. \nLa conferenza di quest’anno\, oltre a fare il punto sui dati 2022-2023 e sulle tendenze che caratterizzano la sharing mobility italiana\, intende discutere il ruolo che la mobilità condivisa può assumere nel quadro di una strategia complessiva che riduca l’uso e la proprietà dell’auto e renda le nostre città sempre più decarbonizzate e vivibili. Come ridurre il numero di auto\, facilitando la mobilità e l’accessibilità? Quanto è importante investire sul trasporto pubblico e sulla sharing mobility per proteggere il clima? Quale sarà il futuro dell’automobile? Come le tecnologie potranno aiutare questa transizione? Le sessioni della Conferenza (organizzate in Plenarie e Workshop) affronteranno questi temi\, e molto altro. \nMaggiori informazioni sono disponibili al seguente link. \nPer partecipare\, data la capienza limitata\, è necessario iscriversi entro il 18 settembre\, al seguente link. \nSCARICA IL PROGRAMMA
URL:https://www.improntaetica.org/evento/5-10-conferenza-nazionale-sharing-mobility-2023/
ATTACH;FMTTYPE=image/png:https://www.improntaetica.org/wp-content/uploads/2022/07/sharing-1.png
END:VEVENT
BEGIN:VEVENT
DTSTART;TZID=Europe/Rome:20221010T093000
DTEND;TZID=Europe/Rome:20221010T173000
DTSTAMP:20260421T072212
CREATED:20220801T134528Z
LAST-MODIFIED:20220801T134528Z
UID:35257-1665394200-1665423000@www.improntaetica.org
SUMMARY:10\10 | Conferenza Nazionale Sharing Mobility
DESCRIPTION:La grande novità del settore della mobilità urbana degli ultimi anni.\nLa sharing mobility è una delle grandi novità del settore della mobilità urbana degli ultimi anni. Ora che tanti nuovi servizi di mobilità in condivisione sono a portata di mano\, è possibile cambiare passo: maggiore offerta di tutti i tipi di servizio\, sia di vehicle che di ride sharing\, maggiore diffusione sull’intero territorio nazionale\, maggiore integrazione con gli altri servizi di mobilità e con gli obiettivi strategici di una mobilità sostenibile. \nLa 6° Conferenza nazionale sulla sharing mobility\, organizzata dall’Osservatorio Nazionale Sharing Mobility\,  che si terrà a Roma il 10 ottobre 2022  all’Acquario Romano\, oltre ad analizzare le tendenze nazionali ed europee dei servizi di sharing nel post-shock pandemico\, sarà l’occasione per avventurarsi in questi “territori di confine”\, tra nuove sfide ed opportunità. \nMaggiori informazioni sono disponibili al seguente link. \nE’ possibile iscriversi all’evento al seguente link. \nScarica il programma
URL:https://www.improntaetica.org/evento/1010-conferenza-nazionale-sharing-mobility/
ATTACH;FMTTYPE=image/png:https://www.improntaetica.org/wp-content/uploads/2022/07/sharing-1.png
END:VEVENT
BEGIN:VEVENT
DTSTART;TZID=Europe/Rome:20190627T093000
DTEND;TZID=Europe/Rome:20190627T170000
DTSTAMP:20260421T072212
CREATED:20190513T091340Z
LAST-MODIFIED:20190513T091340Z
UID:16601-1561627800-1561654800@www.improntaetica.org
SUMMARY:3° Conferenza nazionale sulla Sharing Mobility
DESCRIPTION:Un momento di confronto su dati e trend della mobilità condivisa.\nL’Osservatorio Nazionale sulla Sharing Mobility\, promosso dal Ministero dell’ambiente\, dal Ministero delle infrastrutture e dei trasporti e dalla Fondazione per lo sviluppo sostenibile\, organizza la 3° Conferenza nazionale sulla Sharing Mobility.\nDurante la conferenza sarà presentato il 3° Rapporto nazionale sulla Sharing Mobility e verranno discussi con istituzioni\, aziende\, associazioni ed esperti nazionali ed internazionali i dati e i trend della mobilità condivisa in Italia.\nIl programma sarà disponibile a breve.\nE’ possibile registrarsi all’evento tramite il form on line.\nMaggiori informazioni sono disponibili al seguente link.
URL:https://www.improntaetica.org/evento/3-conferenza-nazionale-sulla-sharing-mobility/
ATTACH;FMTTYPE=:
END:VEVENT
BEGIN:VEVENT
DTSTART;TZID=Europe/Rome:20180327T093000
DTEND;TZID=Europe/Rome:20180327T170000
DTSTAMP:20260421T072212
CREATED:20180309T160946Z
LAST-MODIFIED:20180309T160946Z
UID:14403-1522143000-1522170000@www.improntaetica.org
SUMMARY:2° Conferenza nazionale Sharing Mobility
DESCRIPTION:Un momento di approfondimento sui dati e le prospettive della Sharing Mobility.\nOrganizzata dall’Osservatorio Nazionale Sharing Mobility\, iniziativa promossa dal Ministero dell’Ambiente e la Fondazione per lo sviluppo sostenibile\, la Conferenza rappresenta un momento di approfondimento e confronto sui dati e le prospettive del settore. La Conferenza sarà anche l’occasione per presentare i nuovi membri che hanno aderito alla Community negli ultimi mesi.\nLa conferenza è aperta a tutti\, è sufficiente registrarsi al seguente link.\nMaggiori informazioni sono disponibili al seguente link.\nProgramma
URL:https://www.improntaetica.org/evento/2-conferenza-nazionale-sharing-mobility/
LOCATION:Stazione Termini\, via Giolitti\, 21\, Roma
ATTACH;FMTTYPE=:
END:VEVENT
BEGIN:VEVENT
DTSTART;VALUE=DATE:20170518
DTEND;VALUE=DATE:20170520
DTSTAMP:20260421T072212
CREATED:20170303T153450Z
LAST-MODIFIED:20170303T153450Z
UID:12230-1495065600-1495238399@www.improntaetica.org
SUMMARY:Prima Conferenza Nazionale sui Piani Urbani della Mobilità Sostenibile
DESCRIPTION:Regione Puglia e Euromobility organizzano un convegno nazionale sulla mobilità sostenibile.\nFacendo seguito all’esperienza della Conferenza Europea sui PUMS\, che si impegna nella diffusione e nella promozione  dei Piani Urbani della Mobilità Sostenibile\, l’Osservatorio PUMS ne propone una declinazione nazionale al fine di diffondere risultati\, buone pratiche e nuove tecniche di pianificazione. \n\n\n\n\n\n\nLa Conferenza sarà articolata in due giornate di lavoro\, con sedute plenarie e workshop tematici che verteranno sul tema del mobility management\, della mobilità ciclistica\, della logistica delle merci\, dell’ ICT per la mobilità e della sharing mobility.\nE’ possibile registrarsi all’evento al seguente link.\nMaggiori informazioni sono disponibili al seguente qui.\nProgramma
URL:https://www.improntaetica.org/evento/conferenza-nazionale-sui-piani-urbani-della-mobilita-sostenibile/
LOCATION:Bari
END:VEVENT
BEGIN:VEVENT
DTSTART;TZID=Europe/Rome:20161123T093000
DTEND;TZID=Europe/Rome:20161123T130000
DTSTAMP:20260421T072212
CREATED:20161114T094016Z
LAST-MODIFIED:20161114T094016Z
UID:11400-1479893400-1479906000@www.improntaetica.org
SUMMARY:Conferenza nazionale sulla Sharing Mobility
DESCRIPTION:Presentazione del primo rapporto nazionale sulla Sharing Mobility.\nL’Osservatorio Nazionale sulla Sharing Mobility (promosso dal Ministero dell’Ambiente e dalla Fondazione per lo Sviluppo Sostenibile) organizza la Prima Conferenza Nazionale della Sharing Mobility\, in collaborazione con il Comune di Roma.\nL’obiettivo della Conferenza è quello di presentare e discutere il Primo Rapporto Nazionale sulla Sharing Mobility e la Roadmap normativa costruita attraverso il processo di partecipazione dell’Osservatorio e conoscere le migliori pratiche di sharing mobility italiana ed internazionale ed i servizi attualmente presenti sul territorio italiano.\nPer maggiori informazioni sono disponibili qui.\nLa partecipazione alla conferenza è aperta e gratuita ed è possibile registrarsi al seguente link.\nProgramma
URL:https://www.improntaetica.org/evento/conferenza-nazionale-sulla-sharing-mobility/
LOCATION:Sala della Protomoteca in Campidoglio\, Piazza del Campidoglio\, Roma\, Italia
ATTACH;FMTTYPE=:
END:VEVENT
BEGIN:VEVENT
DTSTART;VALUE=DATE:20161027
DTEND;VALUE=DATE:20161029
DTSTAMP:20260421T072212
CREATED:20161018T083316Z
LAST-MODIFIED:20161018T083316Z
UID:11317-1477526400-1477699199@www.improntaetica.org
SUMMARY:MobyDixit: 16° Conferenza Nazionale sul Mobility Management e la Mobilità Sostenibile
DESCRIPTION:La Conferenza Nazionale come momento di riflessione sui temi della gestione della mobilità urbana.\nLa Conferenza Nazionale sul Mobility Management e la Mobilità Sostenibile si pone come un momento di riflessione per i principali soggetti nazionali coinvolti nei processi di gestione della mobilità urbana nel nostro Paese.\nMobyDixit mette al centro della sua proposta la visione europea dei temi del Mobility Management cercando di coniugarla con le specificità e con le esperienze nazionali in ambito formativo ed aziendale.\nL’evento\, organizzato da Euromobility e il Comune di Prato\, sarà articolato in due giornate di lavoro con sedute plenarie\, workshop tematici e una serie di eventi di carattere scientifico\, culturale\, formativo e ricreativo.\nPer avere maggiori informazioni è possibile consultare il sito dedicato.\nProgramma
URL:https://www.improntaetica.org/evento/mobydixit-16-conferenza-nazionale-sul-mobility-management-la-mobilita-sostenibile/
LOCATION:Camera di Commercio di Prato\, via del Romito 71\, Prato\, Italia
ATTACH;FMTTYPE=:
END:VEVENT
END:VCALENDAR