BEGIN:VCALENDAR
VERSION:2.0
PRODID:-//Impronta Etica - ECPv6.15.20//NONSGML v1.0//EN
CALSCALE:GREGORIAN
METHOD:PUBLISH
X-WR-CALNAME:Impronta Etica
X-ORIGINAL-URL:https://www.improntaetica.org
X-WR-CALDESC:Eventi per Impronta Etica
REFRESH-INTERVAL;VALUE=DURATION:PT1H
X-Robots-Tag:noindex
X-PUBLISHED-TTL:PT1H
BEGIN:VTIMEZONE
TZID:Europe/Rome
BEGIN:DAYLIGHT
TZOFFSETFROM:+0100
TZOFFSETTO:+0200
TZNAME:CEST
DTSTART:20180325T010000
END:DAYLIGHT
BEGIN:STANDARD
TZOFFSETFROM:+0200
TZOFFSETTO:+0100
TZNAME:CET
DTSTART:20181028T010000
END:STANDARD
BEGIN:DAYLIGHT
TZOFFSETFROM:+0100
TZOFFSETTO:+0200
TZNAME:CEST
DTSTART:20190331T010000
END:DAYLIGHT
BEGIN:STANDARD
TZOFFSETFROM:+0200
TZOFFSETTO:+0100
TZNAME:CET
DTSTART:20191027T010000
END:STANDARD
BEGIN:DAYLIGHT
TZOFFSETFROM:+0100
TZOFFSETTO:+0200
TZNAME:CEST
DTSTART:20200329T010000
END:DAYLIGHT
BEGIN:STANDARD
TZOFFSETFROM:+0200
TZOFFSETTO:+0100
TZNAME:CET
DTSTART:20201025T010000
END:STANDARD
END:VTIMEZONE
BEGIN:VEVENT
DTSTART;TZID=Europe/Rome:20191024T190000
DTEND;TZID=Europe/Rome:20191024T210000
DTSTAMP:20260421T084435
CREATED:20191014T083110Z
LAST-MODIFIED:20191014T083110Z
UID:17118-1571943600-1571950800@www.improntaetica.org
SUMMARY:Food Is A Conversation: Food Safety
DESCRIPTION:Una conversazione con la città assieme ad esperti internazionali su: cibo\, innovazione e sostenibilità.\nL’evento – parte di “Food Innovation Is a Global Mission“\, iniziativa promossa da Fondazione FICO e Future Food Institute – ha lo scopo di portare avanti in un contesto globale idee che possano mettere in luce l’esperienza italiana in ambito agroalimentare e il forte carattere innovativo di interesse per investitori e supporter internazionali. Da qui prende le fila l’iniziativa “Food Innovation Valley”\, nata per rispondere agli obiettivi di business development e di trasferimento tecnologico di competenze settoriali delle realtà d’impresa territoriali\, rendendo la Regione Emilia-Romagna player strategico a livello internazionale nell’ambito food e nella valorizzazione del patrimonio alimentare nostrano.\nA corredo dell’intera iniziativa sono state lanciate delle “Food is a Conversation” tematiche\, realizzate da Fondazione FICO e Future Food Institute assieme ai partner Legacoop Bologna\, Vicoo e Impronta Etica. Food Safety sarà il secondo evento organizzato nell’ambito di Food Innovation Valley.\nIn un contesto come l’Emilia Romagna\, dove vengono prodotte e esportate enormi quantità di cibo ogni anno\, moltissime realtà si occupano di fornire non solo prodotti di qualità per la tavola\, ma anche attrezzature\, imballaggi naturali e soluzioni in grado di preservare il cibo da qualsiasi avaria in ogni step del percorso che lo porta dalla sua creazione alla tavola dei consumatori. Una regione come questa\, culla di tradizione gastronomica e di un patrimonio economico legato alla produzione e al commercio agroalimentare\, deve mantenere come focus principale quello di proteggere la sua ricchezza tramite lo sviluppo tecnologico e a idee innovative che riguardano proprio la food safety\, elemento ormai indispensabile affinché la qualità del cibo venga garantita.\nE’ possibile registrarsi all’evento e avere maggiori informazioni al seguente link.
URL:https://www.improntaetica.org/evento/food-is-conversation-food-safety/
ATTACH;FMTTYPE=:
END:VEVENT
END:VCALENDAR