BEGIN:VCALENDAR
VERSION:2.0
PRODID:-//Impronta Etica - ECPv6.15.20//NONSGML v1.0//EN
CALSCALE:GREGORIAN
METHOD:PUBLISH
X-ORIGINAL-URL:https://www.improntaetica.org
X-WR-CALDESC:Eventi per Impronta Etica
REFRESH-INTERVAL;VALUE=DURATION:PT1H
X-Robots-Tag:noindex
X-PUBLISHED-TTL:PT1H
BEGIN:VTIMEZONE
TZID:Europe/Rome
BEGIN:DAYLIGHT
TZOFFSETFROM:+0100
TZOFFSETTO:+0200
TZNAME:CEST
DTSTART:20230326T010000
END:DAYLIGHT
BEGIN:STANDARD
TZOFFSETFROM:+0200
TZOFFSETTO:+0100
TZNAME:CET
DTSTART:20231029T010000
END:STANDARD
BEGIN:DAYLIGHT
TZOFFSETFROM:+0100
TZOFFSETTO:+0200
TZNAME:CEST
DTSTART:20240331T010000
END:DAYLIGHT
BEGIN:STANDARD
TZOFFSETFROM:+0200
TZOFFSETTO:+0100
TZNAME:CET
DTSTART:20241027T010000
END:STANDARD
BEGIN:DAYLIGHT
TZOFFSETFROM:+0100
TZOFFSETTO:+0200
TZNAME:CEST
DTSTART:20250330T010000
END:DAYLIGHT
BEGIN:STANDARD
TZOFFSETFROM:+0200
TZOFFSETTO:+0100
TZNAME:CET
DTSTART:20251026T010000
END:STANDARD
END:VTIMEZONE
BEGIN:VEVENT
DTSTART;VALUE=DATE:20241202
DTEND;VALUE=DATE:20241209
DTSTAMP:20260421T033728
CREATED:20241119T154948Z
LAST-MODIFIED:20241119T154948Z
UID:40437-1733097600-1733702399@www.improntaetica.org
SUMMARY:2/12 - 8 /12 | Social Sustainability Week
DESCRIPTION:Innovazione e dialogo per la sostenibilità sociale\nDal 2 all’8 dicembre 2024 si terrà a Roma la prima edizione della Social Sustainability Week (SSW)\, una manifestazione nazionale dedicata alla promozione della sostenibilità sociale attraverso eventi pubblici\, workshop\, talk e convegni. L’iniziativa\, organizzata da Eikon Strategic Consulting e dalla startup ReWorld\, mira a creare connessioni tra imprese\, esperti\, artisti e cittadini\, con il supporto scientifico della Sapienza Università di Roma. \nTra gli eventi principali\, spicca la quarta edizione del ReWriters Fest. a Roma\, che si propone come uno spazio innovativo per discutere modelli culturali ed economici più inclusivi e sostenibili. E’ possibile candidare un proprio evento per partecipare al più ampio programma della settimana entro il 22 novembre. \nMaggiori informazioni sul programma e su come partecipare sono disponibili al seguente link.
URL:https://www.improntaetica.org/evento/2-12-8-12-social-sustainability-week/
CATEGORIES:Eventi 2024
ATTACH;FMTTYPE=image/png:https://www.improntaetica.org/wp-content/uploads/2024/11/download-7.png
END:VEVENT
END:VCALENDAR