BEGIN:VCALENDAR
VERSION:2.0
PRODID:-//Impronta Etica - ECPv6.15.20//NONSGML v1.0//EN
CALSCALE:GREGORIAN
METHOD:PUBLISH
X-ORIGINAL-URL:https://www.improntaetica.org
X-WR-CALDESC:Eventi per Impronta Etica
REFRESH-INTERVAL;VALUE=DURATION:PT1H
X-Robots-Tag:noindex
X-PUBLISHED-TTL:PT1H
BEGIN:VTIMEZONE
TZID:Europe/Rome
BEGIN:DAYLIGHT
TZOFFSETFROM:+0100
TZOFFSETTO:+0200
TZNAME:CEST
DTSTART:20200329T010000
END:DAYLIGHT
BEGIN:STANDARD
TZOFFSETFROM:+0200
TZOFFSETTO:+0100
TZNAME:CET
DTSTART:20201025T010000
END:STANDARD
BEGIN:DAYLIGHT
TZOFFSETFROM:+0100
TZOFFSETTO:+0200
TZNAME:CEST
DTSTART:20210328T010000
END:DAYLIGHT
BEGIN:STANDARD
TZOFFSETFROM:+0200
TZOFFSETTO:+0100
TZNAME:CET
DTSTART:20211031T010000
END:STANDARD
BEGIN:DAYLIGHT
TZOFFSETFROM:+0100
TZOFFSETTO:+0200
TZNAME:CEST
DTSTART:20220327T010000
END:DAYLIGHT
BEGIN:STANDARD
TZOFFSETFROM:+0200
TZOFFSETTO:+0100
TZNAME:CET
DTSTART:20221030T010000
END:STANDARD
END:VTIMEZONE
BEGIN:VEVENT
DTSTART;TZID=Europe/Rome:20211129T100000
DTEND;TZID=Europe/Rome:20211129T133000
DTSTAMP:20260421T061129
CREATED:20211123T101209Z
LAST-MODIFIED:20211123T101209Z
UID:34128-1638180000-1638192600@www.improntaetica.org
SUMMARY:29/11 | Convegno Terzo settore e pandemia
DESCRIPTION:Nuove strade verso l’impatto sociale.\nLunedì 29 novembre alle ore 10 si terrà l’evento a partecipazione gratuita di Adotta Una Buona Pratica dal titolo: “Dal progetto al talk evento: terzo settore e pandemia. Nuove strade verso l’impatto sociale”\, promosso da Social Value Italia\, Fondazione KPMG e Amapola. \nUn evento per presentare i risultati del progetto attraverso il confronto attivo tra i protagonisti del mondo profit e non profit\, che saranno coinvolti in una serie di brevi “talks”. Il convegno sarà anche l’occasione per proporre nuove metodologie di valutazione dell’impatto sociale e valorizzare quelle realtà che sono riuscite a portare avanti in maniera virtuosa progetti e risultati anche durante il periodo della pandemia. \nMaggiori informazioni sono disponibili al seguente link.
URL:https://www.improntaetica.org/evento/29-11-convegno-terzo-settore-e-pandemia/
ATTACH;FMTTYPE=image/png:https://www.improntaetica.org/wp-content/uploads/2021/11/INVITO_29nov_convegnoAUBP-2-1024x576-1-e1637662316909.png
END:VEVENT
END:VCALENDAR