BEGIN:VCALENDAR
VERSION:2.0
PRODID:-//Impronta Etica - ECPv6.15.20//NONSGML v1.0//EN
CALSCALE:GREGORIAN
METHOD:PUBLISH
X-WR-CALNAME:Impronta Etica
X-ORIGINAL-URL:https://www.improntaetica.org
X-WR-CALDESC:Eventi per Impronta Etica
REFRESH-INTERVAL;VALUE=DURATION:PT1H
X-Robots-Tag:noindex
X-PUBLISHED-TTL:PT1H
BEGIN:VTIMEZONE
TZID:Europe/Rome
BEGIN:DAYLIGHT
TZOFFSETFROM:+0100
TZOFFSETTO:+0200
TZNAME:CEST
DTSTART:20210328T010000
END:DAYLIGHT
BEGIN:STANDARD
TZOFFSETFROM:+0200
TZOFFSETTO:+0100
TZNAME:CET
DTSTART:20211031T010000
END:STANDARD
BEGIN:DAYLIGHT
TZOFFSETFROM:+0100
TZOFFSETTO:+0200
TZNAME:CEST
DTSTART:20220327T010000
END:DAYLIGHT
BEGIN:STANDARD
TZOFFSETFROM:+0200
TZOFFSETTO:+0100
TZNAME:CET
DTSTART:20221030T010000
END:STANDARD
BEGIN:DAYLIGHT
TZOFFSETFROM:+0100
TZOFFSETTO:+0200
TZNAME:CEST
DTSTART:20230326T010000
END:DAYLIGHT
BEGIN:STANDARD
TZOFFSETFROM:+0200
TZOFFSETTO:+0100
TZNAME:CET
DTSTART:20231029T010000
END:STANDARD
BEGIN:DAYLIGHT
TZOFFSETFROM:+0100
TZOFFSETTO:+0200
TZNAME:CEST
DTSTART:20240331T010000
END:DAYLIGHT
BEGIN:STANDARD
TZOFFSETFROM:+0200
TZOFFSETTO:+0100
TZNAME:CET
DTSTART:20241027T010000
END:STANDARD
END:VTIMEZONE
BEGIN:VEVENT
DTSTART;TZID=Europe/Rome:20231130T000000
DTEND;TZID=Europe/Rome:20231212T000000
DTSTAMP:20260421T063220
CREATED:20230829T150010Z
LAST-MODIFIED:20231103T082857Z
UID:37377-1701302400-1702339200@www.improntaetica.org
SUMMARY:30/11 - 12/12 | COP28
DESCRIPTION:A Dubai la prossima conferenza delle Parti.\nLa prossima Conferenza delle Parti dell’Onu si svolgerà a Dubai dal 30 novembre al 12 dicembre 2023. \nLa conferenza si tiene ogni anno sin dal primo accordo sul clima delle Nazioni Unite nel 1992. Occasione dei governi per concordare politiche volte a limitare l’aumento della temperatura globale e adattarsi agli impatti associati al cambiamento climatico. \n\n\n\n\n\n\nLa COP28 degli Emirati Arabi Uniti rappresenterà un momento fondamentale in cui il mondo farà il punto sui progressi compiuti sull’accordo di Parigi.  Il primo Global Stocktake (GST) fornirà una valutazione completa dei progressi compiuti dall’adozione dell’accordo di Parigi. Il GST aiuterà ad allineare gli sforzi sull’azione per il clima\, inclusa l’attuazione di misure per colmare le lacune in corso. \nMaggiori informazioni sono disponibili al seguente link.
URL:https://www.improntaetica.org/evento/30-11-12-12-cop28/
ATTACH;FMTTYPE=image/png:https://www.improntaetica.org/wp-content/uploads/2020/03/immagine-nazioni-unite-e1583144438510.png
END:VEVENT
BEGIN:VEVENT
DTSTART;TZID=Europe/Rome:20230615T173000
DTEND;TZID=Europe/Rome:20230615T173000
DTSTAMP:20260421T063220
CREATED:20230613T081425Z
LAST-MODIFIED:20230613T081425Z
UID:37083-1686850200-1686850200@www.improntaetica.org
SUMMARY:15/06 | Le forme della partecipazione: rappresentanza\, istituzioni e nuovi spazi
DESCRIPTION:Un dialogo per affrontare crisi e trasformazioni della rappresentanza.\nSi terrà giovedì 15 giugno a partire dalle ore 17:30\, nella Sala Anziani di Palazzo D’Accursio (Piazza Maggiore 6 Bologna) si terrà l’incontro “Le forme della partecipazione: rappresentanza\, istituzioni e nuovi spazi” organizzato da Pandora Rivista. \nUn dialogo per affrontare crisi e trasformazioni della rappresentanza e per approfondire il ruolo possibile delle istituzioni e delle assemblee elettive in relazione alle nuove forme che stanno nascendo. In collaborazione con Assemblea legislativa Regione Emilia-Romagna e UPI Emilia-Romagna e con il patrocinio del Comune di Bologna. \nngresso libero e gratuito fino ad esaurimento dei posti disponibili. \nPer gentile conferma la presenza si prega di scrivere a: pandora@pandorarivista.it \nSCARICA LA LOCANDINA \n 
URL:https://www.improntaetica.org/evento/15-06-le-forme-della-partecipazione-rappresentanza-istituzioni-e-nuovi-spazi/
ATTACH;FMTTYPE=image/jpeg:https://www.improntaetica.org/wp-content/uploads/2023/01/pandora.jpg
END:VEVENT
BEGIN:VEVENT
DTSTART;TZID=Europe/Rome:20230530T150000
DTEND;TZID=Europe/Rome:20230530T170000
DTSTAMP:20260421T063220
CREATED:20230522T063525Z
LAST-MODIFIED:20230522T063525Z
UID:36976-1685458800-1685466000@www.improntaetica.org
SUMMARY:30/05 | Benessere e sostenibilità nelle province dell'Emilia Romagna e nella Città Metropolitana di Bologna
DESCRIPTION:La terza edizione del convegno.\nSi terrà martedì 30 maggio dalle ore 15:00 alle ore 17:30 nell’ Aula Magna della Regione EmilIa – Romagna in modalità mista\, il convegno “Benessere e sostenibilità nelle province dell’Emilia Romagna e nella Città Metropolitana di Bologna”  organizzato da UPI\, ISTAT\, Regione Emilia – Romagna e Emilia – Romagna ANCI. \nMaggiori informazioni sono disponibili al seguente link. \nSCARICA IL PROGRAMMA
URL:https://www.improntaetica.org/evento/30-05-benessere-e-sostenibilita-nelle-province-dellemilia-romagna-e-nella-citta-metropolitana-di-bologna/
ATTACH;FMTTYPE=image/jpeg:https://www.improntaetica.org/wp-content/uploads/2023/05/collage.jpg
END:VEVENT
BEGIN:VEVENT
DTSTART;TZID=Europe/Rome:20230508T143000
DTEND;TZID=Europe/Rome:20230508T143000
DTSTAMP:20260421T063220
CREATED:20230505T112110Z
LAST-MODIFIED:20230505T112143Z
UID:36876-1683556200-1683556200@www.improntaetica.org
SUMMARY:08/05 | Il welfare collaborativo alla prova dei fatti
DESCRIPTION:Il seminario della Città Metropolitana di Bologna.\nPartendo dal Manifesto “L’economia al servizio delle persone” e attraverso il confronto con diverse realtà del territorio\, che porterà alla costruzione del Piano metropolitano per l’Economia Sociale\, Bologna si pone al centro del dibattito attuale sui temi dell’economia sociale per contribuire alla costruzione di un nuovo modello di sviluppo che abbia l’economia sociale come uno dei sui pilastri principali\, in grado di generare crescita economica\, buona occupazione e inclusione sociale. \nL’8 maggio 2023 alle ore 14.30 nella Sala Anziani di Palazzo d’Accursio (Piazza Maggiore 6) si terrà il primo seminario “Il welfare collaborativo alla prova dei fatti” organizzato dalla Città Metropolitana di Bologna: per il consolidamento e sviluppo dell’economia sociale il rapporto tra questa e la pubblica amministrazione è di fondamentale importanza. La relazione tra soggetti pubblici e privati può assumere diverse forme. Tra queste l’amministrazione condivisa si presenta come alternativa agli appalti e all’interno di una rosa di differenti modalità di interazione possibili. Sulla base delle esperienze di welfare collaborativo ad oggi maturate è vitale comprenderne punti di forza e di debolezza per mirare ad una sua estesa ed efficace applicazione. \nIl seminario sarà presentato da Daniela Freddi\, Responsabile del Piano per l’Economia Sociale di Città metropolitana di Bologna e i lavori saranno aperti dal Sindaco metropolitano di Bologna Matteo Lepore. Cuore di questo primo seminario sarà la presentazione\, affidata al professor Luca Fazzi dell’Università di Trento\, della ricerca di Euricse “Il nuovo welfare collaborativo in Italia: coprogrammazione e coprogettazione come strumento di innovazione del welfare locale”. Sui temi della ricerca si confronteranno poi Luciano Gallo (ANCI Emilia-Romagna); Erika Capasso (delegata alle politiche per il Terzo settore del Comune di Bologna); Federico Amico (consigliere regionale Emilia-Romagna Coraggiosa); Rossella Vigneri (portavoce Forum Terzo Settore Bologna); Alberto Alberani (portavoce Forum Terzo Settore Emilia-Romagna); Massimo Mota (presidente di ACI Bologna). \nIl Seminario sarà ad ingresso libero fino ad esaurimento posti. \nMaggiori informazioni sono disponibili al seguente link. \nSCARICA IL PROGRAMMA
URL:https://www.improntaetica.org/evento/il-welfare-collaborativo-alla-prova-dei-fatti/
ATTACH;FMTTYPE=image/jpeg:https://www.improntaetica.org/wp-content/uploads/2020/10/città-metropolitana.jpg
END:VEVENT
BEGIN:VEVENT
DTSTART;TZID=Europe/Rome:20221021T110000
DTEND;TZID=Europe/Rome:20221021T130000
DTSTAMP:20260421T063220
CREATED:20221020T093128Z
LAST-MODIFIED:20221020T093128Z
UID:35711-1666350000-1666357200@www.improntaetica.org
SUMMARY:21/10 | Street Art for RIGHTS III Edizione
DESCRIPTION:Anche Impronta Etica tra gli speaker.\nStreet art for RIGHTS\, quest’anno giunto alla sua terza edizione di cui Impronta Etica è partner\, nasce con l’intento di portare l’arte nei quartieri con contesti difficili della periferia di Roma e adotta i 17 Goals dell’Agenda 2030 per lo Sviluppo Sostenibile dell’ONU come contenuto portante del proprio progetto. L’idea è quella di filtrare i 17 Goals con l’occhio dell’arte contemporanea promuovendo la realizzazione di 17 opere murarie da parte di diversi giovani street artist nell’ottica di portare questioni sociali\, economiche e culturali sui muri dei quartieri periferici della Capitale\, in zone conosciute per situazioni di forte difficoltà. \nil 21 ottobre si terrà alle ore 11.00 presso la Galleria il Mitreo inside di Corvale\, la tavola rotonda a cui l’Associazione prenderà parte dal titolo “Il ruolo delle istituzioni nella società civile nella promozione di una cultura per lo sviluppo sostenibile“. \nMaggiori informazioni sono disponibili al seguente link. \nSCARICA LA LOCANDINA \n 
URL:https://www.improntaetica.org/evento/21-10-street-art-for-rights-iii-edizione/
ATTACH;FMTTYPE=image/jpeg:https://www.improntaetica.org/wp-content/uploads/2022/10/street-art.jpg
END:VEVENT
BEGIN:VEVENT
DTSTART;TZID=Europe/Rome:20221018T000000
DTEND;TZID=Europe/Rome:20221021T000000
DTSTAMP:20260421T063220
CREATED:20221018T092614Z
LAST-MODIFIED:20221018T092614Z
UID:35698-1666051200-1666310400@www.improntaetica.org
SUMMARY:18/10-21/10 | L'economia sociale: il futuro di Bologna
DESCRIPTION:Quattro giorni di confronti e dibattiti.\nBologna si pone al centro del dibattito attuale sui temi dell’economia sociale e lo fa con ES/BO – L’Economia Sociale: il futuro di Bologna\, il futuro dell’Europa\, quattro giornate di confronto tra diversi protagonisti di livello nazionale ed europeo\, promosse da Città metropolitana\, Comune di Bologna e Ministero del Lavoro e delle Politiche sociali. Un programma ricco di appuntamenti\, che animerà la città tra il 18 e il 21 ottobre\, per contribuire alla costruzione di un nuovo modello di sviluppo che abbia l’economia sociale come uno dei sui pilastri principali\, in grado di generare crescita economica\, buona occupazione e inclusione sociale. \nLe giornate del 18 e 19 daranno apriranno programma e segneranno l’inizio di un percorso partecipato che\, partendo dalla presentazione del Manifesto “L’economia al servizio delle persone” e dal confronto con diverse realtà del territorio\, porterà alla costruzione del Piano metropolitano per l’Economia Sociale. \nMaggiori informazioni sono disponibili al seguente link. \nSCARICA IL PROGRAMMA
URL:https://www.improntaetica.org/evento/18-10-21-10-leconomia-sociale-il-futuro-di-bologna/
ATTACH;FMTTYPE=image/jpeg:https://www.improntaetica.org/wp-content/uploads/2020/10/città-metropolitana.jpg
END:VEVENT
BEGIN:VEVENT
DTSTART;VALUE=DATE:20221004
DTEND;VALUE=DATE:20221021
DTSTAMP:20260421T063220
CREATED:20220504T151021Z
LAST-MODIFIED:20220922T091720Z
UID:34781-1664841600-1666310399@www.improntaetica.org
SUMMARY:04/10-20/10 | Festival dello Sviluppo Sostenibile 2022
DESCRIPTION:La più grande manifestazione della società civile italiana sui temi della sostenibilità.\nTorna la più ampia e diffusa iniziativa italiana della società civile dedicata all’Agenda 2030 delle Nazioni Unite per sensibilizzare e mobilitare cittadini\, giovani generazioni\, imprese\, associazioni e istituzioni sui temi della sostenibilità economica\, sociale e ambientale. Giunta alla sua sesta edizione\, la manifestazione organizzata dall’Alleanza italiana per lo sviluppo sostenibile (ASviS) si svolgerà in autunno – dal 4 al 20 ottobre – in rete\, nei territori e nel mondo\, per promuovere i valori della sostenibilità e realizzare un cambiamento culturale e politico che consenta all’Italia di raggiungere i 17 Obiettivi di sviluppo sostenibile (SDGs – Sustainable Development Goals) dell’Agenda Onu. \nL’anno in corso ha fatto registrare un passo in avanti importante per l’Agenda con l’inserimento in Costituzione del concetto di sviluppo sostenibile\, uno degli obiettivi storici promossi dall’ASviS. La riforma degli Articoli 9 e 41 della Carta ha visto la tutela dell’ambiente\, della biodiversità e degli ecosistemi\, rientrare tra i diritti costituzionali\, in ottica di giustizia intergenerazionale. Tuttavia\, la guerra in Ucraina ha segnato una battuta di arresto e un sostanziale fallimento dell’azione multilaterale mirata alla pace\, alla cooperazione e allo sviluppo. Per porre fine a questa e altre crisi è necessario rivitalizzare il multilateralismo e non perdere di vista l’urgenza di accelerare la giusta transizione ecologica per rispondere alla crisi climatica. Di questi e di molti altri temi si discuterà nel corso del Festival\, dove esperti\, attivisti e professionisti si confronteranno per riflettere insieme su come proseguire e rafforzare il cammino verso lo sviluppo sostenibile. \nMaggiori informazioni sono disponibili al seguente link. 
URL:https://www.improntaetica.org/evento/04-2010-festival-dello-sviluppo-sostenibile-2022/
ATTACH;FMTTYPE=image/png:https://www.improntaetica.org/wp-content/uploads/2022/05/festival-asvis.png
END:VEVENT
END:VCALENDAR