BEGIN:VCALENDAR
VERSION:2.0
PRODID:-//Impronta Etica - ECPv6.15.20//NONSGML v1.0//EN
CALSCALE:GREGORIAN
METHOD:PUBLISH
X-ORIGINAL-URL:https://www.improntaetica.org
X-WR-CALDESC:Eventi per Impronta Etica
REFRESH-INTERVAL;VALUE=DURATION:PT1H
X-Robots-Tag:noindex
X-PUBLISHED-TTL:PT1H
BEGIN:VTIMEZONE
TZID:Europe/Rome
BEGIN:DAYLIGHT
TZOFFSETFROM:+0100
TZOFFSETTO:+0200
TZNAME:CEST
DTSTART:20150329T010000
END:DAYLIGHT
BEGIN:STANDARD
TZOFFSETFROM:+0200
TZOFFSETTO:+0100
TZNAME:CET
DTSTART:20151025T010000
END:STANDARD
BEGIN:DAYLIGHT
TZOFFSETFROM:+0100
TZOFFSETTO:+0200
TZNAME:CEST
DTSTART:20160327T010000
END:DAYLIGHT
BEGIN:STANDARD
TZOFFSETFROM:+0200
TZOFFSETTO:+0100
TZNAME:CET
DTSTART:20161030T010000
END:STANDARD
BEGIN:DAYLIGHT
TZOFFSETFROM:+0100
TZOFFSETTO:+0200
TZNAME:CEST
DTSTART:20170326T010000
END:DAYLIGHT
BEGIN:STANDARD
TZOFFSETFROM:+0200
TZOFFSETTO:+0100
TZNAME:CET
DTSTART:20171029T010000
END:STANDARD
END:VTIMEZONE
BEGIN:VEVENT
DTSTART;TZID=Europe/Rome:20160930T091500
DTEND;TZID=Europe/Rome:20160930T121500
DTSTAMP:20260421T081757
CREATED:20160805T102325Z
LAST-MODIFIED:20160805T102325Z
UID:10989-1475226900-1475237700@www.improntaetica.org
SUMMARY:Cambiare paradigma per realizzare un futuro sostenibile
DESCRIPTION:Evento conclusivo del Sodalitas Social Award.\nL’evento sarà l’occasione per premiate le 5 iniziative valutate più innovative ed efficaci nell’affrontare queste priorità: \n\nGiovani e futuro;\nLavoro\, pari opportunità e diritti umani;\nInnovazione sostenibile e processi di produzione;\nInnovazione sostenibile\, consumi e stili di vita;\nComunità\, territorio e qualità della vita.\n\n3 Premi speciali saranno inoltre assegnati all’iniziativa Best in class\, alla migliore iniziativa di Azienda quotata\, al progetto più efficace per Impegno multistakeholder.\nAll’evento saranno presenti anche Paolo Anselmi\, Vice Presidente di GfK\, che presenterà la relazione “Sostenibilità e solidarietà: verso un nuovo paradigma economico e culturale” e Enrico Giovannini\, Portavoce di ASviS-Alleanza Italiana per lo Sviluppo Sostenibile.\nE’ possibile iscriversi all’evento al seguente link.\nMaggiori informazioni  sono disponibili al seguente link.
URL:https://www.improntaetica.org/evento/cambiare-paradigma-realizzare-un-futuro-sostenibile/
LOCATION:Palazzo Mezzanotte\, Piazza degli Affari 6\, Milano
END:VEVENT
END:VCALENDAR