BEGIN:VCALENDAR
VERSION:2.0
PRODID:-//Impronta Etica - ECPv6.15.20//NONSGML v1.0//EN
CALSCALE:GREGORIAN
METHOD:PUBLISH
X-WR-CALNAME:Impronta Etica
X-ORIGINAL-URL:https://www.improntaetica.org
X-WR-CALDESC:Eventi per Impronta Etica
REFRESH-INTERVAL;VALUE=DURATION:PT1H
X-Robots-Tag:noindex
X-PUBLISHED-TTL:PT1H
BEGIN:VTIMEZONE
TZID:Europe/Rome
BEGIN:DAYLIGHT
TZOFFSETFROM:+0100
TZOFFSETTO:+0200
TZNAME:CEST
DTSTART:20180325T010000
END:DAYLIGHT
BEGIN:STANDARD
TZOFFSETFROM:+0200
TZOFFSETTO:+0100
TZNAME:CET
DTSTART:20181028T010000
END:STANDARD
BEGIN:DAYLIGHT
TZOFFSETFROM:+0100
TZOFFSETTO:+0200
TZNAME:CEST
DTSTART:20190331T010000
END:DAYLIGHT
BEGIN:STANDARD
TZOFFSETFROM:+0200
TZOFFSETTO:+0100
TZNAME:CET
DTSTART:20191027T010000
END:STANDARD
BEGIN:DAYLIGHT
TZOFFSETFROM:+0100
TZOFFSETTO:+0200
TZNAME:CEST
DTSTART:20200329T010000
END:DAYLIGHT
BEGIN:STANDARD
TZOFFSETFROM:+0200
TZOFFSETTO:+0100
TZNAME:CET
DTSTART:20201025T010000
END:STANDARD
END:VTIMEZONE
BEGIN:VEVENT
DTSTART;TZID=Europe/Rome:20191212T090000
DTEND;TZID=Europe/Rome:20191212T130000
DTSTAMP:20260421T092546
CREATED:20191209T091756Z
LAST-MODIFIED:20191209T091756Z
UID:29977-1576141200-1576155600@www.improntaetica.org
SUMMARY:Progetto GRAFENE
DESCRIPTION:Condividere esperienze\, strumenti e sperimentazioni per la valorizzazione delle competenze di persone provenienti da contesti di fragilità.\nIl progetto “Grafene: materiale per nuove resilienze”\, finanziato dalla Fondazione del Monte\, ha permesso di costruire uno strumento di valutazione delle competenze trasversali rivolto a persone provenienti da contesti di fragilità e di sperimentare un percorso modulare che include assessment di competenze trasversali\, valorizzazione e sviluppo di competenze soft e hard. \n \n 
URL:https://www.improntaetica.org/evento/progetto-grafene/
LOCATION:Palazzo Paltroni (via delle Donzelle\, 2)\, via delle Donzelle\, 2\, Bologna
ATTACH;FMTTYPE=image/png:https://www.improntaetica.org/wp-content/uploads/2019/08/open-group-def-e1485338758160.png
END:VEVENT
END:VCALENDAR