BEGIN:VCALENDAR
VERSION:2.0
PRODID:-//Impronta Etica - ECPv6.15.20//NONSGML v1.0//EN
CALSCALE:GREGORIAN
METHOD:PUBLISH
X-ORIGINAL-URL:https://www.improntaetica.org
X-WR-CALDESC:Eventi per Impronta Etica
REFRESH-INTERVAL;VALUE=DURATION:PT1H
X-Robots-Tag:noindex
X-PUBLISHED-TTL:PT1H
BEGIN:VTIMEZONE
TZID:Europe/Rome
BEGIN:DAYLIGHT
TZOFFSETFROM:+0100
TZOFFSETTO:+0200
TZNAME:CEST
DTSTART:20230326T010000
END:DAYLIGHT
BEGIN:STANDARD
TZOFFSETFROM:+0200
TZOFFSETTO:+0100
TZNAME:CET
DTSTART:20231029T010000
END:STANDARD
BEGIN:DAYLIGHT
TZOFFSETFROM:+0100
TZOFFSETTO:+0200
TZNAME:CEST
DTSTART:20240331T010000
END:DAYLIGHT
BEGIN:STANDARD
TZOFFSETFROM:+0200
TZOFFSETTO:+0100
TZNAME:CET
DTSTART:20241027T010000
END:STANDARD
BEGIN:DAYLIGHT
TZOFFSETFROM:+0100
TZOFFSETTO:+0200
TZNAME:CEST
DTSTART:20250330T010000
END:DAYLIGHT
BEGIN:STANDARD
TZOFFSETFROM:+0200
TZOFFSETTO:+0100
TZNAME:CET
DTSTART:20251026T010000
END:STANDARD
END:VTIMEZONE
BEGIN:VEVENT
DTSTART;TZID=Europe/Rome:20240522T173000
DTEND;TZID=Europe/Rome:20240522T173000
DTSTAMP:20260421T051504
CREATED:20240521T081237Z
LAST-MODIFIED:20240521T081237Z
UID:39135-1716399000-1716399000@www.improntaetica.org
SUMMARY:22/05 | Transizione digitale e intelligenza artificiale
DESCRIPTION:Istituzioni e governance rispetto al tema.\nSi terrà mercoledì 22 maggio alle 17.30 presso la Sala Stabat Mater della Biblioteca dell’Archiginnasio in Piazza Galvani 1 l’evento di Pandora Rivista “Transizione digitale e intelligenza artificiale. Istituzioni e governance”. \nGiusella Finocchiaro e Massimo Chiriatti dialogheranno con esperti di digitale ed esponenti delle istituzioni. Interverranno: Giusella Finocchiaro – Massimo Chiriatti – Emma Petitti – Vittorio Calaprice – Andrea Puligheddu. \nE’ possibile iscriversi e ottenere maggiori informazioni al seguente link.
URL:https://www.improntaetica.org/evento/22-05-transizione-digitale-e-intelligenza-artificiale/
ATTACH;FMTTYPE=image/jpeg:https://www.improntaetica.org/wp-content/uploads/2023/01/pandora.jpg
END:VEVENT
END:VCALENDAR