BEGIN:VCALENDAR
VERSION:2.0
PRODID:-//Impronta Etica - ECPv6.15.20//NONSGML v1.0//EN
CALSCALE:GREGORIAN
METHOD:PUBLISH
X-ORIGINAL-URL:https://www.improntaetica.org
X-WR-CALDESC:Eventi per Impronta Etica
REFRESH-INTERVAL;VALUE=DURATION:PT1H
X-Robots-Tag:noindex
X-PUBLISHED-TTL:PT1H
BEGIN:VTIMEZONE
TZID:Europe/Rome
BEGIN:DAYLIGHT
TZOFFSETFROM:+0100
TZOFFSETTO:+0200
TZNAME:CEST
DTSTART:20240331T010000
END:DAYLIGHT
BEGIN:STANDARD
TZOFFSETFROM:+0200
TZOFFSETTO:+0100
TZNAME:CET
DTSTART:20241027T010000
END:STANDARD
BEGIN:DAYLIGHT
TZOFFSETFROM:+0100
TZOFFSETTO:+0200
TZNAME:CEST
DTSTART:20250330T010000
END:DAYLIGHT
BEGIN:STANDARD
TZOFFSETFROM:+0200
TZOFFSETTO:+0100
TZNAME:CET
DTSTART:20251026T010000
END:STANDARD
BEGIN:DAYLIGHT
TZOFFSETFROM:+0100
TZOFFSETTO:+0200
TZNAME:CEST
DTSTART:20260329T010000
END:DAYLIGHT
BEGIN:STANDARD
TZOFFSETFROM:+0200
TZOFFSETTO:+0100
TZNAME:CET
DTSTART:20261025T010000
END:STANDARD
END:VTIMEZONE
BEGIN:VEVENT
DTSTART;TZID=Europe/Rome:20250916T090000
DTEND;TZID=Europe/Rome:20250916T173000
DTSTAMP:20260421T043932
CREATED:20250912T083910Z
LAST-MODIFIED:20250912T084854Z
UID:41446-1758013200-1758043800@www.improntaetica.org
SUMMARY:16/09 | Educazione finanziaria\, PMI e sostenibilità
DESCRIPTION:Il nuovo evento di Task Force Italia.\nSi terrà il 16 settembre 2025 dalle 9.00 alle 17.30 presso la CEOforLIFE ClubHouse a Roma l’evento a cura della Task Force Italia volto ad approfondire i temi legati alla crescita sostenibile delle imprese con particolare esperienza al settore delle PMI. \nL’incontro\, che si colloca all’interno di un più ampio percorso di incontri volto ad approfondire diversi temi dello sviluppo sostenibile d’impresa\, sarà caratterizzato da diverse tavole rotonde e interventi di esperti del settore che esploreranno attraverso diverse prospettive come la finanza rappresenti una leva fondamentale per uno sviluppo sostenibile delle imprese sotto molteplici aspetti. \nMaggiori informazioni sul programma e su come iscriversi sono disponibili al seguente link. \nMaggiori informazioni sul programma degli altri incontri organizzati sono disponibili al seguente link.
URL:https://www.improntaetica.org/evento/16-09-educazione-finanziaria-pmi-e-sostenibilita/
CATEGORIES:Eventi 2025
ATTACH;FMTTYPE=image/png:https://www.improntaetica.org/wp-content/uploads/2025/07/Screenshot-2025-07-11-101300.png
END:VEVENT
END:VCALENDAR