BEGIN:VCALENDAR
VERSION:2.0
PRODID:-//Impronta Etica - ECPv6.15.20//NONSGML v1.0//EN
CALSCALE:GREGORIAN
METHOD:PUBLISH
X-ORIGINAL-URL:https://www.improntaetica.org
X-WR-CALDESC:Eventi per Impronta Etica
REFRESH-INTERVAL;VALUE=DURATION:PT1H
X-Robots-Tag:noindex
X-PUBLISHED-TTL:PT1H
BEGIN:VTIMEZONE
TZID:Europe/Rome
BEGIN:DAYLIGHT
TZOFFSETFROM:+0100
TZOFFSETTO:+0200
TZNAME:CEST
DTSTART:20240331T010000
END:DAYLIGHT
BEGIN:STANDARD
TZOFFSETFROM:+0200
TZOFFSETTO:+0100
TZNAME:CET
DTSTART:20241027T010000
END:STANDARD
BEGIN:DAYLIGHT
TZOFFSETFROM:+0100
TZOFFSETTO:+0200
TZNAME:CEST
DTSTART:20250330T010000
END:DAYLIGHT
BEGIN:STANDARD
TZOFFSETFROM:+0200
TZOFFSETTO:+0100
TZNAME:CET
DTSTART:20251026T010000
END:STANDARD
BEGIN:DAYLIGHT
TZOFFSETFROM:+0100
TZOFFSETTO:+0200
TZNAME:CEST
DTSTART:20260329T010000
END:DAYLIGHT
BEGIN:STANDARD
TZOFFSETFROM:+0200
TZOFFSETTO:+0100
TZNAME:CET
DTSTART:20261025T010000
END:STANDARD
END:VTIMEZONE
BEGIN:VEVENT
DTSTART;VALUE=DATE:20251202
DTEND;VALUE=DATE:20251205
DTSTAMP:20260420T225634
CREATED:20251114T095828Z
LAST-MODIFIED:20251117T105044Z
UID:41954-1764633600-1764892799@www.improntaetica.org
SUMMARY:2/12 - 4/12 | Conferenza Nazionale per lo Sviluppo Sostenibile
DESCRIPTION:La nuova Conferenza Nazionale per lo Sviluppo Sostenibile\nIl MASE e il Coordinamento del Forum Nazionale per lo Sviluppo Sostenibile organizzeranno dal 2 al 4 dicembre a Roma presso Palazzo Valentini\, la Conferenza Nazionale per lo Sviluppo Sostenibile. La Conferenza sarà modulata sulle tre condizioni abilitanti che insieme al Forum e a tutti gli attori del sistema di attuazione della Strategia Nazionale per lo Sviluppo Sostenibile (SNvS) identificano come Vettori di sostenibilità della SNSvS: la cultura per la sostenibilità\, la partecipazione e il coinvolgimento delle giovani generazioni\, la coerenza delle politiche per lo sviluppo sostenibile. \nLa Conferenza annuale sarà lo spazio in cui istituzioni centrali e territoriali\, le organizzazioni del Forum Nazionale per lo Sviluppo Sostenibile e altri attori rilevanti si incontrano esercitando l’ascolto attivo e il dialogo sulla sostenibilità\, ripercorrendo la strada fatta\, rilanciando il confronto su alcuni temi chiave per ricavare spunti utili a proseguire il cammino. \nImpronta Etica parteciperà in quanto parte del Gruppo di lavoro Prosperità del Forum per lo Sviluppo Sostenibile\, prendendo parte attivamente all’organizzazione e allo svolgimento di laboratori e gruppi di confronto. \nIscriviti qui.
URL:https://www.improntaetica.org/evento/2-12-4-12-conferenza-nazionale-per-lo-sviluppo-sostenibile/
CATEGORIES:Eventi 2025
ATTACH;FMTTYPE=image/png:https://www.improntaetica.org/wp-content/uploads/2025/11/Cattura-8-e1763128560137.png
END:VEVENT
BEGIN:VEVENT
DTSTART;TZID=Europe/Rome:20251210T173000
DTEND;TZID=Europe/Rome:20251210T190000
DTSTAMP:20260420T225634
CREATED:20251128T145645Z
LAST-MODIFIED:20251205T132908Z
UID:42061-1765387800-1765393200@www.improntaetica.org
SUMMARY:10/12 | Workshop "Il Welfare che Funziona" di BOOM
DESCRIPTION:Ripensare il Welfare in chiave strategica.\nMercoledì 10 dicembre\, dalle 17:30 alle\, il Boom Knowledge Hub di CRIF\, impresa socia di Impronta Etica\, ospiterà a Osteria Grande (Bologna) un nuovo workshop dal titolo “Il Welfare che Funziona“\, in collaborazione con Satispay\, dedicato alla trasformazione del welfare aziendale in una leva strategica per attrarre e trattenere talenti. \nIl welfare non è più infatti solo un insieme di benefit\, ma uno strumento per migliorare engagement\, produttività e qualità dell’ambiente del lavoro. Per questo\, durante l’incontro saranno esplorati i tre grandi driver dell’evoluzione del settore: flessibilità\, sostenibilità e approccio data-driven. \nIl programma dell’evento prevdede l’analisi di strumenti operativi e casi concreti oltre a testimonianze aziendali che evidenzieranno come sia possibile riuscire a traslare dalle policy all’impatto reale sulle persone. \nL’evento è a numero chiuso\, le iscrizioni verranno dunque confermate in base alla disponibilità dei posti e alla pertinenza dei profili con temi trattati\, come HR\, manager e professionisti interessati a ripesare il welfare in chiave strategica. \nMaggiori informazioni sul programma e come registrarsi sono disponibili al seguente link.
URL:https://www.improntaetica.org/evento/10-12-h1730-workshop-il-welfare-che-funziona-di-boom/
CATEGORIES:Eventi 2025
ATTACH;FMTTYPE=image/png:https://www.improntaetica.org/wp-content/uploads/2025/11/Screenshot-2025-11-24-163139-e1763998383689.png
END:VEVENT
END:VCALENDAR