BEGIN:VCALENDAR
VERSION:2.0
PRODID:-//Impronta Etica - ECPv6.15.20//NONSGML v1.0//EN
CALSCALE:GREGORIAN
METHOD:PUBLISH
X-WR-CALNAME:Impronta Etica
X-ORIGINAL-URL:https://www.improntaetica.org
X-WR-CALDESC:Eventi per Impronta Etica
REFRESH-INTERVAL;VALUE=DURATION:PT1H
X-Robots-Tag:noindex
X-PUBLISHED-TTL:PT1H
BEGIN:VTIMEZONE
TZID:Europe/Rome
BEGIN:DAYLIGHT
TZOFFSETFROM:+0100
TZOFFSETTO:+0200
TZNAME:CEST
DTSTART:20240331T010000
END:DAYLIGHT
BEGIN:STANDARD
TZOFFSETFROM:+0200
TZOFFSETTO:+0100
TZNAME:CET
DTSTART:20241027T010000
END:STANDARD
BEGIN:DAYLIGHT
TZOFFSETFROM:+0100
TZOFFSETTO:+0200
TZNAME:CEST
DTSTART:20250330T010000
END:DAYLIGHT
BEGIN:STANDARD
TZOFFSETFROM:+0200
TZOFFSETTO:+0100
TZNAME:CET
DTSTART:20251026T010000
END:STANDARD
BEGIN:DAYLIGHT
TZOFFSETFROM:+0100
TZOFFSETTO:+0200
TZNAME:CEST
DTSTART:20260329T010000
END:DAYLIGHT
BEGIN:STANDARD
TZOFFSETFROM:+0200
TZOFFSETTO:+0100
TZNAME:CET
DTSTART:20261025T010000
END:STANDARD
END:VTIMEZONE
BEGIN:VEVENT
DTSTART;VALUE=DATE:20251001
DTEND;VALUE=DATE:20251020
DTSTAMP:20260421T044405
CREATED:20250923T150328Z
LAST-MODIFIED:20250923T150328Z
UID:41713-1759276800-1760918399@www.improntaetica.org
SUMMARY:01/10 - 19/10 | Festival del Presente 2025
DESCRIPTION:Forme del Caos. Disordine\, complessità\, trasformazione.\nDall’1 al 19 ottobre si terrà a Bologna e Castelfranco Emilia la nuova edizione del Festival del Presente a cura di Pandora Rivista\, che proporrà tre settimane di talk\, lezioni\, dibattiti e interviste per comprendere come muoversi nel presente. \nDurante l’edizione di quest’anno il Festival esplorerà come si possono affrontare le crisi sistemiche di oggi\, segnato da guerre\, tensioni globali crescenti e la profonda crisi dell’ordine internazionale odierno. \nAllo stesso tempo gli esperti di imprese\, mondo accademico\, media e istituzioni rifletteranno come le categorie di ordine e disordine possano essere oggi ribaltate agendo nella complessità per disegnare possibili traiettorie future di cambiamento. \nMaggiori informazioni sul programma saranno disponibili al seguente link.
URL:https://www.improntaetica.org/evento/01-10-19-10-festival-del-presente-2025/
CATEGORIES:Eventi 2025
ATTACH;FMTTYPE=image/jpeg:https://www.improntaetica.org/wp-content/uploads/2023/01/pandora.jpg
END:VEVENT
BEGIN:VEVENT
DTSTART;TZID=Europe/Rome:20251016T163000
DTEND;TZID=Europe/Rome:20251016T180000
DTSTAMP:20260421T044405
CREATED:20250906T145051Z
LAST-MODIFIED:20250912T120526Z
UID:41638-1760632200-1760637600@www.improntaetica.org
SUMMARY:16/10 | Tech EmpowHer
DESCRIPTION:Quando la tecnologia diventa donna\n\n\nBOOM\, l’Innovation Hub di Crif\, Socio di Impronta Etica\, continua il proprio impegno nel percorso “BOOM Tech EmpowHer”\, ideato in collaborazione con associazioni ed enti del territorio\, che si pone l’obiettivo di supportare le aziende nel facilitare una presenza femminile sempre crescente in ruoli Tech. \nL’incontro che si svolgerà giovedì 16 ottobre 2025 in modalità webinar\, esplorerà il ruolo sempre più centrale delle donne nell’ambito dell’innovazione\, focalizzando la propria attenzione sul loro ruolo decisivo nella creazione di un sinergia tra innovazione e sostenibilità. \nOltre a evidenziare la necessità di colmare il divario di genere nelle aziende in ambito tecnologico\, l’incontro allargherà il proprio sguardo a come le tecnologie stanno impattando sulle politiche per la parità di genere\, facilitando o ostacolando questo fondamentale processo. \nMaggiori informazioni sul programma e su come iscriversi sono disponibili al seguente link.
URL:https://www.improntaetica.org/evento/16-10-tech-empowher/
CATEGORIES:Eventi 2025
ATTACH;FMTTYPE=image/jpeg:https://www.improntaetica.org/wp-content/uploads/2023/02/boom.jpg
END:VEVENT
END:VCALENDAR