BEGIN:VCALENDAR
VERSION:2.0
PRODID:-//Impronta Etica - ECPv6.15.20//NONSGML v1.0//EN
CALSCALE:GREGORIAN
METHOD:PUBLISH
X-WR-CALNAME:Impronta Etica
X-ORIGINAL-URL:https://www.improntaetica.org
X-WR-CALDESC:Eventi per Impronta Etica
REFRESH-INTERVAL;VALUE=DURATION:PT1H
X-Robots-Tag:noindex
X-PUBLISHED-TTL:PT1H
BEGIN:VTIMEZONE
TZID:Europe/Rome
BEGIN:DAYLIGHT
TZOFFSETFROM:+0100
TZOFFSETTO:+0200
TZNAME:CEST
DTSTART:20240331T010000
END:DAYLIGHT
BEGIN:STANDARD
TZOFFSETFROM:+0200
TZOFFSETTO:+0100
TZNAME:CET
DTSTART:20241027T010000
END:STANDARD
BEGIN:DAYLIGHT
TZOFFSETFROM:+0100
TZOFFSETTO:+0200
TZNAME:CEST
DTSTART:20250330T010000
END:DAYLIGHT
BEGIN:STANDARD
TZOFFSETFROM:+0200
TZOFFSETTO:+0100
TZNAME:CET
DTSTART:20251026T010000
END:STANDARD
BEGIN:DAYLIGHT
TZOFFSETFROM:+0100
TZOFFSETTO:+0200
TZNAME:CEST
DTSTART:20260329T010000
END:DAYLIGHT
BEGIN:STANDARD
TZOFFSETFROM:+0200
TZOFFSETTO:+0100
TZNAME:CET
DTSTART:20261025T010000
END:STANDARD
END:VTIMEZONE
BEGIN:VEVENT
DTSTART;VALUE=DATE:20251028
DTEND;VALUE=DATE:20251112
DTSTAMP:20260421T032233
CREATED:20250923T152009Z
LAST-MODIFIED:20250923T152009Z
UID:41715-1761609600-1762905599@www.improntaetica.org
SUMMARY:28/10-12/11 | Settimane SRI dell'investimento sostenibile e responsabile
DESCRIPTION:Al via la 14esima edizione delle Settimane SRI del Forum Finanza Sostenibile.\nSi terrà dal 28 ottobre al 12 novembre 2025 la 14esima edizione delle Settimane dell’Investimento Sostenibile e Responsabile a cura del Forum Finanza Sostenibile\, di cui Impronta Etica è Socio\, il principale evento nazionale dedicato alla finanza sostenibile. \nDurante le Settimane SRI si svolgeranno eventi sia in presenza\, a Milano e Roma\, che online si esploreranno diverse tematiche legate alla finanza sostenibile\, riflettendo su quelle che sono le traiettorie future che mirano a dare uno sviluppo sostenibile al mondo finanziario. \nL’evento di apertura delle Settimane SRI si terrà il 28 ottobre presso il Luiss Hub\, via M. d’Azeglio 3\, a Milano dal titolo “A prova di futuro: giovani\, sostenibilità e investimenti”\, esplorerà le attitudini e l’approccio dei giovani rispetto al risparmio e agli investimenti\, alla sostenibilità e ai prodotti di investimento sostenibili. \nMaggiori informazioni sul programma delle Settimane SRI è disponibile al seguente link. \nMaggiori informazioni su come registrarsi all’evento di apertura è disponibile al seguente link.
URL:https://www.improntaetica.org/evento/28-10-12-11-settimane-sri-dellinvestimento-sostenibile-e-responsabile/
CATEGORIES:Eventi 2025
ATTACH;FMTTYPE=image/png:https://www.improntaetica.org/wp-content/uploads/2025/06/ffs-e1758640784996.png
END:VEVENT
END:VCALENDAR