BEGIN:VCALENDAR
VERSION:2.0
PRODID:-//Impronta Etica - ECPv6.15.20//NONSGML v1.0//EN
CALSCALE:GREGORIAN
METHOD:PUBLISH
X-ORIGINAL-URL:https://www.improntaetica.org
X-WR-CALDESC:Eventi per Impronta Etica
REFRESH-INTERVAL;VALUE=DURATION:PT1H
X-Robots-Tag:noindex
X-PUBLISHED-TTL:PT1H
BEGIN:VTIMEZONE
TZID:Europe/Rome
BEGIN:DAYLIGHT
TZOFFSETFROM:+0100
TZOFFSETTO:+0200
TZNAME:CEST
DTSTART:20250330T010000
END:DAYLIGHT
BEGIN:STANDARD
TZOFFSETFROM:+0200
TZOFFSETTO:+0100
TZNAME:CET
DTSTART:20251026T010000
END:STANDARD
BEGIN:DAYLIGHT
TZOFFSETFROM:+0100
TZOFFSETTO:+0200
TZNAME:CEST
DTSTART:20260329T010000
END:DAYLIGHT
BEGIN:STANDARD
TZOFFSETFROM:+0200
TZOFFSETTO:+0100
TZNAME:CET
DTSTART:20261025T010000
END:STANDARD
BEGIN:DAYLIGHT
TZOFFSETFROM:+0100
TZOFFSETTO:+0200
TZNAME:CEST
DTSTART:20270328T010000
END:DAYLIGHT
BEGIN:STANDARD
TZOFFSETFROM:+0200
TZOFFSETTO:+0100
TZNAME:CET
DTSTART:20271031T010000
END:STANDARD
END:VTIMEZONE
BEGIN:VEVENT
DTSTART;TZID=Europe/Rome:20260305T100000
DTEND;TZID=Europe/Rome:20260305T133000
DTSTAMP:20260420T203232
CREATED:20260213T155825Z
LAST-MODIFIED:20260213T155825Z
UID:42477-1772704800-1772717400@www.improntaetica.org
SUMMARY:05/03 | ASviS-Save the Children sulla valutazione di impatto generazionale
DESCRIPTION:Giovani e futuro al centro delle decisioni pubbliche.\nIl 5 marzo dalle 10 alle 13.30 presso l’Auditorium di Save the Children\, Piazza San Francesco di Paola\, 9\, a Roma si terrà l’evento dal titolo “La Valutazione d’impatto generazionale delle politiche pubbliche: una sfida senza precedenti per l’Italia”\, promosso da ASviS in collaborazione con Save the Children nell’ambito del progetto Ecosistema Futuro. \nL’incontro sarà l’occasione per presentare un Rapporto che analizza criticità e opportunità dell’introduzione della Valutazione di impatto generazionale (Vig) e formula raccomandazioni al Governo\, chiamato a emanare il decreto attuativo della legge\, e alle istituzioni per rendere lo strumento realmente efficace. \nLa Vig\, prevista dalla legge n. 167/2025\, introduce l’obbligo di valutare preventivamente gli effetti sociali e ambientali delle nuove norme su giovani e future generazioni\, affiancata dalla Valutazione di impatto di genere (Vige). \nLa registrazione obbligatoria è disponibile al seguente link. \nMaggiori informazioni sono disponibili al seguente link.
URL:https://www.improntaetica.org/evento/05-03-asvis-save-the-children-sulla-valutazione-di-impatto-generazionale/
CATEGORIES:Eventi 2026,Eventi 2026
ATTACH;FMTTYPE=image/png:https://www.improntaetica.org/wp-content/uploads/2026/02/Screenshot-2026-02-12-174114-e1770914614115.png
END:VEVENT
END:VCALENDAR