BEGIN:VCALENDAR
VERSION:2.0
PRODID:-//Impronta Etica - ECPv6.15.20//NONSGML v1.0//EN
CALSCALE:GREGORIAN
METHOD:PUBLISH
X-ORIGINAL-URL:https://www.improntaetica.org
X-WR-CALDESC:Eventi per Impronta Etica
REFRESH-INTERVAL;VALUE=DURATION:PT1H
X-Robots-Tag:noindex
X-PUBLISHED-TTL:PT1H
BEGIN:VTIMEZONE
TZID:Europe/Rome
BEGIN:DAYLIGHT
TZOFFSETFROM:+0100
TZOFFSETTO:+0200
TZNAME:CEST
DTSTART:20170326T010000
END:DAYLIGHT
BEGIN:STANDARD
TZOFFSETFROM:+0200
TZOFFSETTO:+0100
TZNAME:CET
DTSTART:20171029T010000
END:STANDARD
BEGIN:DAYLIGHT
TZOFFSETFROM:+0100
TZOFFSETTO:+0200
TZNAME:CEST
DTSTART:20180325T010000
END:DAYLIGHT
BEGIN:STANDARD
TZOFFSETFROM:+0200
TZOFFSETTO:+0100
TZNAME:CET
DTSTART:20181028T010000
END:STANDARD
BEGIN:DAYLIGHT
TZOFFSETFROM:+0100
TZOFFSETTO:+0200
TZNAME:CEST
DTSTART:20190331T010000
END:DAYLIGHT
BEGIN:STANDARD
TZOFFSETFROM:+0200
TZOFFSETTO:+0100
TZNAME:CET
DTSTART:20191027T010000
END:STANDARD
BEGIN:DAYLIGHT
TZOFFSETFROM:+0100
TZOFFSETTO:+0200
TZNAME:CEST
DTSTART:20200329T010000
END:DAYLIGHT
BEGIN:STANDARD
TZOFFSETFROM:+0200
TZOFFSETTO:+0100
TZNAME:CET
DTSTART:20201025T010000
END:STANDARD
BEGIN:DAYLIGHT
TZOFFSETFROM:+0100
TZOFFSETTO:+0200
TZNAME:CEST
DTSTART:20210328T010000
END:DAYLIGHT
BEGIN:STANDARD
TZOFFSETFROM:+0200
TZOFFSETTO:+0100
TZNAME:CET
DTSTART:20211031T010000
END:STANDARD
BEGIN:DAYLIGHT
TZOFFSETFROM:+0100
TZOFFSETTO:+0200
TZNAME:CEST
DTSTART:20220327T010000
END:DAYLIGHT
BEGIN:STANDARD
TZOFFSETFROM:+0200
TZOFFSETTO:+0100
TZNAME:CET
DTSTART:20221030T010000
END:STANDARD
BEGIN:DAYLIGHT
TZOFFSETFROM:+0100
TZOFFSETTO:+0200
TZNAME:CEST
DTSTART:20230326T010000
END:DAYLIGHT
BEGIN:STANDARD
TZOFFSETFROM:+0200
TZOFFSETTO:+0100
TZNAME:CET
DTSTART:20231029T010000
END:STANDARD
END:VTIMEZONE
BEGIN:VEVENT
DTSTART;TZID=Europe/Rome:20221110T000000
DTEND;TZID=Europe/Rome:20221130T000000
DTSTAMP:20260421T071848
CREATED:20220707T111927Z
LAST-MODIFIED:20220707T111927Z
UID:35124-1668038400-1669766400@www.improntaetica.org
SUMMARY:10/11-30/11 | Settimane SRI
DESCRIPTION:Il principale appuntamento in Italia dedicato all’Investimento Sostenibile e Responsabile.\nL’undicesima edizione delle Settimane SRI organizzate dal Forum per la finanza sostenibile si terranno dal 10 al 30 novembre 2022\, in presenza (a Milano e a Roma) e online. \nConvegni e seminari approfondiranno temi di primo piano nell’ambito della finanza sostenibile\, anche con la presentazione di ricerche e pubblicazioni. \nIl programma completo sarà pubblicato a settembre 2022. \nMaggiori informazioni sono disponibili al seguente link.
URL:https://www.improntaetica.org/evento/10-11-30-11-settimane-sri/
ATTACH;FMTTYPE=image/png:https://www.improntaetica.org/wp-content/uploads/2022/06/forum-finanza-sost.png
END:VEVENT
BEGIN:VEVENT
DTSTART;TZID=Europe/Rome:20221021T103000
DTEND;TZID=Europe/Rome:20221021T153000
DTSTAMP:20260421T071848
CREATED:20220923T143935Z
LAST-MODIFIED:20220923T143935Z
UID:35511-1666348200-1666366200@www.improntaetica.org
SUMMARY:21/10 | Salone SRI 2022
DESCRIPTION:L’inizio della settima edizione a Roma.\nIl 21 ottobre\, dalle 10:30 alle 15:30\, l’Università Cattolica ospiterà nella sua sede\, solo in presenza\, due tavole rotonde e un pranzo di networking per la tappa capitolina del Salone SRI 2022\, organizzato da Etica News in collaborazione con ALTIS Unicatt. \nL’evento coinvolgerà gli investitori istituzionali\, gli asset manager\, e i docenti del Master in Finanza Sostenibile di ALTIS Università Cattolica. Le tematiche saranno in coerenza con gli obiettivi di salone.SRI 2022 che punta ad aiutare la distinzione tra i grandi volumi di prodotti e servizi sostenibili che hanno travolto il mercato.L’evento in Università Cattolica\, in particolare\, si focalizzerà sullo sviluppo del capitale umano su cui investire\, nonché sulle frontiere dell’engagement adottato dai fondi pensione\, in relazione alla shareholder rights directive. Con “l’inizio a Roma“\, salone.SRI per la prima volta apre gli orizzonti della finanza Esg oltre gli abituali confini di Milano. \nMaggiori informazioni sono disponibili al seguente link. \nE’ possibile registrarsi al seguente link.
URL:https://www.improntaetica.org/evento/21-10-salone-sri-2022/
ATTACH;FMTTYPE=image/jpeg:https://www.improntaetica.org/wp-content/uploads/2022/09/salone-sri.jpg
END:VEVENT
BEGIN:VEVENT
DTSTART;TZID=Europe/Rome:20180125T093000
DTEND;TZID=Europe/Rome:20180125T110000
DTSTAMP:20260421T071848
CREATED:20180112T164039Z
LAST-MODIFIED:20180112T164039Z
UID:14149-1516872600-1516878000@www.improntaetica.org
SUMMARY:Nuovi strumenti di impact investing
DESCRIPTION:Come aumentare la liquidità del mercato? Come avvicinare la finanza a questa strategia di investimento sostenibile?\nAttraverso la formula dello SRI Breakfast il Forum per la Finanza Sostenibile ha l’obiettivo di offrire agli operatori del settore – e\, in particolare\, alla cosiddetta “comunità SRI” – un momento di approfondimento dal taglio operativo su temi specifici dell’analisi ESG\, particolarmente innovativi o di forte attualità attraverso un momento di scambio e di networking.\nIl primo appuntamento del 2018 propone una riflessione sull’impact investing: come aumentare la liquidità del mercato? Come avvicinare la finanza a questa strategia di investimento sostenibile?\nPer rendere l’offerta di prodotti più strutturata e fornire agli investitori informazioni dettagliate rispetto ai profili di rischio\, una prima risposta può arrivare dall’utilizzo di titoli asset backed e dai mini bond in strutture finanziarie in grado di rendere maggiormente liquidi e sicuri gli strumenti del mercato.\nMaggiori informazioni e per iscriversi all’evento sono disponibili al seguente link.\nProgramma
URL:https://www.improntaetica.org/evento/nuovi-strumenti-impact-investing/
ATTACH;FMTTYPE=:
END:VEVENT
END:VCALENDAR