BEGIN:VCALENDAR
VERSION:2.0
PRODID:-//Impronta Etica - ECPv6.15.20//NONSGML v1.0//EN
CALSCALE:GREGORIAN
METHOD:PUBLISH
X-ORIGINAL-URL:https://www.improntaetica.org
X-WR-CALDESC:Eventi per Impronta Etica
REFRESH-INTERVAL;VALUE=DURATION:PT1H
X-Robots-Tag:noindex
X-PUBLISHED-TTL:PT1H
BEGIN:VTIMEZONE
TZID:Europe/Rome
BEGIN:DAYLIGHT
TZOFFSETFROM:+0100
TZOFFSETTO:+0200
TZNAME:CEST
DTSTART:20160327T010000
END:DAYLIGHT
BEGIN:STANDARD
TZOFFSETFROM:+0200
TZOFFSETTO:+0100
TZNAME:CET
DTSTART:20161030T010000
END:STANDARD
BEGIN:DAYLIGHT
TZOFFSETFROM:+0100
TZOFFSETTO:+0200
TZNAME:CEST
DTSTART:20170326T010000
END:DAYLIGHT
BEGIN:STANDARD
TZOFFSETFROM:+0200
TZOFFSETTO:+0100
TZNAME:CET
DTSTART:20171029T010000
END:STANDARD
BEGIN:DAYLIGHT
TZOFFSETFROM:+0100
TZOFFSETTO:+0200
TZNAME:CEST
DTSTART:20180325T010000
END:DAYLIGHT
BEGIN:STANDARD
TZOFFSETFROM:+0200
TZOFFSETTO:+0100
TZNAME:CET
DTSTART:20181028T010000
END:STANDARD
END:VTIMEZONE
BEGIN:VEVENT
DTSTART;TZID=Europe/Rome:20171122T100000
DTEND;TZID=Europe/Rome:20171124T130000
DTSTAMP:20260421T063813
CREATED:20171031T161215Z
LAST-MODIFIED:20171031T161215Z
UID:13828-1511344800-1511528400@www.improntaetica.org
SUMMARY:Visioni – Meeting Nazionale Coopstartup 2017
DESCRIPTION:L’appuntamento annuale del progetto Coopstartup di Coopfond.\nL’evento – dedicato alle startup cooperative\, all’innovazione\, alla cooperazione nel nostro Paese – quest’anno dal titolo “Visioni” vedrà ancora più spazio rivolto alle giovani realtà cooperative che si sono costituite su tutto il territorio nazionale attraverso le sperimentazioni Coopstartup. Sono trenta oramai i progetti di impresa avviati su tutto il territorio nazionale.\nSono previsti importanti momenti di confronto\, di dibattito e di condivisione su diversi temi: finanza\, industria 4.0\, innovazione sociale\, comunicazione e marketing\, servizi Legacoop\, amministrazione\, risorse umane\, sostenibilità ambientale e sociale. Confermata anche quest’anno l’attenzione verso una concreta interazione tra le giovani cooperative e quelle consolidate.\nIl programma e maggiori informazioni sono disponibili al sito dedicato all’evento.
URL:https://www.improntaetica.org/evento/visioni-meeting-nazionale-coopstartup-2017/
LOCATION:FICO Eataly World\, Via Paolo Canali\, 8\, Bologna\, 40127\, Italia
ATTACH;FMTTYPE=:
END:VEVENT
END:VCALENDAR