BEGIN:VCALENDAR
VERSION:2.0
PRODID:-//Impronta Etica - ECPv6.15.20//NONSGML v1.0//EN
CALSCALE:GREGORIAN
METHOD:PUBLISH
X-ORIGINAL-URL:https://www.improntaetica.org
X-WR-CALDESC:Eventi per Impronta Etica
REFRESH-INTERVAL;VALUE=DURATION:PT1H
X-Robots-Tag:noindex
X-PUBLISHED-TTL:PT1H
BEGIN:VTIMEZONE
TZID:Europe/Rome
BEGIN:DAYLIGHT
TZOFFSETFROM:+0100
TZOFFSETTO:+0200
TZNAME:CEST
DTSTART:20220327T010000
END:DAYLIGHT
BEGIN:STANDARD
TZOFFSETFROM:+0200
TZOFFSETTO:+0100
TZNAME:CET
DTSTART:20221030T010000
END:STANDARD
BEGIN:DAYLIGHT
TZOFFSETFROM:+0100
TZOFFSETTO:+0200
TZNAME:CEST
DTSTART:20230326T010000
END:DAYLIGHT
BEGIN:STANDARD
TZOFFSETFROM:+0200
TZOFFSETTO:+0100
TZNAME:CET
DTSTART:20231029T010000
END:STANDARD
BEGIN:DAYLIGHT
TZOFFSETFROM:+0100
TZOFFSETTO:+0200
TZNAME:CEST
DTSTART:20240331T010000
END:DAYLIGHT
BEGIN:STANDARD
TZOFFSETFROM:+0200
TZOFFSETTO:+0100
TZNAME:CET
DTSTART:20241027T010000
END:STANDARD
END:VTIMEZONE
BEGIN:VEVENT
DTSTART;TZID=Europe/Rome:20230706T110000
DTEND;TZID=Europe/Rome:20230706T130000
DTSTAMP:20260423T200535
CREATED:20230623T121125Z
LAST-MODIFIED:20230623T121125Z
UID:37137-1688641200-1688648400@www.improntaetica.org
SUMMARY:06/07 | La prospettiva civile dell’impatto sociale
DESCRIPTION:Come non cedere a tecnocrazia e strumentalità.\nSi terrà il 6 luglio dalle ore 11.00 alle ore 13.00 l’ evento promosso da AICCON in collaborazione con il Corso di Laurea Magistrale in Management dell’Economia Sociale dal titolo “La prospettiva civile dell’impatto sociale” presso la Scuola di Economia e Management (Aula Mattarelli) in Piazzale della Vittoria 15 a Forlì. \nLa crescente rilevanza per il Terzo settore e l’economia sociale dell’impatto sociale ha stimolato in AICCON il desiderio di promuovere una riflessione sulle sperimentazioni\, le culture e le pratiche di valutazione. \nL’iniziativa non vuole promuovere un dibattito sugli strumenti e le metriche oggi in uso\, ma si propone di condividere una proposta ed una «postura» che riteniamo oggi indispensabile per non cadere nelle trappole della tecnocrazia e della strumentalità. \nSarà possibile partecipare in presenza (posti limitati) o seguire i lavori in diretta streaming. \nA breve online il programma. \nMaggiori informazioni sono disponibili al seguente link. \nE’ possibile iscriversi in presenza al seguente link. \nE’ possibile iscriversi online al seguente link.
URL:https://www.improntaetica.org/evento/06-07-la-prospettiva-civile-dellimpatto-sociale/
ATTACH;FMTTYPE=image/jpeg:https://www.improntaetica.org/wp-content/uploads/2019/06/aiccon-e1499700644168.jpg
END:VEVENT
END:VCALENDAR