BEGIN:VCALENDAR
VERSION:2.0
PRODID:-//Impronta Etica - ECPv6.15.20//NONSGML v1.0//EN
CALSCALE:GREGORIAN
METHOD:PUBLISH
X-ORIGINAL-URL:https://www.improntaetica.org
X-WR-CALDESC:Eventi per Impronta Etica
REFRESH-INTERVAL;VALUE=DURATION:PT1H
X-Robots-Tag:noindex
X-PUBLISHED-TTL:PT1H
BEGIN:VTIMEZONE
TZID:Europe/Rome
BEGIN:DAYLIGHT
TZOFFSETFROM:+0100
TZOFFSETTO:+0200
TZNAME:CEST
DTSTART:20240331T010000
END:DAYLIGHT
BEGIN:STANDARD
TZOFFSETFROM:+0200
TZOFFSETTO:+0100
TZNAME:CET
DTSTART:20241027T010000
END:STANDARD
BEGIN:DAYLIGHT
TZOFFSETFROM:+0100
TZOFFSETTO:+0200
TZNAME:CEST
DTSTART:20250330T010000
END:DAYLIGHT
BEGIN:STANDARD
TZOFFSETFROM:+0200
TZOFFSETTO:+0100
TZNAME:CET
DTSTART:20251026T010000
END:STANDARD
BEGIN:DAYLIGHT
TZOFFSETFROM:+0100
TZOFFSETTO:+0200
TZNAME:CEST
DTSTART:20260329T010000
END:DAYLIGHT
BEGIN:STANDARD
TZOFFSETFROM:+0200
TZOFFSETTO:+0100
TZNAME:CET
DTSTART:20261025T010000
END:STANDARD
END:VTIMEZONE
BEGIN:VEVENT
DTSTART;VALUE=DATE:20250701
DTEND;VALUE=DATE:20250703
DTSTAMP:20260421T002108
CREATED:20250611T134203Z
LAST-MODIFIED:20250611T134203Z
UID:41338-1751328000-1751500799@www.improntaetica.org
SUMMARY:01/07-02/07 | Cantieri ViceVersa Summer School
DESCRIPTION:La Summer School dedicata al confronto\, formazione e networking tra Enti del Terzo Settore e operatori finanziari.\nSi terrà a Salerno\, nelle giornate dell’1 e del 2 luglio 2025\, la Cantieri ViceVersa Summer School\, giunta alla sua quarta edizione\, e promossa dal Forum Nazionale del Terzo Settore e dal Forum Finanza Sostenibile \, di cui Impronta Etica è Socio. La Summer School è stata inoltre realizzata con il sostegno scientifico di AICCON\, Politecnico di Milano\, CGM Finance\, Cooperfidi Italia e Fondazione SODALITAS. \nDue giornate di confronto\, formazione e networking tra Enti del Terzo Settore e operatori finanziari\, articolate tra assemblee plenarie\, tavoli di lavoro e momenti informali pensati per favorire lo scambio e la condivisione tra i partecipanti. \nL’edizione 2025 sarà dedicata al tema della gestione e riqualificazione degli spazi pubblici\, con un focus specifico su beni confiscati e social housing: due ambiti strategici per il Terzo settore\, capaci di generare impatti sociali rilevanti e di attrarre crescente interesse anche dal mondo della finanza sostenibile. \nParte di questo percorso formativo vi è anche la Cantieri ViceVersa Academy\, che dal 2023 ha sviluppato una piattaforma gratuita di formazione online su finanza e Terzo settore\, rivolta a cooperatori\, volontari\, operatori finanziari e dirigenti locali. \nLa partecipazione alla Summer School è gratuita ed è possibile iscriversi al seguente link. \nMaggiori informazioni sono disponibili al seguente link.
URL:https://www.improntaetica.org/evento/01-07-02-07-cantieri-viceversa-summer-school/
CATEGORIES:Eventi 2025
ATTACH;FMTTYPE=image/jpeg:https://www.improntaetica.org/wp-content/uploads/2025/06/LOGO_CVV_22S.jpg
END:VEVENT
BEGIN:VEVENT
DTSTART;VALUE=DATE:20250619
DTEND;VALUE=DATE:20250622
DTSTAMP:20260421T002108
CREATED:20250430T123319Z
LAST-MODIFIED:20250430T123319Z
UID:41179-1750291200-1750550399@www.improntaetica.org
SUMMARY:19/06 - 21/06 | School of Ecological Imagination
DESCRIPTION:Disapprendere per ripensare la transizione.\nSi terrà dal 19 al 21 giugno 2025 a Bologna\, presso serra madre nel complesso delle Serre dei Giardini Margherita\, la prima edizione della “School of Ecological Imagination“: una summer school di tre giorni a cura di serra madre\, in collaborazione con ECCO e [Facta.eu]\, che propone un laboratorio tra teoria e pratica per esplorare nuove alleanze per affrontare la transizione ecologica. \nAttraverso conferenze tematiche\, laboratori esperienziali e momenti di confronto\, l’iniziativa vuole offrire uno spazio di disapprendimento per affrontare la crisi ambientale come crisi culturale e immaginare alternative radicali per un pianeta a +1\,5°C. \nTre giornate dedicate a politiche climatiche\, giusta transizione\, intelligenza artificiale ed ecologia\, con il contributo di esperti e collettivi artistici. \nLa scuola si rivolge a professionisti\, ricercatori\, studenti\, comunicatori e chiunque desideri contribuire a un cambiamento sistemico nelle pratiche sociali e ambientali. \nMaggiori informazioni sono disponibili al seguente link.
URL:https://www.improntaetica.org/evento/19-06-21-06-school-of-ecological-imagination/
CATEGORIES:Eventi 2025
ATTACH;FMTTYPE=image/png:https://www.improntaetica.org/wp-content/uploads/2025/04/cropped-serra-madre_social-01-e1746008197560.png
END:VEVENT
END:VCALENDAR