BEGIN:VCALENDAR
VERSION:2.0
PRODID:-//Impronta Etica - ECPv6.15.20//NONSGML v1.0//EN
CALSCALE:GREGORIAN
METHOD:PUBLISH
X-ORIGINAL-URL:https://www.improntaetica.org
X-WR-CALDESC:Eventi per Impronta Etica
REFRESH-INTERVAL;VALUE=DURATION:PT1H
X-Robots-Tag:noindex
X-PUBLISHED-TTL:PT1H
BEGIN:VTIMEZONE
TZID:Europe/Rome
BEGIN:DAYLIGHT
TZOFFSETFROM:+0100
TZOFFSETTO:+0200
TZNAME:CEST
DTSTART:20150329T010000
END:DAYLIGHT
BEGIN:STANDARD
TZOFFSETFROM:+0200
TZOFFSETTO:+0100
TZNAME:CET
DTSTART:20151025T010000
END:STANDARD
BEGIN:DAYLIGHT
TZOFFSETFROM:+0100
TZOFFSETTO:+0200
TZNAME:CEST
DTSTART:20160327T010000
END:DAYLIGHT
BEGIN:STANDARD
TZOFFSETFROM:+0200
TZOFFSETTO:+0100
TZNAME:CET
DTSTART:20161030T010000
END:STANDARD
BEGIN:DAYLIGHT
TZOFFSETFROM:+0100
TZOFFSETTO:+0200
TZNAME:CEST
DTSTART:20170326T010000
END:DAYLIGHT
BEGIN:STANDARD
TZOFFSETFROM:+0200
TZOFFSETTO:+0100
TZNAME:CET
DTSTART:20171029T010000
END:STANDARD
END:VTIMEZONE
BEGIN:VEVENT
DTSTART;VALUE=DATE:20161115
DTEND;VALUE=DATE:20161125
DTSTAMP:20260421T091653
CREATED:20161018T143323Z
LAST-MODIFIED:20161018T143323Z
UID:11333-1479168000-1480031999@www.improntaetica.org
SUMMARY:La Settimana SRI 2016
DESCRIPTION:Torna l’iniziativa in Italia sul tema della finanza sostenibile.\nLa Settimana SRI (Sustainable and Responsible Investment) –  giunta alla quinta edizione – è promossa dal Forum per la Finanza Sostenibile.\nIl calendario include undici conferenze – tutte ad ingresso gratuito – che vedranno la partecipazione di partner e promotori di alto profilo e il sostegno di grandi gruppi finanziari nazionali ed internazionali.\nTra i principali temi oggetto di discussione: il cambiamento climatico\, l’impact investing\, l’importanza degli aspetti ambientali\, sociali e di governance (ESG) per le Fondazioni Italiane\, l’educazione finanziaria\, la tutela dei diritti dell’infanzia.\nPer maggiori informazioni è possibile consultare il sito dedicato.\nE’ possibile consultare il calendario e il programma dell’evento al seguente link.
URL:https://www.improntaetica.org/evento/la-settimana-sri-2016/
LOCATION:Milano e Roma
END:VEVENT
END:VCALENDAR