BEGIN:VCALENDAR
VERSION:2.0
PRODID:-//Impronta Etica - ECPv6.15.20//NONSGML v1.0//EN
CALSCALE:GREGORIAN
METHOD:PUBLISH
X-WR-CALNAME:Impronta Etica
X-ORIGINAL-URL:https://www.improntaetica.org
X-WR-CALDESC:Eventi per Impronta Etica
REFRESH-INTERVAL;VALUE=DURATION:PT1H
X-Robots-Tag:noindex
X-PUBLISHED-TTL:PT1H
BEGIN:VTIMEZONE
TZID:Europe/Rome
BEGIN:DAYLIGHT
TZOFFSETFROM:+0100
TZOFFSETTO:+0200
TZNAME:CEST
DTSTART:20220327T010000
END:DAYLIGHT
BEGIN:STANDARD
TZOFFSETFROM:+0200
TZOFFSETTO:+0100
TZNAME:CET
DTSTART:20221030T010000
END:STANDARD
BEGIN:DAYLIGHT
TZOFFSETFROM:+0100
TZOFFSETTO:+0200
TZNAME:CEST
DTSTART:20230326T010000
END:DAYLIGHT
BEGIN:STANDARD
TZOFFSETFROM:+0200
TZOFFSETTO:+0100
TZNAME:CET
DTSTART:20231029T010000
END:STANDARD
BEGIN:DAYLIGHT
TZOFFSETFROM:+0100
TZOFFSETTO:+0200
TZNAME:CEST
DTSTART:20240331T010000
END:DAYLIGHT
BEGIN:STANDARD
TZOFFSETFROM:+0200
TZOFFSETTO:+0100
TZNAME:CET
DTSTART:20241027T010000
END:STANDARD
END:VTIMEZONE
BEGIN:VEVENT
DTSTART;TZID=Europe/Rome:20231123T093000
DTEND;TZID=Europe/Rome:20231123T140000
DTSTAMP:20260421T084427
CREATED:20231116T163050Z
LAST-MODIFIED:20231116T163532Z
UID:38015-1700731800-1700748000@www.improntaetica.org
SUMMARY:23/11 | Presentazione degli esiti del Tavolo di Lavoro Sustainable Procurement
DESCRIPTION:La conclusione del percorso del tavolo di lavoro sul tema.\nNel 2023 il Global Compact Network Italia ha coordinato un tavolo di lavoro sul tema sustainable procurement per coinvolgere la funzione acquisti sulla gestione sostenibile della catena di fornitura. \nSi è deciso di partire da un gruppo ristretto di 37 aziende aderenti\, principalmente di grandi dimensioni e di settori diversificati. Il percorso si è articolato in 3 incontri\, focalizzati sulle tre dimensioni dell’acronimo ESG (Environment; Social; Governance). \nL’evento del 23 novembre che si terrà dalle ore 09:30 alle ore 14:00 al Foro Buonaparte 20121 Milano rappresenta la conclusione del percorso\, con la condivisione di un report sugli esiti\, che ha voluto identificare sfide\, opportunità e raccomandazioni per le imprese relative alla sostenibilità delle supply chain. \nE’ possibile iscriversi ed ottenere maggiori informazioni al seguente link.
URL:https://www.improntaetica.org/evento/23-11-presentazione-degli-esiti-del-tavolo-di-lavoro-sustainable-procurement/
ATTACH;FMTTYPE=image/jpeg:https://www.improntaetica.org/wp-content/uploads/2020/04/global-compact-e1737384230135.jpg
END:VEVENT
END:VCALENDAR