BEGIN:VCALENDAR
VERSION:2.0
PRODID:-//Impronta Etica - ECPv6.15.20//NONSGML v1.0//EN
CALSCALE:GREGORIAN
METHOD:PUBLISH
X-WR-CALNAME:Impronta Etica
X-ORIGINAL-URL:https://www.improntaetica.org
X-WR-CALDESC:Eventi per Impronta Etica
REFRESH-INTERVAL;VALUE=DURATION:PT1H
X-Robots-Tag:noindex
X-PUBLISHED-TTL:PT1H
BEGIN:VTIMEZONE
TZID:Europe/Rome
BEGIN:DAYLIGHT
TZOFFSETFROM:+0100
TZOFFSETTO:+0200
TZNAME:CEST
DTSTART:20150329T010000
END:DAYLIGHT
BEGIN:STANDARD
TZOFFSETFROM:+0200
TZOFFSETTO:+0100
TZNAME:CET
DTSTART:20151025T010000
END:STANDARD
BEGIN:DAYLIGHT
TZOFFSETFROM:+0100
TZOFFSETTO:+0200
TZNAME:CEST
DTSTART:20160327T010000
END:DAYLIGHT
BEGIN:STANDARD
TZOFFSETFROM:+0200
TZOFFSETTO:+0100
TZNAME:CET
DTSTART:20161030T010000
END:STANDARD
BEGIN:DAYLIGHT
TZOFFSETFROM:+0100
TZOFFSETTO:+0200
TZNAME:CEST
DTSTART:20170326T010000
END:DAYLIGHT
BEGIN:STANDARD
TZOFFSETFROM:+0200
TZOFFSETTO:+0100
TZNAME:CET
DTSTART:20171029T010000
END:STANDARD
BEGIN:DAYLIGHT
TZOFFSETFROM:+0100
TZOFFSETTO:+0200
TZNAME:CEST
DTSTART:20180325T010000
END:DAYLIGHT
BEGIN:STANDARD
TZOFFSETFROM:+0200
TZOFFSETTO:+0100
TZNAME:CET
DTSTART:20181028T010000
END:STANDARD
END:VTIMEZONE
BEGIN:VEVENT
DTSTART;TZID=Europe/Rome:20170314T093000
DTEND;TZID=Europe/Rome:20170314T130000
DTSTAMP:20260421T100005
CREATED:20170303T081750Z
LAST-MODIFIED:20170303T081750Z
UID:12188-1489483800-1489496400@www.improntaetica.org
SUMMARY:Innovazione Sociale e Sviluppo Economico
DESCRIPTION:Come questi fattori possono portare alla creazione di valore collettivo.\nSi rinnova l’appuntamento con il convegno annuale organizzato da Luiss e VISES Onlus- Volontari per Iniziative di Sviluppo Economico e Sociale per approfondire il tema dell’innovazione sociale e sviluppo economico oggi\, attraverso un focus su riflessioni scientifiche\, riferimenti culturali e sperimentazioni attuate.\nPer maggiori informazioni consultare il seguente link.\nProgramma
URL:https://www.improntaetica.org/evento/innovazione-sociale-sviluppo-economico/
LOCATION:Sala colonne- LUISS\, viale Pola 12\, Roma
ATTACH;FMTTYPE=:
END:VEVENT
BEGIN:VEVENT
DTSTART;TZID=Europe/Rome:20160609T093000
DTEND;TZID=Europe/Rome:20160610T200000
DTSTAMP:20260421T100005
CREATED:20160511T155025Z
LAST-MODIFIED:20160511T155025Z
UID:29539-1465464600-1465588800@www.improntaetica.org
SUMMARY:R2B - Research to Business 2016
DESCRIPTION:Anche nel 2016 R2B porta a Bologna i protagonisti dell’innovazione.\nDa 11 anni R2B – Research to Business propone un’offerta multisettoriale di nuove tecnologie e accende i riflettori sui temi dello sviluppo economico e delle politiche a sostegno della competitività delle imprese.\nLa fiera – attraverso convegni\, workshop\, servizi e incontri one-to-one internazionali – sarà un’occasione per dialogare di collaborazione tra ricerca e impresa e per conoscere le start up\, i soggetti e le istituzioni che sostengono l’innovazione delle imprese.\nR2B è promosso dalla Regione Emilia-Romagna e Bologna Fiere\, in collaborazione con ASTER – il Consorzio regionale per l’innovazione\, e SMAU.\nMaggiori informazioni e il programma dell’evento sono consultabili al seguente link.\nE’ possibile registrarsi all’evento qui.
URL:https://www.improntaetica.org/evento/r2b-research-to-business-2016/
LOCATION:BolognaFiere S.p.a.
END:VEVENT
BEGIN:VEVENT
DTSTART;TZID=Europe/Rome:20160525T100000
DTEND;TZID=Europe/Rome:20160525T131500
DTSTAMP:20260421T100005
CREATED:20160511T154043Z
LAST-MODIFIED:20160511T154043Z
UID:10491-1464170400-1464182100@www.improntaetica.org
SUMMARY:Politica dell’innovazione nell’industria
DESCRIPTION:Industria 4.0 ed efficienza energetica: elementi indispensabili per la fabbrica del futuro.\nDi recente Confindustria ha presentato alla Commissione Attività Produttive del Parlamento un’indagine conoscitiva sull’Industria 4.0\, nella quale si richiede al Governo nazionale di dotare l’Italia “di un disegno di sviluppo di lungo periodo e di una strategia coerente di politica industriale\, che incorpori l’approccio Industria 4.0”.\nLe ultime raccomandazioni della Commissione europea sulla politica industriale dell’Unione sono focalizzate sulla necessità di fare investimenti nella direzione della Ricerca e Innovazione\, in particolare nel campo dell’efficienza energetica.\nDell’efficienza propria della rivoluzione 4.0\, quella energetica è il primo elemento: essere efficienti per generare valore\, restando competitivi più a lungo.\nL’appuntamento realizzato da Energia Media in partnership con Federazione ANIE\, Enea\, World Energy Council Italia e in collaborazione con CertiNergia\, rappresenta un’occasione concreta e utile per ragionare su presente e futuro dell’industria.\nE’ possibile iscriversi all’evento e avere maggiori informazioni al seguente link.\nProgramma
URL:https://www.improntaetica.org/evento/workshop-politica-dellinnovazione-nellindustria/
LOCATION:IIASA
END:VEVENT
END:VCALENDAR