BEGIN:VCALENDAR
VERSION:2.0
PRODID:-//Impronta Etica - ECPv6.15.20//NONSGML v1.0//EN
CALSCALE:GREGORIAN
METHOD:PUBLISH
X-ORIGINAL-URL:https://www.improntaetica.org
X-WR-CALDESC:Eventi per Impronta Etica
REFRESH-INTERVAL;VALUE=DURATION:PT1H
X-Robots-Tag:noindex
X-PUBLISHED-TTL:PT1H
BEGIN:VTIMEZONE
TZID:Europe/Rome
BEGIN:DAYLIGHT
TZOFFSETFROM:+0100
TZOFFSETTO:+0200
TZNAME:CEST
DTSTART:20240331T010000
END:DAYLIGHT
BEGIN:STANDARD
TZOFFSETFROM:+0200
TZOFFSETTO:+0100
TZNAME:CET
DTSTART:20241027T010000
END:STANDARD
BEGIN:DAYLIGHT
TZOFFSETFROM:+0100
TZOFFSETTO:+0200
TZNAME:CEST
DTSTART:20250330T010000
END:DAYLIGHT
BEGIN:STANDARD
TZOFFSETFROM:+0200
TZOFFSETTO:+0100
TZNAME:CET
DTSTART:20251026T010000
END:STANDARD
BEGIN:DAYLIGHT
TZOFFSETFROM:+0100
TZOFFSETTO:+0200
TZNAME:CEST
DTSTART:20260329T010000
END:DAYLIGHT
BEGIN:STANDARD
TZOFFSETFROM:+0200
TZOFFSETTO:+0100
TZNAME:CET
DTSTART:20261025T010000
END:STANDARD
END:VTIMEZONE
BEGIN:VEVENT
DTSTART;TZID=Europe/Rome:20251022T100000
DTEND;TZID=Europe/Rome:20251022T133000
DTSTAMP:20260421T054104
CREATED:20250924T151210Z
LAST-MODIFIED:20250924T151210Z
UID:41720-1761127200-1761139800@www.improntaetica.org
SUMMARY:22/10 | Presentazione del Rapporto ASviS 2025
DESCRIPTION:Un momento cruciale per l’Agenda 2030.\nSi terrà il 22 ottobre 2025 dalle 10.00 alle 13.30 presso l’Aula dei Gruppi Parlamentari a Roma la presentazione dell’edizione 2025 del Rapporto ASviS\, un momento cruciale a dieci anni dall’approvazione dell’Agenda 2030. \nA cura dell’Alleanza Italiana per lo Sviluppo Sostenibile\, grazie al contributo della sua rete di esperte ed esperti delle organizzazioni aderenti tra cui Impronta Etica\, il documento analizza il posizionamento del nostro Paese rispetto agli Obiettivi di sviluppo sostenibile a dieci anni dall’adozione dell’Agenda 2030\, e fornisce un quadro delle iniziative introdotte finora a livello globale\, europeo e nazionale in ottica di sostenibilità. \nA solo cinque anni alla scadenza degli SDGs\, appare evidente che gli sforzi messi in campo fino ad oggi dai vari attori a tutti i livelli non siano sufficienti a raggiungere i traguardi fissati. Per questo\, la presentazione del Rapporto ASviS vuole rilanciare per il prossimo quinquennio un percorso di accelerazione dell’impegno globale e definire la prossima agenda di sviluppo sostenibile. \nMaggiori informazioni su come registrarsi sono disponibili al seguente link.
URL:https://www.improntaetica.org/evento/22-10-presentazione-del-rapporto-asvis-2025/
CATEGORIES:Eventi 2025
ATTACH;FMTTYPE=image/png:https://www.improntaetica.org/wp-content/uploads/2019/08/Logo-ASviS-e1736929301112.png
END:VEVENT
END:VCALENDAR