BEGIN:VCALENDAR
VERSION:2.0
PRODID:-//Impronta Etica - ECPv6.15.20//NONSGML v1.0//EN
CALSCALE:GREGORIAN
METHOD:PUBLISH
X-ORIGINAL-URL:https://www.improntaetica.org
X-WR-CALDESC:Eventi per Impronta Etica
REFRESH-INTERVAL;VALUE=DURATION:PT1H
X-Robots-Tag:noindex
X-PUBLISHED-TTL:PT1H
BEGIN:VTIMEZONE
TZID:Europe/Rome
BEGIN:DAYLIGHT
TZOFFSETFROM:+0100
TZOFFSETTO:+0200
TZNAME:CEST
DTSTART:20210328T010000
END:DAYLIGHT
BEGIN:STANDARD
TZOFFSETFROM:+0200
TZOFFSETTO:+0100
TZNAME:CET
DTSTART:20211031T010000
END:STANDARD
BEGIN:DAYLIGHT
TZOFFSETFROM:+0100
TZOFFSETTO:+0200
TZNAME:CEST
DTSTART:20220327T010000
END:DAYLIGHT
BEGIN:STANDARD
TZOFFSETFROM:+0200
TZOFFSETTO:+0100
TZNAME:CET
DTSTART:20221030T010000
END:STANDARD
BEGIN:DAYLIGHT
TZOFFSETFROM:+0100
TZOFFSETTO:+0200
TZNAME:CEST
DTSTART:20230326T010000
END:DAYLIGHT
BEGIN:STANDARD
TZOFFSETFROM:+0200
TZOFFSETTO:+0100
TZNAME:CET
DTSTART:20231029T010000
END:STANDARD
BEGIN:DAYLIGHT
TZOFFSETFROM:+0100
TZOFFSETTO:+0200
TZNAME:CEST
DTSTART:20240331T010000
END:DAYLIGHT
BEGIN:STANDARD
TZOFFSETFROM:+0200
TZOFFSETTO:+0100
TZNAME:CET
DTSTART:20241027T010000
END:STANDARD
BEGIN:DAYLIGHT
TZOFFSETFROM:+0100
TZOFFSETTO:+0200
TZNAME:CEST
DTSTART:20250330T010000
END:DAYLIGHT
BEGIN:STANDARD
TZOFFSETFROM:+0200
TZOFFSETTO:+0100
TZNAME:CET
DTSTART:20251026T010000
END:STANDARD
END:VTIMEZONE
BEGIN:VEVENT
DTSTART;TZID=Europe/Rome:20240208T140000
DTEND;TZID=Europe/Rome:20240208T173000
DTSTAMP:20260423T172904
CREATED:20240202T152914Z
LAST-MODIFIED:20240202T152914Z
UID:38393-1707400800-1707413400@www.improntaetica.org
SUMMARY:08/02 | Seminario ASviS su tassonomia e rendicontazione di sostenibilità
DESCRIPTION:L’impatto del nuovo regolamento europeo sulla classificazione delle attività economiche sostenibili.\nSi terrà giovedì 8 febbraio 2024 alle ore 14.00\, presso l’Università Roma Tre\, il seminario “Il Regolamento Tassonomia e i nuovi criteri di vaglio tecnico: l’impatto sui settori dell’economia italiana”. Organizzato dal Gruppo di lavoro ASviS sulla finanza sostenibile in collaborazione con il dipartimento di Giurisprudenza dell’Università di Roma Tre\, l’evento intende analizzare l’impatto che il nuovo regolamento europeo sul sistema di classificazione delle attività economiche sostenibili potrà avere sul contesto economico del Paese. \nAll’introduzione di Enrico Giovannini\, direttore scientifico dell’ASviS\, faranno seguito un keynote speech di Nicole Della Vedova\, Head corporate finance del Gruppo Enel\, e diversi interventi di rappresentanti del mondo imprenditoriale\, della consulenza e della finanza \nMaggiori informazioni ed il programma sono disponibili al seguente link. \nPer partecipare in presenza è necessario iscriversi al seguente link. \nE’ possibile seguire la diretta streaming iscrivendosi al seguente link.
URL:https://www.improntaetica.org/evento/08-02-seminario-asvis-su-tassonomia-e-rendicontazione-di-sostenibilita/
ATTACH;FMTTYPE=image/png:https://www.improntaetica.org/wp-content/uploads/2019/08/Logo-ASviS-e1736929301112.png
END:VEVENT
BEGIN:VEVENT
DTSTART;TZID=Europe/Rome:20230619T120000
DTEND;TZID=Europe/Rome:20230619T130000
DTSTAMP:20260423T172904
CREATED:20230606T082200Z
LAST-MODIFIED:20230606T082200Z
UID:37050-1687176000-1687179600@www.improntaetica.org
SUMMARY:19/06 | Misurare il fattore “S”: impatti dell’innovazione e dell’IA sul mondo del lavoro
DESCRIPTION:Un webinar del Forum per la Finanza Sostenibile.\n\nSi terrà lunedì 19 giugno dalle ore 12:00 alle ore 13:00 il webinar del Forum per la Finanza Sostenibile dal titolo “Misurare il fattore “S”: impatti dell’innovazione e dell’IA sul mondo del lavoro” in collaborazione con Sycomore Asset Management.  \n\n\n\n\n\n\n\nL’intelligenza artificiale avrà importanti ripercussioni sull’occupazione. Si stima infatti che l’automazione porterà alla perdita di oltre 80 milioni di posti di lavoro tra il 2020 e il 2025. Allo stesso tempo\, lo sviluppo di nuove tecnologie può aumentare la produttività e consentire di orientare i lavoratori sulle attività in cui l’essere umano può aggiungere valore. \nIl webinar\, organizzato in collaborazione con Sycomore Asset Management\, analizzerà il ruolo degli investitori sostenibili\, attori di primo piano nel supportare questa transizione attraverso lo sviluppo di metodologie capaci di valutare l’impatto delle nuove tecnologie e attraverso il dialogo costruttivo con le aziende investite. \nLa partecipazione è gratuita. \nÈ necessario iscriversi al seguente link entro il 19/06 alle 11:30. \nMaggiori informazioni sono disponibili al seguente link. \n  \n\n\n\n\n\n\n 
URL:https://www.improntaetica.org/evento/19-06-misurare-il-fattore-s-impatti-dellinnovazione-e-dellia-sul-mondo-del-lavoro/
ATTACH;FMTTYPE=image/png:https://www.improntaetica.org/wp-content/uploads/2022/06/forum-finanza-sost.png
END:VEVENT
BEGIN:VEVENT
DTSTART;TZID=Europe/Rome:20220615T150000
DTEND;TZID=Europe/Rome:20220615T170000
DTSTAMP:20260423T172904
CREATED:20220613T152235Z
LAST-MODIFIED:20220613T152235Z
UID:34973-1655305200-1655312400@www.improntaetica.org
SUMMARY:15\06| presentazione del discussion paper EFRAG sugli intangibili
DESCRIPTION:Un evento che vede la collaborazione di E.F.R.A.G.\, O.I.B.R. e O.I.C.\nSi terrà il  15 giugno dalle ore 15.00 alle ore 17.00 il webinar organizzato da O.I.B.R. insieme ad EFRAG e all’Organismo Italiano di Contabilità\, O.I.C. dedicato alla presentazione della versione italiana del paper EFRAG dal titolo “Better information on intangibles: which is the best way to go?”\, incentrato sul tema degli intangibili. \nMaggiori informazioni sono disponibili al seguente link.  \nE’ possibile visionare il programma e registrarsi a seguente link.
URL:https://www.improntaetica.org/evento/1506-presentazione-del-discussion-paper-efrag-sugli-intangibili/
ATTACH;FMTTYPE=image/jpeg:https://www.improntaetica.org/wp-content/uploads/2019/06/oibr.jpg
END:VEVENT
END:VCALENDAR