BEGIN:VCALENDAR
VERSION:2.0
PRODID:-//Impronta Etica - ECPv6.15.20//NONSGML v1.0//EN
CALSCALE:GREGORIAN
METHOD:PUBLISH
X-WR-CALNAME:Impronta Etica
X-ORIGINAL-URL:https://www.improntaetica.org
X-WR-CALDESC:Eventi per Impronta Etica
REFRESH-INTERVAL;VALUE=DURATION:PT1H
X-Robots-Tag:noindex
X-PUBLISHED-TTL:PT1H
BEGIN:VTIMEZONE
TZID:Europe/Rome
BEGIN:DAYLIGHT
TZOFFSETFROM:+0100
TZOFFSETTO:+0200
TZNAME:CEST
DTSTART:20210328T010000
END:DAYLIGHT
BEGIN:STANDARD
TZOFFSETFROM:+0200
TZOFFSETTO:+0100
TZNAME:CET
DTSTART:20211031T010000
END:STANDARD
BEGIN:DAYLIGHT
TZOFFSETFROM:+0100
TZOFFSETTO:+0200
TZNAME:CEST
DTSTART:20220327T010000
END:DAYLIGHT
BEGIN:STANDARD
TZOFFSETFROM:+0200
TZOFFSETTO:+0100
TZNAME:CET
DTSTART:20221030T010000
END:STANDARD
BEGIN:DAYLIGHT
TZOFFSETFROM:+0100
TZOFFSETTO:+0200
TZNAME:CEST
DTSTART:20230326T010000
END:DAYLIGHT
BEGIN:STANDARD
TZOFFSETFROM:+0200
TZOFFSETTO:+0100
TZNAME:CET
DTSTART:20231029T010000
END:STANDARD
BEGIN:DAYLIGHT
TZOFFSETFROM:+0100
TZOFFSETTO:+0200
TZNAME:CEST
DTSTART:20240331T010000
END:DAYLIGHT
BEGIN:STANDARD
TZOFFSETFROM:+0200
TZOFFSETTO:+0100
TZNAME:CET
DTSTART:20241027T010000
END:STANDARD
END:VTIMEZONE
BEGIN:VEVENT
DTSTART;TZID=Europe/Rome:20230521T210000
DTEND;TZID=Europe/Rome:20230522T000000
DTSTAMP:20260421T013724
CREATED:20230519T130312Z
LAST-MODIFIED:20230519T130312Z
UID:36969-1684702800-1684713600@www.improntaetica.org
SUMMARY:21/05 - 22/05 | Cos’è quella cosa che
DESCRIPTION:Conferenza-spettacolo sull’arte della generazione Alpha del Teatro dell’Argine.\nSi terrà domenica 21 e lunedì 22 maggio 2023 alle ore 21.00 presso Salaborsa l’evento finale di Cos’è quella cosa che\, il progetto del Teatro dell’Argine realizzato dalla Città Metropolitana di Bologna\, finanziato dal FSE nell’ambito della risposta dell’Unione alla pandemia di COVID-19. \nCos’è quella cosa che è l’evento finale dell’omonimo progetto teatrale rivolto a ragazzi e ragazze dagli 11 ai 14 anni della Città metropolitana di Bologna\, che si propone di indagare\, attraverso gli strumenti del teatro\, cosa li emoziona e cosa considerano arte oggi. Una conferenza-spettacolo condotta da un piccolo gruppo di under 14\, insieme agli studenti e alle studentesse di dieci classi delle Scuole secondarie di I grado del territorio.  Non parleranno a nome proprio\, ma si faranno portavoce di quasi duemila coetanei che tra dicembre 2022 e febbraio 2023 hanno risposto a ottantanove domande di un questionario immaginato dal Teatro dell’Argine con l’aiuto fondamentale di sette consulenti under 14\, verificato ed esplorato in ogni sua parte da 10 classi che per mesi hanno riflettuto su che cosa sia l’arte e in che modo entri nella loro vita. \nCos’è quella cosa che è un progetto che nasce dalla necessità di ascoltare le nuove generazioni in un momento storico particolare come quello del post pandemia\, dove due anni di stravolgimenti hanno cambiato le abitudini di tutti e tutte.  Un grande lavoro di ascolto che ha l’obiettivo di cogliere come le nuove generazioni si rapportano a concetti quali bellezza\, creatività\, estro\, inventiva\, passione. Un percorso articolato in due tappe: un’indagine esplorativa condotta attraverso un questionario anonimo e dieci laboratori nelle scuole della Città metropolitana di Bologna con più di 250 partecipanti. \nMaggiori informazioni sono disponibili al seguente link.
URL:https://www.improntaetica.org/evento/21-05-22-05-cose-quella-cosa-che/
ATTACH;FMTTYPE=image/jpeg:https://www.improntaetica.org/wp-content/uploads/2023/05/argine.jpg
END:VEVENT
BEGIN:VEVENT
DTSTART;TZID=Europe/Rome:20220630T210000
DTEND;TZID=Europe/Rome:20220630T223000
DTSTAMP:20260421T013724
CREATED:20220630T122834Z
LAST-MODIFIED:20220630T122834Z
UID:35033-1656622800-1656628200@www.improntaetica.org
SUMMARY:30\06 | Politico Poetico il Racconto
DESCRIPTION:Il documentario racconto del progetto.\nSi terrà giovedì 30 giugno ore 21.00 online\, sul canale YouTube del Teatro dell’Argine\, in prima assoluta\, Politico Poetico il Racconto\, il documentario realizzato da Livio Dagrezio e a cura del Teatro dell’Argine dedicato al progetto artistico e di cittadinanza attiva iniziato l’anno scorso\, per un nuovo patto tra teatro\, città\, adolescenti. Tavoli di lavoro sull’Agenda 2030\, tre eventi speciali al confine tra informazione e teatro\, uno spettacolo immersivo ed esperienziale\, di cui Impronta Etica è stato partner. \nIl documentario sarà presentato nell’ambito del Festival Dominio Pubblico – La Città agli Under 25\, in occasione di Il Parlamento incontra la città\, evento conclusivo di Politico Poetico\, che si svolgerà a Roma presso Spazio Rossellini. \nAd un anno dal termine del progetto\, sarà l’occasione per rivederne i volti e le tappe\, per rivivere le emozioni che ci hanno accompagnato nei due anni del percorso. \nAnche Impronta Etica è stata partner del progetto Politico Poetico. \nMaggiori informazioni sono disponibili al seguente link.  \n 
URL:https://www.improntaetica.org/evento/3006-politico-poetico-il-racconto/
ATTACH;FMTTYPE=image/png:https://www.improntaetica.org/wp-content/uploads/2022/06/teatro.png
END:VEVENT
END:VCALENDAR