BEGIN:VCALENDAR
VERSION:2.0
PRODID:-//Impronta Etica - ECPv6.15.20//NONSGML v1.0//EN
CALSCALE:GREGORIAN
METHOD:PUBLISH
X-ORIGINAL-URL:https://www.improntaetica.org
X-WR-CALDESC:Eventi per Impronta Etica
REFRESH-INTERVAL;VALUE=DURATION:PT1H
X-Robots-Tag:noindex
X-PUBLISHED-TTL:PT1H
BEGIN:VTIMEZONE
TZID:Europe/Rome
BEGIN:DAYLIGHT
TZOFFSETFROM:+0100
TZOFFSETTO:+0200
TZNAME:CEST
DTSTART:20220327T010000
END:DAYLIGHT
BEGIN:STANDARD
TZOFFSETFROM:+0200
TZOFFSETTO:+0100
TZNAME:CET
DTSTART:20221030T010000
END:STANDARD
BEGIN:DAYLIGHT
TZOFFSETFROM:+0100
TZOFFSETTO:+0200
TZNAME:CEST
DTSTART:20230326T010000
END:DAYLIGHT
BEGIN:STANDARD
TZOFFSETFROM:+0200
TZOFFSETTO:+0100
TZNAME:CET
DTSTART:20231029T010000
END:STANDARD
BEGIN:DAYLIGHT
TZOFFSETFROM:+0100
TZOFFSETTO:+0200
TZNAME:CEST
DTSTART:20240331T010000
END:DAYLIGHT
BEGIN:STANDARD
TZOFFSETFROM:+0200
TZOFFSETTO:+0100
TZNAME:CET
DTSTART:20241027T010000
END:STANDARD
END:VTIMEZONE
BEGIN:VEVENT
DTSTART;TZID=Europe/Rome:20230225T110000
DTEND;TZID=Europe/Rome:20230225T130000
DTSTAMP:20260421T053017
CREATED:20230220T155106Z
LAST-MODIFIED:20230220T155106Z
UID:36423-1677322800-1677330000@www.improntaetica.org
SUMMARY:25/02 | "Big data e territorio. Opportunità per le PMI"
DESCRIPTION:Le nuove opportunità del  Tecnopolo sul territorio.\nSi terrà il 25 febbraio dalle ore 11:00 alle ore 13:00 il convegno gratuito “Big data e territorio. Opportunità per le PMI” organizzato da Emil Banca  nell’ auditorium di MUG – magazzini generativi (via Emilia Levante 9/F). \nL’apertura a Bologna del Tecnopolo\, sede del nuovo hub europeo per il supercalcolo e del Centro Nazionale Big Data\, avrà certamente un grande impatto sul sistema economico locale\, portando diversi vantaggi alle imprese che saranno pronte a coglierne le opportunità. \nEmil Banca in quanto socia della Fondazione IFAB\, ponte tra Tecnopolo e aziende\, vuole offrire ai propri clienti l’occasione di conoscere e approfondire le opportunità aperte dalla presenza\, sul territorio\, di questo ecosistema di eccellenza nel mondo della ricerca scientifica e della straordinaria concentrazione di infrastrutture tecnologiche a elevata potenza di calcolo. \nIl programma e maggiori informazioni sono disponibili al seguente link. \nE’ possibile iscriversi al seguente link.
URL:https://www.improntaetica.org/evento/25-02-big-data-e-territorio-opportunita-per-le-pmi/
ATTACH;FMTTYPE=image/jpeg:https://www.improntaetica.org/wp-content/uploads/2013/06/LOGO_BCC_EMILBANCA_COLORE_RGB.jpg
END:VEVENT
END:VCALENDAR