BEGIN:VCALENDAR
VERSION:2.0
PRODID:-//Impronta Etica - ECPv6.15.20//NONSGML v1.0//EN
CALSCALE:GREGORIAN
METHOD:PUBLISH
X-WR-CALNAME:Impronta Etica
X-ORIGINAL-URL:https://www.improntaetica.org
X-WR-CALDESC:Eventi per Impronta Etica
REFRESH-INTERVAL;VALUE=DURATION:PT1H
X-Robots-Tag:noindex
X-PUBLISHED-TTL:PT1H
BEGIN:VTIMEZONE
TZID:Europe/Rome
BEGIN:DAYLIGHT
TZOFFSETFROM:+0100
TZOFFSETTO:+0200
TZNAME:CEST
DTSTART:20210328T010000
END:DAYLIGHT
BEGIN:STANDARD
TZOFFSETFROM:+0200
TZOFFSETTO:+0100
TZNAME:CET
DTSTART:20211031T010000
END:STANDARD
BEGIN:DAYLIGHT
TZOFFSETFROM:+0100
TZOFFSETTO:+0200
TZNAME:CEST
DTSTART:20220327T010000
END:DAYLIGHT
BEGIN:STANDARD
TZOFFSETFROM:+0200
TZOFFSETTO:+0100
TZNAME:CET
DTSTART:20221030T010000
END:STANDARD
BEGIN:DAYLIGHT
TZOFFSETFROM:+0100
TZOFFSETTO:+0200
TZNAME:CEST
DTSTART:20230326T010000
END:DAYLIGHT
BEGIN:STANDARD
TZOFFSETFROM:+0200
TZOFFSETTO:+0100
TZNAME:CET
DTSTART:20231029T010000
END:STANDARD
BEGIN:DAYLIGHT
TZOFFSETFROM:+0100
TZOFFSETTO:+0200
TZNAME:CEST
DTSTART:20240331T010000
END:DAYLIGHT
BEGIN:STANDARD
TZOFFSETFROM:+0200
TZOFFSETTO:+0100
TZNAME:CET
DTSTART:20241027T010000
END:STANDARD
BEGIN:DAYLIGHT
TZOFFSETFROM:+0100
TZOFFSETTO:+0200
TZNAME:CEST
DTSTART:20250330T010000
END:DAYLIGHT
BEGIN:STANDARD
TZOFFSETFROM:+0200
TZOFFSETTO:+0100
TZNAME:CET
DTSTART:20251026T010000
END:STANDARD
BEGIN:DAYLIGHT
TZOFFSETFROM:+0100
TZOFFSETTO:+0200
TZNAME:CEST
DTSTART:20260329T010000
END:DAYLIGHT
BEGIN:STANDARD
TZOFFSETFROM:+0200
TZOFFSETTO:+0100
TZNAME:CET
DTSTART:20261025T010000
END:STANDARD
END:VTIMEZONE
BEGIN:VEVENT
DTSTART;TZID=Europe/Rome:20251002T143000
DTEND;TZID=Europe/Rome:20251002T170000
DTSTAMP:20260421T060117
CREATED:20250929T153600Z
LAST-MODIFIED:20251002T145104Z
UID:41731-1759415400-1759424400@www.improntaetica.org
SUMMARY:2/10 | Le terre sono davvero così rare?
DESCRIPTION:Dal recupero alla risorsa per imprese e società.\nSi terrà il 2 ottobre 2025 dalle 14.30 alle 17.00 presso la Sala 215 del Centro Congressi dell’Area Territoriale di Ricerca CNR di Bologna (Via P. Gobetti\, 101) il nuovo evento a cura  del Tecnopolo Bologna CNR con i laboratori PROAMBIENTE e MISTER Smart Innovation\, insieme al Tecnopolo di Rimini con il Laboratorio CIRI FRAME\, in collaborazione con Clust-ER Greentech e ART-ER.  \nPer fare chiarezza su un argomento complesso e spesso percepito come lontano dalla nostra realtà quotidiana l’evento “Le terre rare sono davvero così rare? Dal recupero alla risorsa per imprese e società” rappresenta un’occasione per esplorare il tema delle terre rare\, risorse fondamentali ma costose per la transizione ecologica e digitale\, riflettendo e confrontandosi sugli scenari futuri e le strategie condivise che le realtà del territorio possono mettere in campo. \nIn conclusione dell’incontro sarà inoltre possibile dialogare direttamente con i ricercatori in una breve passeggiata che renderà possibile comprendere come le terre rare permeino l’ambiente in cui ci muoviamo. \nMaggiori informazioni su come iscriversi sono disponibili al seguente link. \nSCARICA IL PROGRAMMA
URL:https://www.improntaetica.org/evento/2-10-le-terre-sono-davvero-cosi-rare/
CATEGORIES:Eventi 2025
ATTACH;FMTTYPE=image/png:https://www.improntaetica.org/wp-content/uploads/2025/09/Screenshot-2025-09-29-173525-e1759160236112.png
END:VEVENT
BEGIN:VEVENT
DTSTART;TZID=Europe/Rome:20230418T103000
DTEND;TZID=Europe/Rome:20230418T170000
DTSTAMP:20260421T060117
CREATED:20230327T151246Z
LAST-MODIFIED:20230327T151246Z
UID:36722-1681813800-1681837200@www.improntaetica.org
SUMMARY:18/04 | Digital Sustainability Day
DESCRIPTION:Sostenibilità digitale: linfa pulsante di un mondo migliore.\nNella settimana dell’Earth Day – la giornata mondiale della Terra – la Fondazione per la Sostenibilità Digitale celebra il compimento del suo secondo anno di attività presentando i risultati dei suoi progetti più importanti. \nSi terrà il 18 aprile dalle ore 10:30 alle ore 17:00 presso l’Università Sapienza di Roma\, il Digital Sustainability Day 2023\, il principale incontro dedicato a guardare a tendenze\, fatti e prospettive inerenti la sostenibilità digitale in Italia\, verranno presentati: \n\nDiSI City. Dall’Osservatorio della Fondazione\, il primo osservatorio nazionale dedicato a studiare ed approfondire l’opinione degli italiani rispetto alla loro percezione tra i punti di contatto tra trasformazione digitale e sostenibilità\, nasce quest’anno il DiSI City.  In collaborazione con l’Istituto di Studi Politici San Pio V\, viene presentato l’indice che misura la sostenibilità digitale delle città metropolitane.\nDiSI Corporate. La capacità di sfruttare il digitale come strumento di sostenibilità in un progetto passa dalla possibilità di misurarne i risultati. Per questo la Fondazione per la Sostenibilità Digitale\, in partnership con Fondazione ENEL\, Aci Informatica\, Cisco Italia e Bludigit-Italgas ed in collaborazione con molte delle realtà aderenti – ha sviluppato la prima Prassi di Riferimento UNI sulla Sostenibilità Digitale\, che verrà presentata alla comunità dei CIO/CINO durante il Digital Sustainability Day.\n\nL’incontro sarà occasione\, oltre che per approfondire il punto di vista degli italiani\, per condividere con le istituzioni presenti\, i soci\, i partner e gli stakeholder della Fondazione per la Sostenibilità Digitale le attività ed i programmi per il 2023. \nIl programma completo e maggiori informazioni sono disponibili al seguente link. \nE’ possibile iscriversi al seguente link. \n 
URL:https://www.improntaetica.org/evento/18-04-digital-sustainability-day/
ATTACH;FMTTYPE=image/jpeg:https://www.improntaetica.org/wp-content/uploads/2023/03/fondazione.jpg
END:VEVENT
BEGIN:VEVENT
DTSTART;TZID=Europe/Rome:20230209T170000
DTEND;TZID=Europe/Rome:20230209T190000
DTSTAMP:20260421T060117
CREATED:20230130T160254Z
LAST-MODIFIED:20230130T160254Z
UID:36300-1675962000-1675969200@www.improntaetica.org
SUMMARY:09/02 | Il ruolo delle imprese nella transizione ecologica e digitale
DESCRIPTION:Ripensare le imprese in chiave di sostenibilità e innovazione.\nRefe – Strategie di sviluppo sostenibile organizza l’evento “Il ruolo delle imprese nella transizione ecologica e digitale” il 9 febbraio dalle ore 17:00 alle 19:00 nell’Auditorium ARCA (via Rimini 38\, Milano). \nAttraverso una tavola rotonda a cui parteciperanno istituzioni\, grandi aziende pubbliche e private e mondo dell’innovazione\, l’evento si propone di identificare il nuovo ruolo dell’impresa  e ripensare i processi di sviluppo nel contesto della doppia transizione\, ad oggi un tema molto sentito dalle istituzioni e dalla società. \nSi segnala in particolare la partecipazione alla tavola rotonda di Michele Samoggia\,  Manager Communication & Sustainability Philip Morris Italia\, Socio di Impronta Etica. \nPer partecipare è necessario iscriversi al seguente link. \nMaggiori informazioni sono disponibili al seguente link.
URL:https://www.improntaetica.org/evento/09-02-il-ruolo-delle-imprese-nella-transizione-ecologica-e-digitale/
ATTACH;FMTTYPE=image/png:https://www.improntaetica.org/wp-content/uploads/2023/01/refe-logo.png
END:VEVENT
BEGIN:VEVENT
DTSTART;TZID=Europe/Rome:20221010T000000
DTEND;TZID=Europe/Rome:20221012T000000
DTSTAMP:20260421T060117
CREATED:20220324T145205Z
LAST-MODIFIED:20220915T125945Z
UID:34604-1665360000-1665532800@www.improntaetica.org
SUMMARY:10/10-12/10 | The European SDG Summit 2022
DESCRIPTION:Insieme per un Green Deal inclusivo.\nSi terrà dal 10 al 12 ottobre 2022\, lo European SDG Sum mit 2022 organizzato da CSR Europe.  \nDopo la pandemia e in mezzo allo scoppio della guerra in Ucraina\, il mondo deve accelerare il viaggio verso la neutralità climatica e l’adozione di un approccio inclusivo alla transizione verde e digitale. \nL’Europa\, in linea con la sua esperienza di stato sociale\, sta assumendo un ruolo guida per non lasciare indietro nessuno in questa trasformazione con il Green Deal\, REPowerEU\, il pilastro europeo del piano d’azione per i diritti sociali\, il meccanismo per una transizione giusta e il programma NextGenerationEU. \nIn questa ottica di impegno comune e condiviso e  in vista della 27a Conferenza delle Nazioni Unite sui cambiamenti climatici (COP27) in Egitto\, CSR Europe convoca i leader della sostenibilità in tutto il mondo al vertice europeo sugli SDG 2022 incentrato sulla necessità di attuare un Green Deal inclusivo che non lasci nessuno indietro. \nE’ possibile iscriversi al seguente link. \nMaggiori informazioni sono disponibili al seguente link. \nSCARICA IL PROGRAMMA \n 
URL:https://www.improntaetica.org/evento/10-10-12-10-the-european-sdg-summit-2022/
ATTACH;FMTTYPE=image/png:https://www.improntaetica.org/wp-content/uploads/2022/02/CSR.png
END:VEVENT
END:VCALENDAR