BEGIN:VCALENDAR
VERSION:2.0
PRODID:-//Impronta Etica - ECPv6.15.20//NONSGML v1.0//EN
CALSCALE:GREGORIAN
METHOD:PUBLISH
X-ORIGINAL-URL:https://www.improntaetica.org
X-WR-CALDESC:Eventi per Impronta Etica
REFRESH-INTERVAL;VALUE=DURATION:PT1H
X-Robots-Tag:noindex
X-PUBLISHED-TTL:PT1H
BEGIN:VTIMEZONE
TZID:Europe/Rome
BEGIN:DAYLIGHT
TZOFFSETFROM:+0100
TZOFFSETTO:+0200
TZNAME:CEST
DTSTART:20230326T010000
END:DAYLIGHT
BEGIN:STANDARD
TZOFFSETFROM:+0200
TZOFFSETTO:+0100
TZNAME:CET
DTSTART:20231029T010000
END:STANDARD
BEGIN:DAYLIGHT
TZOFFSETFROM:+0100
TZOFFSETTO:+0200
TZNAME:CEST
DTSTART:20240331T010000
END:DAYLIGHT
BEGIN:STANDARD
TZOFFSETFROM:+0200
TZOFFSETTO:+0100
TZNAME:CET
DTSTART:20241027T010000
END:STANDARD
BEGIN:DAYLIGHT
TZOFFSETFROM:+0100
TZOFFSETTO:+0200
TZNAME:CEST
DTSTART:20250330T010000
END:DAYLIGHT
BEGIN:STANDARD
TZOFFSETFROM:+0200
TZOFFSETTO:+0100
TZNAME:CET
DTSTART:20251026T010000
END:STANDARD
BEGIN:DAYLIGHT
TZOFFSETFROM:+0100
TZOFFSETTO:+0200
TZNAME:CEST
DTSTART:20260329T010000
END:DAYLIGHT
BEGIN:STANDARD
TZOFFSETFROM:+0200
TZOFFSETTO:+0100
TZNAME:CET
DTSTART:20261025T010000
END:STANDARD
END:VTIMEZONE
BEGIN:VEVENT
DTSTART;VALUE=DATE:20250114
DTEND;VALUE=DATE:20250117
DTSTAMP:20260421T020417
CREATED:20250113T095340Z
LAST-MODIFIED:20250113T102446Z
UID:40645-1736812800-1737071999@www.improntaetica.org
SUMMARY:14/01 - 16/01 | World Future Energy Summit
DESCRIPTION:Un evento globale per la transizione energetica.\nDal 14 al 16 gennaio 2025\, presso l’Abu Dhabi National Exhibition Centre (ADNEC) si terrà il World Future Energy Summit\, una manifestazione di rilievo globale dedicata al confronto\, analisi e rafforzamento della promozione verso la transizione energetica sostenibile. \nIl summit riunirà leader globali\, incubatori\, innovatori e start-up con la volontà di condividere idee e sviluppare soluzioni sostenibili attraverso le diverse possibilità offerte dalla manifestazione. \nCon oltre 30.000 visitatori provenienti da più di 100 paesi\, più di 400 aziende espositrici e circa 350 relatori\, il World Future Energy Summit rappresenta un evento fondamentale per esplorare le ultime innovazioni nel settore dell’energia sostenibile e per discutere delle sfide e opportunità legate alla transizione energetica. \nMaggiori informazioni sono disponibili al seguente link.
URL:https://www.improntaetica.org/evento/14-01-16-01-world-future-energy-summit/
CATEGORIES:Eventi 2025
ATTACH;FMTTYPE=image/png:https://www.improntaetica.org/wp-content/uploads/2025/01/wfes-2023-logo.png
END:VEVENT
BEGIN:VEVENT
DTSTART;TZID=Europe/Rome:20240522T150000
DTEND;TZID=Europe/Rome:20240522T170000
DTSTAMP:20260421T020417
CREATED:20240516T134214Z
LAST-MODIFIED:20240516T134214Z
UID:39116-1716390000-1716397200@www.improntaetica.org
SUMMARY:22/05 | Cooperare per la transizione energetica
DESCRIPTION:Alla scoperta della transizione energetica e sostenibile.\nSi terrà il 22 maggio dalle ore 15.00 l’evento di Legacoop Bologna “Cooperare per la transizione energetica”  che si terrà all’interno del Festival ASviS per lo Sviluppo Sostenibile 2024. \nL’evento sarà occasione per affrontare con esperti gli scenari e le opportunità per imprese e comunità derivanti dal Decreto Cacer e gli altri interventi a sostegno della transizione energetica e sostenibile. \nTra gli speaker anche SCS Consulting e BPER\, Soci di Impronta Etica. \nE’ possibile ottenere maggiori informazioni e iscriversi al seguente link. \n 
URL:https://www.improntaetica.org/evento/22-05-cooperare-per-la-transizione-energetica/
ATTACH;FMTTYPE=image/png:https://www.improntaetica.org/wp-content/uploads/2021/04/legacoop-e1618575610113.png
END:VEVENT
END:VCALENDAR