BEGIN:VCALENDAR
VERSION:2.0
PRODID:-//Impronta Etica - ECPv6.15.20//NONSGML v1.0//EN
CALSCALE:GREGORIAN
METHOD:PUBLISH
X-ORIGINAL-URL:https://www.improntaetica.org
X-WR-CALDESC:Eventi per Impronta Etica
REFRESH-INTERVAL;VALUE=DURATION:PT1H
X-Robots-Tag:noindex
X-PUBLISHED-TTL:PT1H
BEGIN:VTIMEZONE
TZID:Europe/Rome
BEGIN:DAYLIGHT
TZOFFSETFROM:+0100
TZOFFSETTO:+0200
TZNAME:CEST
DTSTART:20150329T010000
END:DAYLIGHT
BEGIN:STANDARD
TZOFFSETFROM:+0200
TZOFFSETTO:+0100
TZNAME:CET
DTSTART:20151025T010000
END:STANDARD
BEGIN:DAYLIGHT
TZOFFSETFROM:+0100
TZOFFSETTO:+0200
TZNAME:CEST
DTSTART:20160327T010000
END:DAYLIGHT
BEGIN:STANDARD
TZOFFSETFROM:+0200
TZOFFSETTO:+0100
TZNAME:CET
DTSTART:20161030T010000
END:STANDARD
BEGIN:DAYLIGHT
TZOFFSETFROM:+0100
TZOFFSETTO:+0200
TZNAME:CEST
DTSTART:20170326T010000
END:DAYLIGHT
BEGIN:STANDARD
TZOFFSETFROM:+0200
TZOFFSETTO:+0100
TZNAME:CET
DTSTART:20171029T010000
END:STANDARD
END:VTIMEZONE
BEGIN:VEVENT
DTSTART;TZID=Europe/Rome:20161201T160000
DTEND;TZID=Europe/Rome:20161201T233000
DTSTAMP:20260421T012510
CREATED:20161116T124320Z
LAST-MODIFIED:20161116T124320Z
UID:11477-1480608000-1480635000@www.improntaetica.org
SUMMARY:The Founding B Corps Italia
DESCRIPTION:Evento di lancio del movimento B Corp in Italia.\nDurante l’evento saranno riunite tutte le Benefit Corporation italiane con l’obiettivo di lanciare il movimento delle B Corp in Italia.\nDecine di aziende condivideranno il significato\, i valori\, l’impatto di questo nuovo paradigma. Sarà un’occasione per moltiplicare il potenziale ed esplorare nuove strade ed alleanze per usare il Business come forza di rigenerazione della società.\nPer maggiori informazioni è possibile consultare il seguente link.\nL’evento\, realizzato in crowdfunding\, è aperto a tutti gli interessati.\nI posti sono limitati ed è necessario registrarsi qui.
URL:https://www.improntaetica.org/evento/the-founding-b-corps-italia/
LOCATION:Base Milano (Ex Ansaldo)\, Via Borgognone 34\, Milano
ATTACH;FMTTYPE=:
END:VEVENT
END:VCALENDAR