BEGIN:VCALENDAR
VERSION:2.0
PRODID:-//Impronta Etica - ECPv6.15.20//NONSGML v1.0//EN
CALSCALE:GREGORIAN
METHOD:PUBLISH
X-WR-CALNAME:Impronta Etica
X-ORIGINAL-URL:https://www.improntaetica.org
X-WR-CALDESC:Eventi per Impronta Etica
REFRESH-INTERVAL;VALUE=DURATION:PT1H
X-Robots-Tag:noindex
X-PUBLISHED-TTL:PT1H
BEGIN:VTIMEZONE
TZID:Europe/Rome
BEGIN:DAYLIGHT
TZOFFSETFROM:+0100
TZOFFSETTO:+0200
TZNAME:CEST
DTSTART:20210328T010000
END:DAYLIGHT
BEGIN:STANDARD
TZOFFSETFROM:+0200
TZOFFSETTO:+0100
TZNAME:CET
DTSTART:20211031T010000
END:STANDARD
BEGIN:DAYLIGHT
TZOFFSETFROM:+0100
TZOFFSETTO:+0200
TZNAME:CEST
DTSTART:20220327T010000
END:DAYLIGHT
BEGIN:STANDARD
TZOFFSETFROM:+0200
TZOFFSETTO:+0100
TZNAME:CET
DTSTART:20221030T010000
END:STANDARD
BEGIN:DAYLIGHT
TZOFFSETFROM:+0100
TZOFFSETTO:+0200
TZNAME:CEST
DTSTART:20230326T010000
END:DAYLIGHT
BEGIN:STANDARD
TZOFFSETFROM:+0200
TZOFFSETTO:+0100
TZNAME:CET
DTSTART:20231029T010000
END:STANDARD
END:VTIMEZONE
BEGIN:VEVENT
DTSTART;TZID=Europe/Rome:20220621T140000
DTEND;TZID=Europe/Rome:20220622T144000
DTSTAMP:20260421T035045
CREATED:20220524T111739Z
LAST-MODIFIED:20220524T111739Z
UID:34893-1655820000-1655908800@www.improntaetica.org
SUMMARY:21-22\06 | Sustainability for Ukraine
DESCRIPTION:Come collaboriamo con i governi e la società civile per contribuire a una forma più resiliente di sviluppo inclusivo e sostenibile?\nLa guerra in Ucraina si aggiunge a un assedio di eventi globali senza precedenti che minacciano di far arretrare i progressi sugli obiettivi di sviluppo sostenibile delle Nazioni Unite (SDG) e minare il benessere delle persone e dei paesi di tutto il mondo\, in primo luogo per le persone in Ucraina e le loro famiglie. \nLa guerra in Ucraina sta scuotendo la sicurezza globale\, l’approvvigionamento alimentare ed energetico in tutto il mondo\, colpendo i gruppi più sottorappresentati e vulnerabili che hanno avuto poca voce in capitolo nel sistema globale che ci ha portato qui. \nPer coloro che lavorano nella sostenibilità come molti altri\, lo stato allarmante degli affari globali ha portato profonda resa dei conti e riflessione. Quanto bene stiamo davvero facendo? E se tutto il nostro buon lavoro aspettasse solo di essere annullato? Come collaboriamo con i governi e la società civile per contribuire a una forma più resiliente di sviluppo inclusivo e sostenibile? \nIn questa ottica CSR Europe\, in collaborazione con GlobeScan e CSR Ucraina\, sta organizzando: \n\nWeb-a-thon di 24 ore – un dialogo globale di 24 sessioni di 1 ora che saranno organizzate congiuntamente con organizzazioni partner in tutto il mondo. Questo evento intorno al mondo esplorerà il futuro dello sviluppo sostenibile e il ruolo delle imprese\, della società civile e dei governi nella navigazione verso un futuro migliore.\nRaccolta fondi per la società civile ucraina – per aiutare a mantenere e ricostruire la società civile ucraina sostenendo direttamente le ONG locali con sede in Ucraina.\n\nMaggiori informazioni sono disponibili al seguente link.
URL:https://www.improntaetica.org/evento/21-2206-sustainability-for-ukraine/
ATTACH;FMTTYPE=image/jpeg:https://www.improntaetica.org/wp-content/uploads/2019/08/CSR-Europe-Logo_Colour_wt-background-e1586355198378.jpg
END:VEVENT
END:VCALENDAR