BEGIN:VCALENDAR
VERSION:2.0
PRODID:-//Impronta Etica - ECPv6.15.20//NONSGML v1.0//EN
CALSCALE:GREGORIAN
METHOD:PUBLISH
X-ORIGINAL-URL:https://www.improntaetica.org
X-WR-CALDESC:Eventi per Impronta Etica
REFRESH-INTERVAL;VALUE=DURATION:PT1H
X-Robots-Tag:noindex
X-PUBLISHED-TTL:PT1H
BEGIN:VTIMEZONE
TZID:Europe/Rome
BEGIN:DAYLIGHT
TZOFFSETFROM:+0100
TZOFFSETTO:+0200
TZNAME:CEST
DTSTART:20230326T010000
END:DAYLIGHT
BEGIN:STANDARD
TZOFFSETFROM:+0200
TZOFFSETTO:+0100
TZNAME:CET
DTSTART:20231029T010000
END:STANDARD
BEGIN:DAYLIGHT
TZOFFSETFROM:+0100
TZOFFSETTO:+0200
TZNAME:CEST
DTSTART:20240331T010000
END:DAYLIGHT
BEGIN:STANDARD
TZOFFSETFROM:+0200
TZOFFSETTO:+0100
TZNAME:CET
DTSTART:20241027T010000
END:STANDARD
BEGIN:DAYLIGHT
TZOFFSETFROM:+0100
TZOFFSETTO:+0200
TZNAME:CEST
DTSTART:20250330T010000
END:DAYLIGHT
BEGIN:STANDARD
TZOFFSETFROM:+0200
TZOFFSETTO:+0100
TZNAME:CET
DTSTART:20251026T010000
END:STANDARD
END:VTIMEZONE
BEGIN:VEVENT
DTSTART;VALUE=DATE:20241210
DTEND;VALUE=DATE:20241212
DTSTAMP:20260421T042254
CREATED:20241119T154707Z
LAST-MODIFIED:20241119T154707Z
UID:40433-1733788800-1733961599@www.improntaetica.org
SUMMARY:10/12 - 11/12 | Global Roundtable 2024
DESCRIPTION:Un evento internazionale dedicato a finanza e sostenibilità promosso dalle Nazione Unite.\nIl 10 e 11 dicembre 2024 si terrà a Ginevra e online la 18ª edizione della Global Roundtable dell’UNEP FI\, l’iniziativa del programma ambientale delle Nazioni Unite dedicata al settore finanziario. \nL’evento riunirà leader globali del settore finanziario per discutere strategie di decarbonizzazione\, biodiversità\, diritti umani e inclusione finanziaria\, in un’ottica di accelerazione verso l’allineamento con gli Obiettivi di Sviluppo Sostenibile dell’Agenda 2030. \nLa Global Roundtable intende rappresentare un’opportunità unica per banche\, assicuratori\, investitori\, istituzioni pubbliche e società civile per costruire nuovi canali di dialogo per iniziare a costruire il futuro della finanza sostenibile. \nMaggiori informazioni sono disponibili al seguente link.
URL:https://www.improntaetica.org/evento/10-12-11-12-global-roundtable-2024/
CATEGORIES:Eventi 2024
ATTACH;FMTTYPE=image/png:https://www.improntaetica.org/wp-content/uploads/2024/07/unepfi.png
END:VEVENT
END:VCALENDAR