BEGIN:VCALENDAR
VERSION:2.0
PRODID:-//Impronta Etica - ECPv6.15.20//NONSGML v1.0//EN
CALSCALE:GREGORIAN
METHOD:PUBLISH
X-WR-CALNAME:Impronta Etica
X-ORIGINAL-URL:https://www.improntaetica.org
X-WR-CALDESC:Eventi per Impronta Etica
REFRESH-INTERVAL;VALUE=DURATION:PT1H
X-Robots-Tag:noindex
X-PUBLISHED-TTL:PT1H
BEGIN:VTIMEZONE
TZID:Europe/Rome
BEGIN:DAYLIGHT
TZOFFSETFROM:+0100
TZOFFSETTO:+0200
TZNAME:CEST
DTSTART:20160327T010000
END:DAYLIGHT
BEGIN:STANDARD
TZOFFSETFROM:+0200
TZOFFSETTO:+0100
TZNAME:CET
DTSTART:20161030T010000
END:STANDARD
BEGIN:DAYLIGHT
TZOFFSETFROM:+0100
TZOFFSETTO:+0200
TZNAME:CEST
DTSTART:20170326T010000
END:DAYLIGHT
BEGIN:STANDARD
TZOFFSETFROM:+0200
TZOFFSETTO:+0100
TZNAME:CET
DTSTART:20171029T010000
END:STANDARD
BEGIN:DAYLIGHT
TZOFFSETFROM:+0100
TZOFFSETTO:+0200
TZNAME:CEST
DTSTART:20180325T010000
END:DAYLIGHT
BEGIN:STANDARD
TZOFFSETFROM:+0200
TZOFFSETTO:+0100
TZNAME:CET
DTSTART:20181028T010000
END:STANDARD
BEGIN:DAYLIGHT
TZOFFSETFROM:+0100
TZOFFSETTO:+0200
TZNAME:CEST
DTSTART:20190331T010000
END:DAYLIGHT
BEGIN:STANDARD
TZOFFSETFROM:+0200
TZOFFSETTO:+0100
TZNAME:CET
DTSTART:20191027T010000
END:STANDARD
BEGIN:DAYLIGHT
TZOFFSETFROM:+0100
TZOFFSETTO:+0200
TZNAME:CEST
DTSTART:20200329T010000
END:DAYLIGHT
BEGIN:STANDARD
TZOFFSETFROM:+0200
TZOFFSETTO:+0100
TZNAME:CET
DTSTART:20201025T010000
END:STANDARD
BEGIN:DAYLIGHT
TZOFFSETFROM:+0100
TZOFFSETTO:+0200
TZNAME:CEST
DTSTART:20210328T010000
END:DAYLIGHT
BEGIN:STANDARD
TZOFFSETFROM:+0200
TZOFFSETTO:+0100
TZNAME:CET
DTSTART:20211031T010000
END:STANDARD
BEGIN:DAYLIGHT
TZOFFSETFROM:+0100
TZOFFSETTO:+0200
TZNAME:CEST
DTSTART:20220327T010000
END:DAYLIGHT
BEGIN:STANDARD
TZOFFSETFROM:+0200
TZOFFSETTO:+0100
TZNAME:CET
DTSTART:20221030T010000
END:STANDARD
BEGIN:DAYLIGHT
TZOFFSETFROM:+0100
TZOFFSETTO:+0200
TZNAME:CEST
DTSTART:20230326T010000
END:DAYLIGHT
BEGIN:STANDARD
TZOFFSETFROM:+0200
TZOFFSETTO:+0100
TZNAME:CET
DTSTART:20231029T010000
END:STANDARD
BEGIN:DAYLIGHT
TZOFFSETFROM:+0100
TZOFFSETTO:+0200
TZNAME:CEST
DTSTART:20240331T010000
END:DAYLIGHT
BEGIN:STANDARD
TZOFFSETFROM:+0200
TZOFFSETTO:+0100
TZNAME:CET
DTSTART:20241027T010000
END:STANDARD
BEGIN:DAYLIGHT
TZOFFSETFROM:+0100
TZOFFSETTO:+0200
TZNAME:CEST
DTSTART:20250330T010000
END:DAYLIGHT
BEGIN:STANDARD
TZOFFSETFROM:+0200
TZOFFSETTO:+0100
TZNAME:CET
DTSTART:20251026T010000
END:STANDARD
END:VTIMEZONE
BEGIN:VEVENT
DTSTART;TZID=Europe/Rome:20240412T110000
DTEND;TZID=Europe/Rome:20240412T130000
DTSTAMP:20260421T072257
CREATED:20240410T105833Z
LAST-MODIFIED:20240410T105856Z
UID:38827-1712919600-1712926800@www.improntaetica.org
SUMMARY:12/04 | I precetti della sostenibilità
DESCRIPTION:Presentazione della pubblicazione sullo stato dell’arte del fenomeno.\nSi terrà il 12 aprile dalle ore 11.00 presso CUBO in Porta Europa – Spazio Live\, la presentazione del documento “I precetti della sostenibilità“\, elaborato da esperti in materia e pubblicato da Fondazione Unipolis\, sarà l’occasione per attraversare l’evoluzione del fenomeno\, dalle origini ad oggi\, riscoprire il suo senso più profondo\, dargli rigore e nuovo slancio\, anche alla luce delle ultime crisi globali segnate da pandemia e guerra. \nFondazione Unipolis ha ritenuto utile mettere a disposizione i contenuti\, elaborati da esperti in materia\, con l’obiettivo di contribuire alla formulazione di concetti e proposte che possano arricchire il processo sul versante culturale\, oltre che favorire uno sviluppo efficace del sistema normativo e un miglioramento delle pratiche di sostenibilità delle imprese e organizzazioni. \nE’ possibile ottenere maggiori informazioni e iscriversi al seguente link.
URL:https://www.improntaetica.org/evento/i-precetti-della-sostenibilita/
ATTACH;FMTTYPE=image/jpeg:https://www.improntaetica.org/wp-content/uploads/2020/04/unipolis-e1587126214638.jpg
END:VEVENT
BEGIN:VEVENT
DTSTART;TZID=Europe/Rome:20231206T110000
DTEND;TZID=Europe/Rome:20231206T130000
DTSTAMP:20260421T072257
CREATED:20231120T104650Z
LAST-MODIFIED:20231120T104650Z
UID:38040-1701860400-1701867600@www.improntaetica.org
SUMMARY:06/12 | Presentazione XV Rapporto Osservatorio Europeo sulla Sicurezza
DESCRIPTION:L’evento di Fondazione Unipolis.\nSi terrà il 6 dicembre dalle ore 11.00 alle 13.00 la presentazione del XV Rapporto Osservatorio Europeo sulla Sicurezza di Fondazione Unipolis. \nGli indicatori tradizionalmente proposti da questo progetto\, attivo dal 2007\, permetteranno un’analisi nel tempo delle fonti di insicurezza dei cittadini\, a partire dal quadro europeo per poi andare in profondità sull’Italia. La seconda parte del Rapporto indagherà inoltre le insicurezze legate all’adolescenza tratteggiate a partire dalla prospettiva degli adulti e analizzate su cinque diverse dimensioni: la sfera individuale\, la sfera relazionale\, la​ sfera scolastica e lavorativa\, la sfera sociopolitica e la sfera mediale. \nGli e le adolescenti filtrati dalle paure\, ma anche dai ​pregiudizi degli adulti\, che si intrecciano agli stereotipi veicolati dai mezzi di informazione sugli adolescenti\, aiuteranno a comprendere qual è la rappresentazione sociale di questa componente della società. \nMaggiori informazioni sono disponibili al seguente link. \nE’ possibile iscriversi al seguente link. \nSCARICA IL SAVE THE DATE
URL:https://www.improntaetica.org/evento/06-12-presentazione-xv-rapporto-osservatorio-europeo-sulla-sicurezza/
ATTACH;FMTTYPE=image/jpeg:https://www.improntaetica.org/wp-content/uploads/2020/04/unipolis-e1587126214638.jpg
END:VEVENT
BEGIN:VEVENT
DTSTART;TZID=Europe/Rome:20220126T093000
DTEND;TZID=Europe/Rome:20220126T113000
DTSTAMP:20260421T072257
CREATED:20220110T085918Z
LAST-MODIFIED:20220110T085918Z
UID:34240-1643189400-1643196600@www.improntaetica.org
SUMMARY:26/01 | Le vie della digitalizzazione
DESCRIPTION:Le strategie delle imprese attraverso e oltre la crisi Covid-19.\nLe tecnologie digitali non sono neutrali. Portano con sé un potenziale di disruption e sconvolgimento che agisce in direzioni contrastanti. La crisi della pandemia ha costituito un generale fattore di accelerazione\, spingendo le aziende a sperimentare e a impostare strategie di digitalizzazione organiche. La trasformazione digitale è\, dunque\, una sfida che spinge le organizzazioni a ripensare i propri valori\, le proprie visioni\, nonché l’organizzazione del lavoro al proprio interno. \nLe vie della digitalizzazione è un progetto di ricerca promosso da Fondazione Unipolis e condotto da un team di ricercatori di Pandora Rivista\, con l’intento di indagare l’impatto innescato dallo shock pandemico sui processi di digitalizzazione delle imprese\, in una prospettiva che parte dal periodo pre-Covid-19 per arrivare agli scenari futuri\, fino ad approfondire le strategie messe in campo dalle aziende per rispondere alle sfide e criticità sollevate da un nuovo approccio al digitale. L’indagine\, di tipo qualitativo\, è stata svolta attraverso un’analisi di contesto e un confronto tra teorie e prassi rilevate attraverso interviste a sei grandi imprese del territorio emiliano-romagnolo. Le imprese partecipanti sono Soci di Impronta Etica.  \nIl 26 gennaio presso la Sala Conferenze del MAMbo – Museo d’Arte Moderna di Bologna (via Don Minzoni 14 | 9.30-11.30) si terrà un confronto sul tema a partire dai risultati emersi\, con il contributo di esperti e dei rappresentanti delle imprese coinvolte. \nPrenotazione obbligatoria. Ingresso con Super Green Pass. \nMaggiori informazioni sono disponibili al seguente link.
URL:https://www.improntaetica.org/evento/26-01-le-vie-della-digitalizzazione/
ATTACH;FMTTYPE=image/jpeg:https://www.improntaetica.org/wp-content/uploads/2022/01/pandora-e1641806800865.jpg
END:VEVENT
BEGIN:VEVENT
DTSTART;TZID=Europe/Rome:20211209T110000
DTEND;TZID=Europe/Rome:20211209T130000
DTSTAMP:20260421T072257
CREATED:20211112T084426Z
LAST-MODIFIED:20211130T151951Z
UID:34093-1639047600-1639054800@www.improntaetica.org
SUMMARY:9/12 | I giovani tra mercato e non mercato
DESCRIPTION:Presentazione dell’indagine biennale promossa da Unipolis e curata da Fondazione ADAPT.\nLa condizione giovanile all’interno del mondo del lavoro è sempre più caratterizzata da dinamiche di transizione continua tra mercato e non mercato. Una condizione più complessa rispetto alle tradizionali transizioni dalla occupazione alla disoccupazione perché si tratta di riconnettere ai percorsi di carriera dei tratti dei percorsi biografici che sono caratterizzati dallo svolgimento di attività che – pur avendo un valore spesso anche economico (lavoro senza mercato) – si svolgono in “aree grigie”\, in assenza di tutele e adeguati strumenti di valorizzazione delle competenze agite (esperienze di alternanza scuola-lavoro\, tirocinio curriculare e non curriculare\, volontariato\, etc.). \nI giovani tra mercato e non mercato​ è un progetto di ricerca biennale promosso da Fondazione Unipolis e condotto da Fondazione Adapt\, con​ l’intento di individuare le condizioni\, gli strumenti e le politiche in grado di concretizzare la prospettiva dello sviluppo della professionalità dei giovani nel lavoro fuori mercato\, a partire da un’indagine empirica sviluppata in Emilia-Romagna\, Lombardia e Sicilia. \nIl 9 dicembre si terrà un confronto sul tema a partire dai risultati della ricerca\, con il contributo di policy makers\, rappresentanti del mondo imprese\, sindacati\, formazione e network giovanili. L’evento si svolgerà in streaming sulla pagina Facebook e sul canale Youtube di Fondazione Unipolis.​ \nClicca il seguente link per registrarsi\, seguire la diretta e ricevere in anteprima la ricerca.
URL:https://www.improntaetica.org/evento/9-12-i-giovani-tra-mercato-e-non-mercato/
ATTACH;FMTTYPE=image/png:https://www.improntaetica.org/wp-content/uploads/2021/11/unipolis-e1636706660560.png
END:VEVENT
BEGIN:VEVENT
DTSTART;TZID=Europe/Rome:20210916T103000
DTEND;TZID=Europe/Rome:20210916T130000
DTSTAMP:20260421T072257
CREATED:20210816T154655Z
LAST-MODIFIED:20210910T081548Z
UID:33482-1631788200-1631797200@www.improntaetica.org
SUMMARY:16/09 | Fondazione Unipolis: Ora tocca a noi
DESCRIPTION:Il primo Manifesto della mobilità sostenibile della scuola italiana.\nIl 16 settembre\, in streaming dalle 10.30 alle 13\, sarà presentato il primo Manifesto della mobilità sostenibile della scuola italiana. Il Manifesto raccoglie le istanze\, le proposte\, le richieste e i desideri di cambiamento di circa 2.000 giovani studenti provenienti dalle 14 più grandi aree metropolitane del nostro Paese\, da Torino fino a Catania. \nIn ognuno di questi territori le studentesse e gli studenti partecipanti al Progetto O.R.A. di Fondazione Unipolis e Cittadinanzattiva hanno affrontato un percorso laboratoriale che ha abbracciato tutte le dimensioni della mobilità\, guidati da 240 docenti. Hanno potuto analizzare le insicurezze e i disagi che ogni giorno sperimentano sulla strada e le grandi potenzialità delle diverse forme di mobilità sostenibile. \nIl Manifesto sarà presentato a Roma dalle delegazioni studentesche al Ministro delle infrastrutture e della mobilità sostenibili Enrico Giovannini. \nMaggiori informazioni sono disponibili al seguente link.
URL:https://www.improntaetica.org/evento/16-09-fondazione-unipolis-ora-tocca-a-noi/
ATTACH;FMTTYPE=image/jpeg:https://www.improntaetica.org/wp-content/uploads/2021/08/unipolis-e1629128806802.jpg
END:VEVENT
BEGIN:VEVENT
DTSTART;TZID=Europe/Rome:20210623T150000
DTEND;TZID=Europe/Rome:20210623T170000
DTSTAMP:20260421T072257
CREATED:20210526T160052Z
LAST-MODIFIED:20210615T144905Z
UID:32961-1624460400-1624467600@www.improntaetica.org
SUMMARY:23/06 | Presentazione XIII Rapporto sulla Sicurezza
DESCRIPTION:Osservatorio europeo sulla sicurezza.\nIl 23 giugno appuntamento con la presentazione della XIII edizione del Rapporto dell’Osservatorio Europeo sulla Sicurezza​\, l’iniziativa nata con l’i​ntento di rendere permanenti le indagini e le riflessioni sulla percezione sociale della sicurezza. \nL’Osservatorio Europeo sulla Sicurezza è un’iniziativa di Fondazione Unipolis e Demos & Pi che ha reso permanenti le indagini e le riflessioni sulla percezione sociale della sicurezza in Italia e in Europa. \nLa tredicesima edizione del Rapporto fotografa l’andamento degli indici di insicurezza sociale ed economica durante l’attuale fase di ripartenza nel nostro Paese. L’analisi inoltre indaga la fiducia degli europei nei confronti della scienza e della tecnologia. \nMaggiori informazioni sono disponibili al seguente link. \nScarica il programma
URL:https://www.improntaetica.org/evento/23-06-presentazione-xiii-rapporto-sulla-sicurezza/
ATTACH;FMTTYPE=image/jpeg:https://www.improntaetica.org/wp-content/uploads/2020/04/unipolis-e1587126214638.jpg
END:VEVENT
BEGIN:VEVENT
DTSTART;TZID=Europe/Rome:20210614T153000
DTEND;TZID=Europe/Rome:20210614T163000
DTSTAMP:20260421T072257
CREATED:20210601T140403Z
LAST-MODIFIED:20210601T140525Z
UID:32974-1623684600-1623688200@www.improntaetica.org
SUMMARY:14/06 | Fondazione Unipolis: Quale Mobilità? Quale Città?
DESCRIPTION:Mobilità e città sostenibili.\nLa pubblicazione “Cambiamo strade\, cambiamo futuro” di Fondazione Unipolis delinea uno scenario allarmante: giovani e anziani sempre più ins​icuri nel 2060 se non si interverrà subito per mobilità e città sostenibili\, a misura di tutti.​ \nE’ possibile seguire l’evento in streaming sulla pagina Facebook e sul canale YouTube di Fondazione Unipolis. Per partecipare all’evento e ricevere la ricerca in anteprima è richiesta la registrazione a questo link.  \nMaggiori informazioni sono disponibili al seguente link. \nScarica il programma \n  \n 
URL:https://www.improntaetica.org/evento/14-06-fondazione-unipolis-quale-mobilita-quale-citta/
ATTACH;FMTTYPE=image/jpeg:https://www.improntaetica.org/wp-content/uploads/2020/04/unipolis-e1587126214638.jpg
END:VEVENT
BEGIN:VEVENT
DTSTART;TZID=Europe/Rome:20210427T103000
DTEND;TZID=Europe/Rome:20210427T120000
DTSTAMP:20260421T072257
CREATED:20210405T075323Z
LAST-MODIFIED:20210416T064941Z
UID:32720-1619519400-1619524800@www.improntaetica.org
SUMMARY:27/4 | Fondazione Unipolis: Il dilemma dell'impatto
DESCRIPTION:Evento in streaming per parlare di impatto.\nIl 27 aprile si terrà l’incontro “il dilemma dell’impatto”\, un confronto multistakeholder su misurazione trasparente e partecipata.  L’evento\, organizzato da Fondazione Unipolis in collaborazione Refe​\, si svolgerà in streaming sulla pagina Facebook e sul canale Youtube di Fondazione Unipolis. \nMaggiori informazioni sono disponibili al seguente link. \nScarica il programma
URL:https://www.improntaetica.org/evento/27-4-fondazione-unipolis-il-dilemma-dellimpatto/
ATTACH;FMTTYPE=image/png:https://www.improntaetica.org/wp-content/uploads/2021/04/Il-dilemma-dellimpatto_cover-e1618396553710.png
END:VEVENT
BEGIN:VEVENT
DTSTART;TZID=Europe/Rome:20200709T153000
DTEND;TZID=Europe/Rome:20200709T163000
DTSTAMP:20260421T072257
CREATED:20200625T074916Z
LAST-MODIFIED:20200625T074916Z
UID:31732-1594308600-1594312200@www.improntaetica.org
SUMMARY:9/07 | Presentazione del libro “Un futuro più giusto”
DESCRIPTION:Un libro che riprende la necessità di un’agenda radicale perché nessuno resti indietro.\nDurante l’evento online\, promosso da Fondazione Unipolis\, si presenterà il libro di Fabrizio Barca e Patrizia Luongo “Un futuro più giusto. Rabbia\, conflitto e giustizia sociale”. \nAl centro del volume “Un futuro più giusto. Rabbia\, conflitto e giustizia sociale”\, edito da Il Mulino e curato da Fabrizio Barca e Patrizia Luongo\, c’è la necessità di un’agenda radicale perché nessuno resti indietro a causa della crisi Covid-19. Utilizzando il lavoro\, teorico e di campo\, e le proposte che segnano tre anni di vita del Forum Disuguaglianze Diversità\, il libro racconta la diagnosi della realtà\, aggiornata fino a oggi\, respinge la tesi dell’inevitabilità delle ingiustizie e ne ricerca le cause\, e su queste basi costruisce una strategia alternativa. \nL’evento si svolgerà in diretta sulla pagina Facebook di Librerie.coop Ambasciatori. \nMaggiori informazioni sono disponibili al seguente link.
URL:https://www.improntaetica.org/evento/9-07-presentazione-del-libro-un-futuro-piu-giusto/
ATTACH;FMTTYPE=image/jpeg:https://www.improntaetica.org/wp-content/uploads/2020/04/unipolis-e1587126214638.jpg
END:VEVENT
BEGIN:VEVENT
DTSTART;TZID=Europe/Rome:20190919T093000
DTEND;TZID=Europe/Rome:20190919T130000
DTSTAMP:20260421T072257
CREATED:20190806T130753Z
LAST-MODIFIED:20190806T130753Z
UID:16944-1568885400-1568898000@www.improntaetica.org
SUMMARY:Il futuro della mobilità è O.R.A.
DESCRIPTION:L’evento di lancio del progetto per promuovere la cultura della mobilità sostenibile.\nDurante l’evento – che si terrà nell’ambito della Settimana Europea della Mobilità 2019 – sarà presentato “O.R.A.“\, il progetto triennale ideato su iniziativa di Fondazione Unipolis e Cittadinanzattiva.\nUn percorso formativo e un contest di idee per giovani pronti a costruire l’Open Road Alliance – l’alleanza dei ragazzi delle città metropolitane italiane\, uniti per progettare le comunità del futuro e realizzare il nuovo Manifesto della Mobilità Sostenibile – La Mobilità del Futuro.\nL’intento di O.R.A. è promuovere una nuova cultura della mobilità attraverso l’educazione ad un nuovo modello di mobilità più sostenibile in senso ampio.\nIl progetto O.R.A. ha già ottenuto il patrocinio del Ministero dell’Ambiente e della Tutela del territorio e del Mare e di ANCI – Associazione Nazionale Comuni Italiani.\nPer partecipare è obbligatorio iscriversi su eventbrite a questo link.\nMaggiori informazioni sono disponibili al seguente link.\nSTD_O.R.A.
URL:https://www.improntaetica.org/evento/futuro-della-mobilita-r/
LOCATION:Sala Capitolare presso il Chiostro del Convento di Santa Maria sopra Minerva\, Piazza della Minerva\, 38\, Roma
ATTACH;FMTTYPE=:
END:VEVENT
BEGIN:VEVENT
DTSTART;TZID=Europe/Rome:20190514T170000
DTEND;TZID=Europe/Rome:20190514T190000
DTSTAMP:20260421T072257
CREATED:20190424T150741Z
LAST-MODIFIED:20190424T150741Z
UID:16471-1557853200-1557860400@www.improntaetica.org
SUMMARY:Cultura\, Luoghi\, Comunità
DESCRIPTION:Culturability a Milano.\nSpazi fuori dal comune come nodi da cui partire per sperimentare nuove forme di fare cultura\, riattivare territori\, rigenerare luoghi abbandonati\, costruire comunità flessibili\, aperte\, inclusive.\nA chiusura del percorso della quinta edizione del bando culturability\, Fondazione Unipolis promuove un incontro pubblico per confrontarsi su questi temi con visionari\, practitioner e studiosi. Nel corso del pomeriggio verranno presentati anche i progetti selezionati nella quinta edizione del bando.\nIngresso libero con iscrizione obbligatoria a questo link.\nIl programma e maggiori informazioni sono disponibili sul sito di Culturability.\nIl Bando Culturability è promosso da Fondazione Unipolis per sostenere progetti culturali innovativi ad alto impatto sociale che rigenerano spazi abbandonati o sottoutilizzati.
URL:https://www.improntaetica.org/evento/cultura-luoghi-comunita/
ATTACH;FMTTYPE=:
END:VEVENT
BEGIN:VEVENT
DTSTART;TZID=Europe/Rome:20190225T103000
DTEND;TZID=Europe/Rome:20190225T170000
DTSTAMP:20260421T072257
CREATED:20190213T131433Z
LAST-MODIFIED:20190213T131433Z
UID:16060-1551090600-1551114000@www.improntaetica.org
SUMMARY:Presentazione XI Rapporto Sicurezza
DESCRIPTION:Il Rapporto sulla sicurezza e insicurezza sociale in Italia e in Europa è un progetto realizzato da Fondazione Unipolis e Demos&Pi con la direzione scientifica del professor Ilvo Diamanti.\nL’incontro sarà l’occasione per confrontarsi sul rapporto tra realtà e percezione della sicurezza\, con un’attenzione specifica quest’anno ai mutamenti in corso nel mondo del lavoro.\nMaggiori informazioni per iscriversi all’evento sono disponibili a questo link.\nProgramma
URL:https://www.improntaetica.org/evento/presentazione-xi-rapporto-sicurezza/
ATTACH;FMTTYPE=:
END:VEVENT
BEGIN:VEVENT
DTSTART;TZID=Europe/Rome:20180205T150000
DTEND;TZID=Europe/Rome:20180205T173000
DTSTAMP:20260421T072257
CREATED:20180115T112212Z
LAST-MODIFIED:20180115T112212Z
UID:14180-1517842800-1517851800@www.improntaetica.org
SUMMARY:La partecipazione dei lavoratori nelle imprese
DESCRIPTION:A che punto siamo? Idee\, esperienze\, prospettive e nuove sperimentazioni.\nIntorno al tema della partecipazione dei lavoratori nelle imprese nel corso degli ultimi decenni in Italia si sono sviluppate molte discussioni ed iniziative; numerose e diversificate esperienze si sono realizzate all’interno di aziende.\nFondazione Unipolis negli ultimi due anni ha sviluppato un’attività di ricerca\, analisi e confronto\, che è ora approdata alla pubblicazione di un volume “La partecipazione dei lavoratori nelle imprese. Realtà e prospettive\, verso nuove sperimentazioni” edito da Il Mulino.\nPartendo da questo libro – aperto da una introduzione di Francesco Vella\, che contiene la ricerca “sul campo” di Nadia Girelli\, gli interventi svolti nell’ambito di un seminario dedicato e una postfazione di Fabrizio Barca – Unipolis ha organizzato un incontro pubblico\, al quale interverranno personalità delle parti sociali\, delle imprese e delle istituzioni.\nMaggiori informazioni sono disponibili al seguente link.\nProgramma Partecipazione dei lavoratori nelle imprese
URL:https://www.improntaetica.org/evento/la-partecipazione-dei-lavoratori-nelle-imprese/
ATTACH;FMTTYPE=:
END:VEVENT
BEGIN:VEVENT
DTSTART;TZID=Europe/Rome:20171128T110000
DTEND;TZID=Europe/Rome:20171128T130000
DTSTAMP:20260421T072257
CREATED:20171116T151431Z
LAST-MODIFIED:20171116T151431Z
UID:13977-1511866800-1511874000@www.improntaetica.org
SUMMARY:Il 28 novembre culturability al MiBACT
DESCRIPTION:Unipolis promuove un’iniziativa pubblica a chiusura del percorso del bando culturability 2017.\nDurante l’incontro\, dal titolo “La cultura che crea sviluppo. I progetti rigenerativi di culturability“\, si confronteranno practitioner\, studiosi ed esperti  sul valore della cultura per favorire processi di nuovo sviluppo e di coesione sociale dei territori\, con particolare riferimento a pratiche legate alla riattivazione e al riuso di spazi.\nIn particolare interverrà Pierluigi Stefanini – presidente Gruppo Unipol e Fondazione Unipolis.\nMaggiori informazioni sono disponibili al seguente link.\nProgramma
URL:https://www.improntaetica.org/evento/28-novembre-culturability-al-mibact/
LOCATION:Ministro dei Beni e delle Attività Culturali e del Turismo\, via del Collegio Romano\, 27\, Roma\, 00100\, Italia
ATTACH;FMTTYPE=:
END:VEVENT
BEGIN:VEVENT
DTSTART;TZID=Europe/Rome:20170216T103000
DTEND;TZID=Europe/Rome:20170216T130000
DTSTAMP:20260421T072257
CREATED:20170131T090709Z
LAST-MODIFIED:20170131T090709Z
UID:11888-1487241000-1487250000@www.improntaetica.org
SUMMARY:Cultura e inclusione sociale | La sfida della rigenerazione urbana
DESCRIPTION:Fondazione Unipolis promuove l’edizione 2017 del bando Culturability.\nDurante l’incontro “Cultura e inclusione sociale. La sfida della rigenerazione urbana”\, verrà presentata la nuova edizione di Culturability\, il bando promosso dalla Fondazione Unipolis per sostenere progetti culturali ad alto impatto sociale di rigenerazione e riattivazione di spazi. \nNel corso della mattinata verranno presentati anche i progetti selezionati con il bando Culturability 2016 – rigenerare spazi da condividere.\nLa partecipazione è libera\, ma occorre registrarsi alla mail info@fondazioneunipolis.org.\nMaggiori informazioni sono disponibili al seguente link.\nProgramma
URL:https://www.improntaetica.org/evento/cultura-inclusione-sociale-la-sfida-della-rigenerazione-urbana/
LOCATION:Fondazione Giangiacomo Feltrinelli\, Viale Pasubio 5 (Fondazione Feltrinelli)\, Milano\, Italia
END:VEVENT
END:VCALENDAR