BEGIN:VCALENDAR
VERSION:2.0
PRODID:-//Impronta Etica - ECPv6.15.20//NONSGML v1.0//EN
CALSCALE:GREGORIAN
METHOD:PUBLISH
X-ORIGINAL-URL:https://www.improntaetica.org
X-WR-CALDESC:Eventi per Impronta Etica
REFRESH-INTERVAL;VALUE=DURATION:PT1H
X-Robots-Tag:noindex
X-PUBLISHED-TTL:PT1H
BEGIN:VTIMEZONE
TZID:Europe/Rome
BEGIN:DAYLIGHT
TZOFFSETFROM:+0100
TZOFFSETTO:+0200
TZNAME:CEST
DTSTART:20210328T010000
END:DAYLIGHT
BEGIN:STANDARD
TZOFFSETFROM:+0200
TZOFFSETTO:+0100
TZNAME:CET
DTSTART:20211031T010000
END:STANDARD
BEGIN:DAYLIGHT
TZOFFSETFROM:+0100
TZOFFSETTO:+0200
TZNAME:CEST
DTSTART:20220327T010000
END:DAYLIGHT
BEGIN:STANDARD
TZOFFSETFROM:+0200
TZOFFSETTO:+0100
TZNAME:CET
DTSTART:20221030T010000
END:STANDARD
BEGIN:DAYLIGHT
TZOFFSETFROM:+0100
TZOFFSETTO:+0200
TZNAME:CEST
DTSTART:20230326T010000
END:DAYLIGHT
BEGIN:STANDARD
TZOFFSETFROM:+0200
TZOFFSETTO:+0100
TZNAME:CET
DTSTART:20231029T010000
END:STANDARD
END:VTIMEZONE
BEGIN:VEVENT
DTSTART;TZID=Europe/Rome:20221108T100000
DTEND;TZID=Europe/Rome:20221108T113000
DTSTAMP:20260423T152716
CREATED:20221014T081443Z
LAST-MODIFIED:20221103T133225Z
UID:35676-1667901600-1667907000@www.improntaetica.org
SUMMARY:08/11 | Evento finale italiano Upskill 4 Future
DESCRIPTION:Upskilling e reskilling per preparare le persone al lavoro che cambia.\nLa doppia transizione\, ecologica e digitale\, ha un grande impatto sul mondo del lavoro\, portando alla nascita di nuove professioni\, al declino di altre e alla necessità per le imprese di dotarsi delle competenze necessarie per affrontare le sfide poste dai nuovi modelli produttivi. \nPer evitare il rischio di fuoriuscita dal mercato del lavoro di molte persone con competenze obsolete\, o che diventeranno tali nel giro di poco tempo\, con il conseguente aumento delle disuguaglianze\, diventa strategico per le imprese investire nei processi di upskilling e reskilling\, per preparare le persone al lavoro che cambia. \nFondazione Sodalitas e Impronta Etica hanno sviluppato questi temi attraverso il progetto Upskill 4 Future e organizzano l’8 novembre l’evento conclusivo di progetto con l’obiettivo di attivare un dialogo costruttivo tra gli stakeholder impegnati a gestire le trasformazioni del mercato del lavoro\, affinchè le sfide possano diventare opportunità. \nPer registrarsi all’evento clicca il seguente link. \nSCARICA IL PROGRAMMA
URL:https://www.improntaetica.org/evento/08-11-evento-finale-italiano-upskill-4-future/
ATTACH;FMTTYPE=image/png:https://www.improntaetica.org/wp-content/uploads/2022/10/Upskill_Header-per-direct-mailing-evento.png
END:VEVENT
END:VCALENDAR